Workbook
Name \a: #REF!
Name \b: #REF!
Name \c: #REF!
Name \d: #REF!
Name __a1000000: #REF!
Name _1_a_1: #REF!
Name _1_a_1_10: #REF!
Name _1_a_1_3: #REF!
Name _1_a_1_4: #REF!
Name _1_a_1_6: #REF!
Name _1_a_1_7: #REF!
Name _10Excel_BuiltIn_Print_Area_6_1_1: "$#REF!.$A$1:$P$67"
Name _11Excel_BuiltIn_Print_Titles_1_1: "$#REF!.$A$1:$IV$3"
Name _1Excel_BuiltIn_Print_Area_1: #REF!
Name _1Excel_BuiltIn_Print_Area_1_1: #REF!
Name _1Excel_BuiltIn_Print_Area_1_10: #REF!
Name _1Excel_BuiltIn_Print_Area_1_3: #REF!
Name _1Excel_BuiltIn_Print_Area_1_4: #REF!
Name _1Excel_BuiltIn_Print_Area_1_6: #REF!
Name _1Excel_BuiltIn_Print_Area_1_7: #REF!
Name _2_b_1: #REF!
Name _2_b_1_10: #REF!
Name _2_b_1_3: #REF!
Name _2_b_1_4: #REF!
Name _2_b_1_6: #REF!
Name _2_b_1_7: #REF!
Name _2Excel_BuiltIn_Print_Area_1_1_1: #REF!
Name _2Excel_BuiltIn_Print_Area_1_1_1_10: #REF!
Name _2Excel_BuiltIn_Print_Area_1_1_1_3: #REF!
Name _2Excel_BuiltIn_Print_Area_1_1_1_4: #REF!
Name _2Excel_BuiltIn_Print_Area_1_1_1_6: #REF!
Name _2Excel_BuiltIn_Print_Area_1_1_1_7: #REF!
Name _2Excel_BuiltIn_Print_Area_11_1: "$#REF!.$A$1:$T$66"
Name _3_c_1: #REF!
Name _3_c_1_10: #REF!
Name _3_c_1_3: #REF!
Name _3_c_1_4: #REF!
Name _3_c_1_6: #REF!
Name _3_c_1_7: #REF!
Name _3Excel_BuiltIn_Print_Area_1_1: #REF!
Name _3Excel_BuiltIn_Print_Area_12_1: "$#REF!.$A$1:$S$66"
Name _3Excel_BuiltIn_Print_Titles_1: #REF!
Name _3Excel_BuiltIn_Print_Titles_1_10: #REF!
Name _3Excel_BuiltIn_Print_Titles_1_3: #REF!
Name _3Excel_BuiltIn_Print_Titles_1_4: #REF!
Name _3Excel_BuiltIn_Print_Titles_1_6: #REF!
Name _3Excel_BuiltIn_Print_Titles_1_7: #REF!
Name _4_d_1: #REF!
Name _4_d_1_10: #REF!
Name _4_d_1_3: #REF!
Name _4_d_1_4: #REF!
Name _4_d_1_6: #REF!
Name _4_d_1_7: #REF!
Name _4Excel_BuiltIn_Print_Area_11_1: "$#REF!.$A$1:$T$66"
Name _4Excel_BuiltIn_Print_Area_13_1: "$#REF!.$A$1:$P$67"
Name _4Excel_BuiltIn_Print_Titles_1_1_1: #REF!
Name _4Excel_BuiltIn_Print_Titles_1_1_1_10: #REF!
Name _4Excel_BuiltIn_Print_Titles_1_1_1_3: #REF!
Name _4Excel_BuiltIn_Print_Titles_1_1_1_4: #REF!
Name _4Excel_BuiltIn_Print_Titles_1_1_1_6: #REF!

Sheet Rekap Kenaikan Harga
A1: Tipe | B1: Kode Tipe | C1: AVG OTR INCREASE PER JULY 2025 (FREE 1Y INSURANCE)
C2: Jakarta | D2: Banten | E2: Jabar | F2: Jatim | G2: Denpasar | H2: Medan | I2: Palembang | J2: Padang | K2: Lampung | L2: Aceh | M2: Balikpapan | N2: Pontianak | O2: Palangkaraya | P2: Banjarmasin | Q2: Tarakan
A3: Vios | B3: NGC102GA/T00 | C3: 0 | D3: =ROUND(AVERAGE($B3,'OTR srg'!$G12:$G15),-5) -> 0 | E3: =ROUND(AVERAGE($B3,'OTR bdg'!$G12:$G15),-5) -> 0 | F3: =ROUND(AVERAGE($B3,'OTR sby'!$G12:$G15),-5) -> 0 | G3: =ROUND(AVERAGE($B3,'OTR dps'!$G12:$G15),-5) -> 0 | H3: =ROUND(AVERAGE($B3,'OTR mdn'!$G12:$G15),-5) -> 100000 | I3: =ROUND(AVERAGE($B3,'OTR plb'!$G12:$G15),-5) -> 100000 | J3: =ROUND(AVERAGE($B3,'OTR pdg'!$G12:$G15),-5) -> 800000 | K3: =ROUND(AVERAGE($B3,'OTR tjk'!$G12:$G15),-5) -> 100000 | L3: =ROUND(AVERAGE($B3,'OTR aceh'!$G12:$G15),-5) -> 0 | M3: =ROUND(AVERAGE($B3,'OTR blp'!$G12:$G15),-5) -> 0 | N3: =ROUND(AVERAGE($B3,'OTR ptk'!$G12:$G15),-5) -> 200000 | O3: =ROUND(AVERAGE($B3,'OTR plk'!$G12:$G15),-5) -> 200000 | P3: =ROUND(AVERAGE($B3,'OTR bjm'!$G12:$G15),-5) -> 0 | Q3: =ROUND(AVERAGE($B3,'OTR trk'!$G12:$G15),-5) -> 0
A4: Corolla Altis | B4: ZE211VA/T24 | C4: 0 | D4: =ROUND(AVERAGE($B4,'OTR srg'!$G16:$G20),-5) -> 0 | E4: =ROUND(AVERAGE($B4,'OTR bdg'!$G16:$G20),-5) -> 0 | F4: =ROUND(AVERAGE($B4,'OTR sby'!$G16:$G20),-5) -> 0 | G4: =ROUND(AVERAGE($B4,'OTR dps'!$G16:$G20),-5) -> 0 | H4: =ROUND(AVERAGE($B4,'OTR mdn'!$G16:$G20),-5) -> 0 | I4: =ROUND(AVERAGE($B4,'OTR plb'!$G16:$G20),-5) -> 0 | J4: =ROUND(AVERAGE($B4,'OTR pdg'!$G16:$G20),-5) -> 1000000 | K4: =ROUND(AVERAGE($B4,'OTR tjk'!$G16:$G20),-5) -> 0 | L4: =ROUND(AVERAGE($B4,'OTR aceh'!$G16:$G20),-5) -> 0 | M4: =ROUND(AVERAGE($B4,'OTR blp'!$G16:$G20),-5) -> 0 | N4: =ROUND(AVERAGE($B4,'OTR ptk'!$G16:$G20),-5) -> 100000 | O4: =ROUND(AVERAGE($B4,'OTR plk'!$G16:$G20),-5) -> 100000 | P4: =ROUND(AVERAGE($B4,'OTR bjm'!$G16:$G20),-5) -> 0 | Q4: =ROUND(AVERAGE($B4,'OTR trk'!$G16:$G20),-5) -> 0
A5: Corolla Cross | B5: ZVG10A/T11 | C5: 0 | D5: =ROUND(AVERAGE($B5,'OTR srg'!$G23:$G34),-5) -> 0 | E5: =ROUND(AVERAGE($B5,'OTR bdg'!$G23:$G34),-5) -> 0 | F5: =ROUND(AVERAGE($B5,'OTR sby'!$G23:$G34),-5) -> 0 | G5: =ROUND(AVERAGE($B5,'OTR dps'!$G23:$G34),-5) -> 0 | H5: =ROUND(AVERAGE($B5,'OTR mdn'!$G23:$G34),-5) -> 0 | I5: =ROUND(AVERAGE($B5,'OTR plb'!$G23:$G34),-5) -> 0 | J5: =ROUND(AVERAGE($B5,'OTR pdg'!$G23:$G34),-5) -> 400000 | K5: =ROUND(AVERAGE($B5,'OTR tjk'!$G23:$G34),-5) -> 0 | L5: =ROUND(AVERAGE($B5,'OTR aceh'!$G23:$G34),-5) -> 0 | M5: =ROUND(AVERAGE($B5,'OTR blp'!$G23:$G34),-5) -> 0 | N5: =ROUND(AVERAGE($B5,'OTR ptk'!$G23:$G34),-5) -> 200000 | O5: =ROUND(AVERAGE($B5,'OTR plk'!$G23:$G34),-5) -> 200000 | P5: =ROUND(AVERAGE($B5,'OTR bjm'!$G23:$G34),-5) -> 100000 | Q5: =ROUND(AVERAGE($B5,'OTR trk'!$G23:$G34),-5) -> 100000
A6: Camry | B6: AX70VA/T00 | C6: 0 | D6: =ROUND(AVERAGE($B6,'OTR srg'!$G35:$G40),-5) -> 0 | E6: =ROUND(AVERAGE($B6,'OTR bdg'!$G35:$G40),-5) -> 0 | F6: =ROUND(AVERAGE($B6,'OTR sby'!$G35:$G40),-5) -> 0 | G6: =ROUND(AVERAGE($B6,'OTR dps'!$G35:$G40),-5) -> 0 | H6: =ROUND(AVERAGE($B6,'OTR mdn'!$G35:$G40),-5) -> 0 | I6: =ROUND(AVERAGE($B6,'OTR plb'!$G35:$G40),-5) -> 0 | J6: =ROUND(AVERAGE($B6,'OTR pdg'!$G35:$G40),-5) -> 300000 | K6: =ROUND(AVERAGE($B6,'OTR tjk'!$G35:$G40),-5) -> 0 | L6: =ROUND(AVERAGE($B6,'OTR aceh'!$G35:$G40),-5) -> 0 | M6: =ROUND(AVERAGE($B6,'OTR blp'!$G35:$G40),-5) -> 0 | N6: =ROUND(AVERAGE($B6,'OTR ptk'!$G35:$G40),-5) -> 200000 | O6: =ROUND(AVERAGE($B6,'OTR plk'!$G35:$G40),-5) -> 200000 | P6: =ROUND(AVERAGE($B6,'OTR bjm'!$G35:$G40),-5) -> 200000 | Q6: =ROUND(AVERAGE($B6,'OTR trk'!$G35:$G40),-5) -> 200000
A7: Agya | B7: A351EM/T00 | C7: 0 | D7: =ROUND(AVERAGE($B7,'OTR srg'!$G41:$G52),-5) -> 0 | E7: =ROUND(AVERAGE($B7,'OTR bdg'!$G41:$G52),-5) -> 0 | F7: =ROUND(AVERAGE($B7,'OTR sby'!$G41:$G52),-5) -> 0 | G7: =ROUND(AVERAGE($B7,'OTR dps'!$G41:$G52),-5) -> 200000 | H7: =ROUND(AVERAGE($B7,'OTR mdn'!$G41:$G52),-5) -> 200000 | I7: =ROUND(AVERAGE($B7,'OTR plb'!$G41:$G52),-5) -> 0 | J7: =ROUND(AVERAGE($B7,'OTR pdg'!$G41:$G52),-5) -> 300000 | K7: =ROUND(AVERAGE($B7,'OTR tjk'!$G41:$G52),-5) -> 0 | L7: =ROUND(AVERAGE($B7,'OTR aceh'!$G41:$G52),-5) -> 200000 | M7: =ROUND(AVERAGE($B7,'OTR blp'!$G41:$G52),-5) -> 0 | N7: =ROUND(AVERAGE($B7,'OTR ptk'!G42:G43,'OTR ptk'!G51:G52),-5) -> 200000 | O7: =ROUND(AVERAGE($B7,'OTR plk'!$G41:$G52),-5) -> 200000 | P7: =ROUND(AVERAGE($B7,'OTR bjm'!$G41:$G52),-5) -> 100000 | Q7: =ROUND(AVERAGE($B7,'OTR trk'!$G41:$G52),-5) -> 200000
A8: Calya | B8: B40EM/T21B | C8: 0 | D8: =ROUND(AVERAGE($B8,'OTR srg'!$G53:$G56),-5) -> 0 | E8: =ROUND(AVERAGE($B8,'OTR bdg'!$G53:$G56),-5) -> 0 | F8: =ROUND(AVERAGE($B8,'OTR sby'!$G53:$G56),-5) -> 0 | G8: =ROUND(AVERAGE($B8,'OTR dps'!$G53:$G56),-5) -> 200000 | H8: =ROUND(AVERAGE($B8,'OTR mdn'!$G53:$G56),-5) -> 200000 | I8: =ROUND(AVERAGE($B8,'OTR plb'!$G53:$G56),-5) -> 0 | J8: =ROUND(AVERAGE($B8,'OTR pdg'!$G53:$G56),-5) -> 300000 | K8: =ROUND(AVERAGE($B8,'OTR tjk'!$G53:$G56),-5) -> 0 | L8: =ROUND(AVERAGE($B8,'OTR aceh'!$G53:$G56),-5) -> 200000 | M8: =ROUND(AVERAGE($B8,'OTR blp'!$G53:$G56),-5) -> 100000 | N8: =ROUND(AVERAGE($B8,'OTR ptk'!G54:G56),-5) -> 100000 | O8: =ROUND(AVERAGE($B8,'OTR plk'!$G53:$G56),-5) -> 200000 | P8: =ROUND(AVERAGE($B8,'OTR bjm'!$G53:$G56),-5) -> 100000 | Q8: =ROUND(AVERAGE($B8,'OTR trk'!$G53:$G56),-5) -> 200000
A9: Avanza | B9: W00EM/T00 | C9: 0 | D9: =ROUND(AVERAGE($B9,'OTR srg'!$G57:$G61),-5) -> 0 | E9: =ROUND(AVERAGE($B9,'OTR bdg'!$G57:$G61),-5) -> 0 | F9: =ROUND(AVERAGE($B9,'OTR sby'!$G57:$G61),-5) -> 0 | G9: =ROUND(AVERAGE($B9,'OTR dps'!$G57:$G61),-5) -> 100000 | H9: =ROUND(AVERAGE($B9,'OTR mdn'!$G57:$G61),-5) -> 100000 | I9: =ROUND(AVERAGE($B9,'OTR plb'!$G57:$G61),-5) -> 0 | J9: =ROUND(AVERAGE($B9,'OTR pdg'!$G57:$G61),-5) -> 300000 | K9: =ROUND(AVERAGE($B9,'OTR tjk'!$G57:$G61),-5) -> 0 | L9: =ROUND(AVERAGE($B9,'OTR aceh'!$G57:$G61),-5) -> 100000 | M9: =ROUND(AVERAGE($B9,'OTR blp'!$G57:$G61),-5) -> 200000 | N9: =ROUND(AVERAGE($B9,'OTR ptk'!G57:G60),-5) -> 0 | O9: =ROUND(AVERAGE($B9,'OTR plk'!$G57:$G61),-5) -> 0 | P9: =ROUND(AVERAGE($B9,'OTR bjm'!$G57:$G61),-5) -> 200000 | Q9: =ROUND(AVERAGE($B9,'OTR trk'!$G57:$G61),-5) -> 200000
A10: Veloz | B10: W01VM/T00 | C10: 0 | D10: =ROUND(AVERAGE($B10,'OTR srg'!$G62:$G69),-5) -> 0 | E10: =ROUND(AVERAGE($B10,'OTR bdg'!$G62:$G69),-5) -> 0 | F10: =ROUND(AVERAGE($B10,'OTR sby'!$G62:$G69),-5) -> 0 | G10: =ROUND(AVERAGE($B10,'OTR dps'!$G62:$G69),-5) -> 0 | H10: =ROUND(AVERAGE($B10,'OTR mdn'!$G62:$G69),-5) -> 200000 | I10: =ROUND(AVERAGE($B10,'OTR plb'!$G62:$G69),-5) -> 0 | J10: =ROUND(AVERAGE($B10,'OTR pdg'!$G62:$G69),-5) -> 200000 | K10: =ROUND(AVERAGE($B10,'OTR tjk'!$G62:$G69),-5) -> 0 | L10: =ROUND(AVERAGE($B10,'OTR aceh'!$G62:$G69),-5) -> 200000 | M10: =ROUND(AVERAGE($B10,'OTR blp'!$G62:$G69),-5) -> 200000 | N10: =ROUND(AVERAGE($B10,'OTR ptk'!G63,'OTR ptk'!G67,'OTR ptk'!G69),-5) -> 0 | O10: =ROUND(AVERAGE($B10,'OTR plk'!$G62:$G69),-5) -> 0 | P10: =ROUND(AVERAGE($B10,'OTR bjm'!$G62:$G69),-5) -> 200000 | Q10: =ROUND(AVERAGE($B10,'OTR trk'!$G62:$G69),-5) -> 200000
A11: Yaris | B11: NSP15SM/T61 | C11: 0 | D11: =ROUND(AVERAGE($B11,'OTR srg'!$G70:$G75),-5) -> 0 | E11: =ROUND(AVERAGE($B11,'OTR bdg'!$G70:$G75),-5) -> 0 | F11: =ROUND(AVERAGE($B11,'OTR sby'!$G70:$G75),-5) -> 0 | G11: =ROUND(AVERAGE($B11,'OTR dps'!$G70:$G75),-5) -> 0 | H11: =ROUND(AVERAGE($B11,'OTR mdn'!$G70:$G75),-5) -> 100000 | I11: =ROUND(AVERAGE($B11,'OTR plb'!$G70:$G75),-5) -> 0 | J11: =ROUND(AVERAGE($B11,'OTR pdg'!$G70:$G75),-5) -> 200000 | K11: =ROUND(AVERAGE($B11,'OTR tjk'!$G70:$G75),-5) -> 0 | L11: =ROUND(AVERAGE($B11,'OTR aceh'!$G70:$G75),-5) -> 100000 | M11: =ROUND(AVERAGE($B11,'OTR blp'!$G70:$G75),-5) -> 100000 | N11: =ROUND(AVERAGE($B11,'OTR ptk'!$G70:$G75),-5) -> 0 | O11: =ROUND(AVERAGE($B11,'OTR plk'!$G70:$G75),-5) -> 0 | P11: =ROUND(AVERAGE($B11,'OTR bjm'!$G70:$G75),-5) -> 100000 | Q11: =ROUND(AVERAGE($B11,'OTR trk'!$G70:$G75),-5) -> 100000
A12: Yaris Cross | B12: NGC20GM/T00 | C12: 0 | D12: =ROUND(AVERAGE($B12,'OTR srg'!$G76:$G89),-5) -> 0 | E12: =ROUND(AVERAGE($B12,'OTR bdg'!$G76:$G89),-5) -> 0 | F12: =ROUND(AVERAGE($B12,'OTR sby'!$G76:$G89),-5) -> 100000 | G12: =ROUND(AVERAGE($B12,'OTR dps'!$G76:$G89),-5) -> 0 | H12: =ROUND(AVERAGE($B12,'OTR mdn'!$G76:$G89),-5) -> 100000 | I12: =ROUND(AVERAGE($B12,'OTR plb'!$G76:$G89),-5) -> 0 | J12: =ROUND(AVERAGE($B12,'OTR pdg'!$G76:$G89),-5) -> 200000 | K12: =ROUND(AVERAGE($B12,'OTR tjk'!$G76:$G89),-5) -> 0 | L12: =ROUND(AVERAGE($B12,'OTR aceh'!$G76:$G89),-5) -> 0 | M12: =ROUND(AVERAGE($B12,'OTR blp'!$G76:$G89),-5) -> 0 | N12: =ROUND(AVERAGE($B12,'OTR ptk'!$G76:$G89),-5) -> 0 | O12: =ROUND(AVERAGE($B12,'OTR plk'!G86,'OTR plk'!G89),-5) -> 0 | P12: =ROUND(AVERAGE($B12,'OTR bjm'!$G76:$G89),-5) -> 100000 | Q12: =ROUND(AVERAGE($B12,'OTR trk'!$G76:$G89),-5) -> 0
A13: New Rush | B13: F80GM/T30B | C13: 0 | D13: =ROUND(AVERAGE($B13,'OTR srg'!$G90:$G93),-5) -> 0 | E13: =ROUND(AVERAGE($B13,'OTR bdg'!$G90:$G93),-5) -> 0 | F13: =ROUND(AVERAGE($B13,'OTR sby'!$G90:$G93),-5) -> 0 | G13: =ROUND(AVERAGE($B13,'OTR dps'!$G90:$G93),-5) -> 0 | H13: =ROUND(AVERAGE($B13,'OTR mdn'!$G90:$G93),-5) -> 200000 | I13: =ROUND(AVERAGE($B13,'OTR plb'!$G90:$G93),-5) -> 0 | J13: =ROUND(AVERAGE($B13,'OTR pdg'!$G90:$G93),-5) -> 200000 | K13: =ROUND(AVERAGE($B13,'OTR tjk'!$G90:$G93),-5) -> 0 | L13: =ROUND(AVERAGE($B13,'OTR aceh'!$G90:$G93),-5) -> 0 | M13: =ROUND(AVERAGE($B13,'OTR blp'!$G90:$G93),-5) -> 0 | N13: =ROUND(AVERAGE($B13,'OTR ptk'!$G90:$G93),-5) -> 0 | O13: =ROUND(AVERAGE($B13,'OTR plk'!$G90:$G93),-5) -> 0 | P13: =ROUND(AVERAGE($B13,'OTR bjm'!$G90:$G93),-5) -> 200000 | Q13: =ROUND(AVERAGE($B13,'OTR trk'!$G90:$G93),-5) -> 0
A14: Voxy | B14: MZR90A/T00B | C14: 0 | D14: =ROUND(AVERAGE($B14,'OTR srg'!$G97:$G98),-5) -> 0 | E14: =ROUND(AVERAGE($B14,'OTR bdg'!$G97:$G98),-5) -> 0 | F14: =ROUND(AVERAGE($B14,'OTR sby'!$G97:$G98),-5) -> 0 | G14: =ROUND(AVERAGE($B14,'OTR dps'!$G97:$G98),-5) -> 0 | H14: =ROUND(AVERAGE($B14,'OTR mdn'!$G97:$G98),-5) -> 200000 | I14: =ROUND(AVERAGE($B14,'OTR plb'!$G97:$G98),-5) -> 0 | J14: =ROUND(AVERAGE($B14,'OTR pdg'!$G97:$G98),-5) -> 200000 | K14: =ROUND(AVERAGE($B14,'OTR tjk'!$G97:$G98),-5) -> 0 | L14: =ROUND(AVERAGE($B14,'OTR aceh'!$G97:$G98),-5) -> 0 | M14: =ROUND(AVERAGE($B14,'OTR blp'!$G97:$G98),-5) -> 0 | N14: =ROUND(AVERAGE($B14,'OTR ptk'!$G97:$G98),-5) -> 0 | O14: =ROUND(AVERAGE($B14,'OTR plk'!$G97:$G98),-5) -> 0 | P14: =ROUND(AVERAGE($B14,'OTR bjm'!$G97:$G98),-5) -> 200000 | Q14: =ROUND(AVERAGE($B14,'OTR trk'!$G97:$G98),-5) -> 0
A15: New Vellfire | B15: AAH40HA/T00 | C15: 0 | D15: =ROUND(AVERAGE($B15,'OTR srg'!$G99:$G100),-5) -> 0 | E15: =ROUND(AVERAGE($B15,'OTR bdg'!$G99:$G100),-5) -> 0 | F15: =ROUND(AVERAGE($B15,'OTR sby'!$G99:$G100),-5) -> 0 | G15: =ROUND(AVERAGE($B15,'OTR dps'!$G99:$G100),-5) -> 0 | H15: =ROUND(AVERAGE($B15,'OTR mdn'!$G99:$G100),-5) -> 200000 | I15: =ROUND(AVERAGE($B15,'OTR plb'!$G99:$G100),-5) -> 0 | J15: =ROUND(AVERAGE($B15,'OTR pdg'!$G99:$G100),-5) -> 200000 | K15: =ROUND(AVERAGE($B15,'OTR tjk'!$G99:$G100),-5) -> 0 | L15: =ROUND(AVERAGE($B15,'OTR aceh'!$G99:$G100),-5) -> 0 | M15: =ROUND(AVERAGE($B15,'OTR blp'!$G99:$G100),-5) -> 0 | N15: =ROUND(AVERAGE($B15,'OTR ptk'!$G99:$G100),-5) -> 0 | O15: =ROUND(AVERAGE($B15,'OTR plk'!$G99:$G100),-5) -> 0 | P15: =ROUND(AVERAGE($B15,'OTR bjm'!$G99:$G100),-5) -> 200000 | Q15: =ROUND(AVERAGE($B15,'OTR trk'!$G99:$G100),-5) -> 0
A16: New Alphard | B16: AGH40XA/T00 | C16: 0 | D16: =ROUND(AVERAGE($B16,'OTR srg'!$G101:$G106),-5) -> 0 | E16: =ROUND(AVERAGE($B16,'OTR bdg'!$G101:$G106),-5) -> 0 | F16: =ROUND(AVERAGE($B16,'OTR sby'!$G101:$G106),-5) -> 0 | G16: =ROUND(AVERAGE($B16,'OTR dps'!$G101:$G106),-5) -> 0 | H16: =ROUND(AVERAGE($B16,'OTR mdn'!$G101:$G106),-5) -> 200000 | I16: =ROUND(AVERAGE($B16,'OTR plb'!$G101:$G106),-5) -> 0 | J16: =ROUND(AVERAGE($B16,'OTR pdg'!$G101:$G106),-5) -> 200000 | K16: =ROUND(AVERAGE($B16,'OTR tjk'!$G101:$G106),-5) -> 0 | L16: =ROUND(AVERAGE($B16,'OTR aceh'!$G101:$G106),-5) -> 0 | M16: =ROUND(AVERAGE($B16,'OTR blp'!$G101:$G106),-5) -> 0 | N16: =ROUND(AVERAGE($B16,'OTR ptk'!$G101:$G106),-5) -> 0 | O16: =ROUND(AVERAGE($B16,'OTR plk'!$G101:$G106),-5) -> 0 | P16: =ROUND(AVERAGE($B16,'OTR bjm'!G103),-5) -> 200000 | Q16: =ROUND(AVERAGE($B16,'OTR trk'!$G101:$G106),-5) -> 0
A17: Kijang Innova | B17: TGN40GM/T30X | C17: 0 | D17: =ROUND(AVERAGE($B17,'OTR srg'!$G107:$G109),-5) -> 0 | E17: =ROUND(AVERAGE($B17,'OTR bdg'!$G107:$G109),-5) -> 0 | F17: =ROUND(AVERAGE($B17,'OTR sby'!$G107:$G109),-5) -> 0 | G17: =ROUND(AVERAGE($B17,'OTR dps'!$G107:$G109),-5) -> 0 | H17: =ROUND(AVERAGE($B17,'OTR mdn'!$G107:$G109),-5) -> 200000 | I17: =ROUND(AVERAGE($B17,'OTR plb'!$G107:$G109),-5) -> 0 | J17: =ROUND(AVERAGE($B17,'OTR pdg'!$G107:$G109),-5) -> 200000 | K17: =ROUND(AVERAGE($B17,'OTR tjk'!$G107:$G109),-5) -> 0 | L17: =ROUND(AVERAGE($B17,'OTR aceh'!$G107:$G109),-5) -> 0 | M17: =ROUND(AVERAGE($B17,'OTR blp'!$G107:$G109),-5) -> 0 | N17: =ROUND(AVERAGE($B17,'OTR ptk'!$G107:$G109),-5) -> 0 | O17: =ROUND(AVERAGE($B17,'OTR plk'!G108),-5) -> 0 | P17: =ROUND(AVERAGE('OTR bjm'!G108),-5) -> 200000 | Q17: =ROUND(AVERAGE($B17,'OTR trk'!$G107:$G109),-5) -> 0
A18: Innova Zenix | B18: MAG10GA/T00 | C18: 0 | D18: =ROUND(AVERAGE('OTR srg'!$G110:$G131),-5) -> 0 | E18: =ROUND(AVERAGE('OTR bdg'!$G110:$G131),-5) -> 0 | F18: =ROUND(AVERAGE('OTR sby'!$G110:$G131),-5) -> 0 | G18: =ROUND(AVERAGE('OTR dps'!$G110:$G131),-5) -> 0 | H18: =ROUND(AVERAGE('OTR mdn'!$G110:$G131),-5) -> 200000 | I18: =ROUND(AVERAGE('OTR plb'!$G110:$G131),-5) -> 0 | J18: =ROUND(AVERAGE('OTR pdg'!$G110:$G131),-5) -> 200000 | K18: =ROUND(AVERAGE('OTR tjk'!$G110:$G131),-5) -> 0 | L18: =ROUND(AVERAGE('OTR aceh'!$G110:$G131),-5) -> 0 | M18: =ROUND(AVERAGE('OTR blp'!$G110:$G131),-5) -> 0 | N18: =ROUND(AVERAGE('OTR ptk'!$G110:$G131),-5) -> 0 | O18: =ROUND(AVERAGE('OTR plk'!G110,'OTR plk'!G112,'OTR plk'!G116,'OTR plk'!G118,'OTR plk'!G110,'OTR plk'!G122),-5) -> 0 | P18: =ROUND(AVERAGE('OTR bjm'!G116,'OTR bjm'!G118),-5) -> 200000 | Q18: =ROUND(AVERAGE('OTR trk'!$G110:$G131),-5) -> 0
A19: Hilux Single Cabin | B19: TGN10SCM/T10 | C19: 0 | D19: =ROUND(AVERAGE('OTR srg'!$G154:$G156),-5) -> 0 | E19: =ROUND(AVERAGE('OTR bdg'!$G154:$G156),-5) -> 0 | F19: =ROUND(AVERAGE('OTR sby'!$G154:$G156),-5) -> 0 | G19: =ROUND(AVERAGE('OTR dps'!$G154:$G156),-5) -> 0 | H19: =ROUND(AVERAGE('OTR mdn'!$G154:$G156),-5) -> 0 | I19: =ROUND(AVERAGE('OTR plb'!$G154:$G156),-5) -> 0 | J19: =ROUND(AVERAGE('OTR pdg'!$G154:$G156),-5) -> 0 | K19: =ROUND(AVERAGE('OTR tjk'!$G154:$G156),-5) -> 0 | L19: =ROUND(AVERAGE('OTR aceh'!$G154:$G156),-5) -> 0 | M19: =ROUND(AVERAGE('OTR blp'!$G154:$G156),-5) -> 0 | N19: =ROUND(AVERAGE('OTR ptk'!$G154:$G156),-5) -> 0 | O19: =ROUND(AVERAGE('OTR plk'!$G154:$G156),-5) -> 0 | P19: =ROUND(AVERAGE('OTR bjm'!$G154:$G156),-5) -> 0 | Q19: =ROUND(AVERAGE('OTR trk'!$G154:$G156),-5) -> 0
A20: Hilux Double Cabin | B20: GUN25DCEM/T30 | C20: 0 | D20: =ROUND(AVERAGE($B20,'OTR srg'!$G157:$G161),-5) -> 0 | E20: =ROUND(AVERAGE($B20,'OTR bdg'!$G157:$G161),-5) -> 0 | F20: =ROUND(AVERAGE($B20,'OTR sby'!$G157:$G161),-5) -> 0 | G20: =ROUND(AVERAGE($B20,'OTR dps'!$G157:$G161),-5) -> 0 | H20: =ROUND(AVERAGE($B20,'OTR mdn'!$G157:$G161),-5) -> 0 | I20: =ROUND(AVERAGE($B20,'OTR plb'!$G157:$G161),-5) -> 0 | J20: =ROUND(AVERAGE($B20,'OTR pdg'!$G157:$G161),-5) -> 0 | K20: =ROUND(AVERAGE($B20,'OTR tjk'!$G157:$G161),-5) -> 0 | L20: =ROUND(AVERAGE($B20,'OTR aceh'!$G157:$G161),-5) -> 0 | M20: =ROUND(AVERAGE($B20,'OTR blp'!$G157:$G161),-5) -> 0 | N20: =ROUND(AVERAGE($B20,'OTR ptk'!G156:G157),-5) -> 0 | O20: =ROUND(AVERAGE('OTR plk'!G161),-5) -> 0 | P20: =ROUND(AVERAGE($B20,'OTR bjm'!$G157:$G161),-5) -> 0 | Q20: =ROUND(AVERAGE($B20,'OTR trk'!$G157:$G161),-5) -> 0
A21: Hilux Rangga | B21: TGN10CCSM/T00 | C21: 0 | D21: =ROUND(AVERAGE($B21,'OTR srg'!$G162:$G185),-5) -> 0 | E21: =ROUND(AVERAGE($B21,'OTR bdg'!$G162:$G185),-5) -> 0 | F21: =ROUND(AVERAGE($B21,'OTR sby'!$G162:$G185),-5) -> 300000 | G21: =ROUND(AVERAGE($B21,'OTR dps'!$G162:$G185),-5) -> 200000 | H21: =ROUND(AVERAGE($B21,'OTR mdn'!$G162:$G185),-5) -> 100000 | I21: =ROUND(AVERAGE($B21,'OTR plb'!$G162:$G185),-5) -> 0 | J21: =ROUND(AVERAGE($B21,'OTR pdg'!$G162:$G185),-5) -> 500000 | K21: =ROUND(AVERAGE($B21,'OTR tjk'!$G162:$G185),-5) -> 0 | L21: =ROUND(AVERAGE($B21,'OTR aceh'!$G162:$G185),-5) -> 200000 | M21: =ROUND(AVERAGE($B21,'OTR blp'!$G162:$G185),-5) -> 0 | N21: =ROUND(AVERAGE($B21,'OTR ptk'!$G162:$G185),-5) -> 100000 | O21: =ROUND(AVERAGE('OTR plk'!G169),-5) -> 0 | P21: =ROUND(AVERAGE('OTR bjm'!G169),-5) -> 0 | Q21: =ROUND(AVERAGE($B21,'OTR trk'!$G162:$G185),-5) -> 0
A22: Hiace Comm | B22: KD223M/T00COMM | C22: 0 | D22: =ROUND(AVERAGE($B22,'OTR srg'!$G199:$G200),-5) -> 0 | E22: =ROUND(AVERAGE($B22,'OTR bdg'!$G199:$G200),-5) -> 0 | F22: =ROUND(AVERAGE($B22,'OTR sby'!$G199:$G200),-5) -> 0 | G22: =ROUND(AVERAGE($B22,'OTR dps'!$G199:$G200),-5) -> 0 | H22: =ROUND(AVERAGE($B22,'OTR mdn'!$G199:$G200),-5) -> 200000 | I22: =ROUND(AVERAGE($B22,'OTR plb'!$G199:$G200),-5) -> 0 | J22: =ROUND(AVERAGE($B22,'OTR pdg'!$G199:$G200),-5) -> 300000 | K22: =ROUND(AVERAGE($B22,'OTR tjk'!$G199:$G200),-5) -> 0 | L22: =ROUND(AVERAGE($B22,'OTR aceh'!$G199:$G200),-5) -> 200000 | M22: =ROUND(AVERAGE($B22,'OTR blp'!$G199:$G200),-5) -> 0 | N22: =ROUND(AVERAGE($B22,'OTR ptk'!$G199:$G200),-5) -> 200000 | O22: =ROUND(AVERAGE($B22,'OTR plk'!$G199:$G200),-5) -> 200000 | P22: =ROUND(AVERAGE($B22,'OTR bjm'!$G199:$G200),-5) -> 200000 | Q22: =ROUND(AVERAGE($B22,'OTR trk'!$G199:$G200),-5) -> 0
A23: Hiace Premio | B23: XZ30ST00 | C23: 0 | D23: =ROUND(AVERAGE($B23,'OTR srg'!$G201),-5) -> 0 | E23: =ROUND(AVERAGE($B23,'OTR bdg'!$G201),-5) -> 0 | F23: =ROUND(AVERAGE($B23,'OTR sby'!$G201),-5) -> 0 | G23: =ROUND(AVERAGE($B23,'OTR dps'!$G201),-5) -> 0 | H23: =ROUND(AVERAGE($B23,'OTR mdn'!$G201),-5) -> 200000 | I23: =ROUND(AVERAGE($B23,'OTR plb'!$G201),-5) -> 0 | J23: =ROUND(AVERAGE($B23,'OTR pdg'!$G201),-5) -> 300000 | K23: =ROUND(AVERAGE($B23,'OTR tjk'!$G201),-5) -> 0 | L23: =ROUND(AVERAGE($B23,'OTR aceh'!$G201),-5) -> 200000 | M23: =ROUND(AVERAGE($B23,'OTR blp'!$G201),-5) -> 0 | N23: =ROUND(AVERAGE($B23,'OTR ptk'!$G201),-5) -> 200000 | O23: =ROUND(AVERAGE($B23,'OTR plk'!$G201),-5) -> 200000 | P23: =ROUND(AVERAGE($B23,'OTR bjm'!$G201),-5) -> 200000 | Q23: =ROUND(AVERAGE($B23,'OTR trk'!$G201),-5) -> 0
A24: Dyna | B24: DB06A/T10 | C24: 0 | D24: =ROUND(AVERAGE($B24,'OTR srg'!$G204:$G206),-5) -> 0 | E24: =ROUND(AVERAGE($B24,'OTR bdg'!$G204:$G206),-5) -> 0 | F24: =ROUND(AVERAGE($B24,'OTR sby'!$G204:$G206),-5) -> 0 | G24: =ROUND(AVERAGE($B24,'OTR dps'!$G204:$G206),-5) -> 0 | H24: =ROUND(AVERAGE($B24,'OTR mdn'!$G204:$G206),-5) -> 200000 | I24: =ROUND(AVERAGE($B24,'OTR plb'!$G204:$G206),-5) -> 0 | J24: =ROUND(AVERAGE($B24,'OTR pdg'!$G204:$G206),-5) -> 300000 | K24: =ROUND(AVERAGE($B24,'OTR tjk'!$G204:$G206),-5) -> 0 | L24: =ROUND(AVERAGE($B24,'OTR aceh'!$G204:$G206),-5) -> 200000 | M24: =ROUND(AVERAGE($B24,'OTR blp'!$G204:$G206),-5) -> 0 | N24: =ROUND(AVERAGE($B24,'OTR ptk'!$G204:$G206),-5) -> 200000 | O24: =ROUND(AVERAGE($B24,'OTR plk'!$G204:$G206),-5) -> 200000 | P24: =ROUND(AVERAGE($B24,'OTR bjm'!$G204:$G206),-5) -> 200000 | Q24: =ROUND(AVERAGE($B24,'OTR trk'!$G204:$G206),-5) -> 0
A25: Supra | B25: FJA300VXA/T04 | C25: 0 | D25: =ROUND(AVERAGE($B25,'OTR srg'!$G207:$G209),-5) -> 0 | E25: =ROUND(AVERAGE($B25,'OTR bdg'!$G207:$G209),-5) -> 0 | F25: =ROUND(AVERAGE($B25,'OTR sby'!$G207:$G209),-5) -> 0 | G25: =ROUND(AVERAGE($B25,'OTR dps'!$G207:$G209),-5) -> 0 | H25: =ROUND(AVERAGE($B25,'OTR mdn'!$G207:$G209),-5) -> 200000 | I25: =ROUND(AVERAGE($B25,'OTR plb'!$G207:$G209),-5) -> 0 | J25: =ROUND(AVERAGE($B25,'OTR pdg'!$G207:$G209),-5) -> 300000 | K25: =ROUND(AVERAGE($B25,'OTR tjk'!$G207:$G209),-5) -> 0 | L25: =ROUND(AVERAGE($B25,'OTR aceh'!$G207:$G209),-5) -> 200000 | M25: =ROUND(AVERAGE($B25,'OTR blp'!$G207:$G209),-5) -> 0 | N25: =ROUND(AVERAGE($B25,'OTR ptk'!$G207:$G209),-5) -> 200000 | O25: =ROUND(AVERAGE($B25,'OTR plk'!$G207:$G209),-5) -> 200000 | P25: =ROUND(AVERAGE($B25,'OTR bjm'!$G207:$G209),-5) -> 200000 | Q25: =ROUND(AVERAGE($B25,'OTR trk'!$G207:$G209),-5) -> 0
A26: LC 300 | B26: A250GM/T00S | C26: 0 | D26: =ROUND(AVERAGE($B26,'OTR srg'!$G210:$G221),-5) -> 0 | E26: =ROUND(AVERAGE($B26,'OTR bdg'!$G210:$G221),-5) -> 0 | F26: =ROUND(AVERAGE($B26,'OTR sby'!$G210:$G221),-5) -> 100000 | G26: =ROUND(AVERAGE($B26,'OTR dps'!$G210:$G221),-5) -> 100000 | H26: =ROUND(AVERAGE($B26,'OTR mdn'!$G210:$G221),-5) -> 100000 | I26: =ROUND(AVERAGE($B26,'OTR plb'!$G210:$G221),-5) -> 0 | J26: =ROUND(AVERAGE($B26,'OTR pdg'!$G210:$G221),-5) -> 300000 | K26: =ROUND(AVERAGE($B26,'OTR tjk'!$G210:$G221),-5) -> 0 | L26: =ROUND(AVERAGE($B26,'OTR aceh'!$G210:$G221),-5) -> 100000 | M26: =ROUND(AVERAGE($B26,'OTR blp'!$G210:$G221),-5) -> 0 | N26: =ROUND(AVERAGE($B26,'OTR ptk'!G214:G215),-5) -> 0 | O26: =ROUND(AVERAGE($B26,'OTR plk'!$G210:$G221),-5) -> 100000 | P26: =ROUND(AVERAGE($B26,'OTR bjm'!$G210:$G221),-5) -> 100000 | Q26: =ROUND(AVERAGE($B26,'OTR trk'!$G210:$G221),-5) -> 0
A27: Raize | B27: GUN166VRZA/T10 | C27: 0 | D27: =ROUND(AVERAGE('OTR srg'!$G222:$G222),-5) -> 0 | E27: =ROUND(AVERAGE('OTR bdg'!$G222:$G222),-5) -> 0 | F27: =ROUND(AVERAGE('OTR sby'!$G222:$G222),-5) -> 0 | G27: =ROUND(AVERAGE('OTR dps'!$G222:$G222),-5) -> 0 | H27: =ROUND(AVERAGE('OTR mdn'!$G222:$G222),-5) -> 0 | I27: =ROUND(AVERAGE('OTR plb'!$G222:$G222),-5) -> 0 | J27: =ROUND(AVERAGE('OTR pdg'!$G222:$G222),-5) -> 0 | K27: =ROUND(AVERAGE('OTR tjk'!$G222:$G222),-5) -> 0 | L27: =ROUND(AVERAGE('OTR aceh'!$G222:$G222),-5) -> 0 | M27: =ROUND(AVERAGE('OTR blp'!$G222:$G222),-5) -> 0 | N27: =ROUND(AVERAGE('OTR ptk'!$G222:$G222),-5) -> 0 | O27: =ROUND(AVERAGE('OTR plk'!$G222:$G222),-5) -> 0 | P27: =ROUND(AVERAGE('OTR bjm'!$G222:$G222),-5) -> 0 | Q27: =ROUND(AVERAGE('OTR trk'!$G222:$G222),-5) -> 0
A28: Fortuner | B28: GXPA16M/T10 | C28: 0 | D28: =ROUND(AVERAGE('OTR srg'!#REF!),-5) -> #REF! | E28: =ROUND(AVERAGE('OTR bdg'!#REF!),-5) -> #REF! | F28: =ROUND(AVERAGE('OTR sby'!#REF!),-5) -> #REF! | G28: =ROUND(AVERAGE('OTR dps'!#REF!),-5) -> #REF! | H28: =ROUND(AVERAGE('OTR mdn'!#REF!),-5) -> #REF! | I28: =ROUND(AVERAGE('OTR plb'!#REF!),-5) -> #REF! | J28: =ROUND(AVERAGE('OTR pdg'!#REF!),-5) -> #REF! | K28: =ROUND(AVERAGE('OTR tjk'!#REF!),-5) -> #REF! | L28: =ROUND(AVERAGE('OTR aceh'!#REF!),-5) -> #REF! | M28: =ROUND(AVERAGE('OTR blp'!#REF!),-5) -> #REF! | N28: =ROUND(AVERAGE('OTR ptk'!#REF!),-5) -> #REF! | O28: =ROUND(AVERAGE('OTR plk'!#REF!),-5) -> #REF! | P28: =ROUND(AVERAGE('OTR bjm'!#REF!),-5) -> #REF! | Q28: =ROUND(AVERAGE('OTR trk'!#REF!),-5) -> #REF!
A29: GR Yaris | B29: ZVW60A/T00 | C29: 0 | D29: =ROUND(AVERAGE($B29,'OTR srg'!#REF!),-5) -> #REF! | E29: =ROUND(AVERAGE($B29,'OTR bdg'!#REF!),-5) -> #REF! | F29: =ROUND(AVERAGE($B29,'OTR sby'!#REF!),-5) -> #REF! | G29: =ROUND(AVERAGE($B29,'OTR dps'!#REF!),-5) -> #REF! | H29: =ROUND(AVERAGE($B29,'OTR mdn'!#REF!),-5) -> #REF! | I29: =ROUND(AVERAGE($B29,'OTR plb'!#REF!),-5) -> #REF! | J29: =ROUND(AVERAGE($B29,'OTR pdg'!#REF!),-5) -> #REF! | K29: =ROUND(AVERAGE($B29,'OTR tjk'!#REF!),-5) -> #REF! | L29: =ROUND(AVERAGE($B29,'OTR aceh'!#REF!),-5) -> #REF! | M29: =ROUND(AVERAGE($B29,'OTR blp'!#REF!),-5) -> #REF! | N29: =ROUND(AVERAGE($B29,'OTR ptk'!#REF!),-5) -> #REF! | O29: =ROUND(AVERAGE($B29,'OTR plk'!#REF!),-5) -> #REF! | P29: =ROUND(AVERAGE($B29,'OTR bjm'!#REF!),-5) -> #REF! | Q29: =ROUND(AVERAGE($B29,'OTR trk'!#REF!),-5) -> #REF!
A30: GR 86 | B30: ZN8M/T00 | C30: 0 | D30: =ROUND(AVERAGE($B30,'OTR srg'!#REF!),-5) -> #REF! | E30: =ROUND(AVERAGE($B30,'OTR bdg'!#REF!),-5) -> #REF! | F30: =ROUND(AVERAGE($B30,'OTR sby'!#REF!),-5) -> #REF! | G30: =ROUND(AVERAGE($B30,'OTR dps'!#REF!),-5) -> #REF! | H30: =ROUND(AVERAGE($B30,'OTR mdn'!#REF!),-5) -> #REF! | I30: =ROUND(AVERAGE($B30,'OTR plb'!#REF!),-5) -> #REF! | J30: =ROUND(AVERAGE($B30,'OTR pdg'!#REF!),-5) -> #REF! | K30: =ROUND(AVERAGE($B30,'OTR tjk'!#REF!),-5) -> #REF! | L30: =ROUND(AVERAGE($B30,'OTR aceh'!#REF!),-5) -> #REF! | M30: =ROUND(AVERAGE($B30,'OTR blp'!#REF!),-5) -> #REF! | N30: =ROUND(AVERAGE($B30,'OTR ptk'!#REF!),-5) -> #REF! | O30: =ROUND(AVERAGE($B30,'OTR plk'!#REF!),-5) -> #REF! | P30: =ROUND(AVERAGE($B30,'OTR bjm'!#REF!),-5) -> #REF! | Q30: =ROUND(AVERAGE($B30,'OTR trk'!#REF!),-5) -> #REF!
A31: GR Corolla | B31: GZEA14M/T00 | C31: 0 | D31: =ROUND(AVERAGE($B31,'OTR srg'!#REF!),-5) -> #REF! | E31: =ROUND(AVERAGE($B31,'OTR bdg'!#REF!),-5) -> #REF! | F31: =ROUND(AVERAGE($B31,'OTR sby'!#REF!),-5) -> #REF! | G31: =ROUND(AVERAGE($B31,'OTR dps'!#REF!),-5) -> #REF! | H31: =ROUND(AVERAGE($B31,'OTR mdn'!#REF!),-5) -> #REF! | I31: =ROUND(AVERAGE($B31,'OTR plb'!#REF!),-5) -> #REF! | J31: =ROUND(AVERAGE($B31,'OTR pdg'!#REF!),-5) -> #REF! | K31: =ROUND(AVERAGE($B31,'OTR tjk'!#REF!),-5) -> #REF! | L31: =ROUND(AVERAGE($B31,'OTR aceh'!#REF!),-5) -> #REF! | M31: =ROUND(AVERAGE($B31,'OTR blp'!#REF!),-5) -> #REF! | N31: =ROUND(AVERAGE($B31,'OTR ptk'!#REF!),-5) -> #REF! | O31: =ROUND(AVERAGE($B31,'OTR plk'!#REF!),-5) -> #REF! | P31: =ROUND(AVERAGE($B31,'OTR bjm'!#REF!),-5) -> #REF! | Q31: =ROUND(AVERAGE($B31,'OTR trk'!#REF!),-5) -> #REF!
A32: bZ4X | B32: XEA10EVA3 | C32: 0 | D32: =ROUND(AVERAGE($B32,'OTR srg'!#REF!),-5) -> #REF! | E32: =ROUND(AVERAGE($B32,'OTR bdg'!#REF!),-5) -> #REF! | F32: =ROUND(AVERAGE($B32,'OTR sby'!#REF!),-5) -> #REF! | G32: =ROUND(AVERAGE($B32,'OTR dps'!#REF!),-5) -> #REF! | H32: =ROUND(AVERAGE($B32,'OTR mdn'!#REF!),-5) -> #REF! | I32: =ROUND(AVERAGE($B32,'OTR plb'!#REF!),-5) -> #REF! | J32: =ROUND(AVERAGE($B32,'OTR pdg'!#REF!),-5) -> #REF! | K32: =ROUND(AVERAGE($B32,'OTR tjk'!#REF!),-5) -> #REF! | L32: =ROUND(AVERAGE($B32,'OTR aceh'!#REF!),-5) -> #REF! | M32: =ROUND(AVERAGE($B32,'OTR blp'!#REF!),-5) -> #REF! | N32: =ROUND(AVERAGE($B32,'OTR ptk'!#REF!),-5) -> #REF! | O32: 100000 | P32: =ROUND(AVERAGE($B32,'OTR bjm'!#REF!),-5) -> #REF! | Q32: =ROUND(AVERAGE($B32,'OTR trk'!#REF!),-5) -> #REF!

Sheet OTR dki
A3: SURAT KEPUTUSAN
A4: NO. SK/001/TSO.OPR/XI/2025
A6: HARGA KENDARAAN TOYOTA
A7: REGULAR ORDER
A8: WILAYAH : JAKARTA, BEKASI, BANTEN B (PLAT NOMOR "B")
A9: Per 1 November 2025 | F9: N-1 | G9: SELISIH
A11: TYPE | B11: KODE TIPE | C11: ON THE ROAD | D11: KETERANGAN | F11: ON THE ROAD | G11: ON THE ROAD
A12: All New Vios 1.5 G CVT | B12: NGC102GA/T00 | C12: 374800000 | F12: 374800000 | G12: =C12-F12 -> 0
A13: All New Vios 1.5 G TSS CVT | B13: NGC102GA/T01 | C13: 388200000 | F13: 388200000 | G13: =C13-F13 -> 0
A14: COROLLA ALTIS 1.8 V A/T | B14: ZE211VA/T24 | C14: 583300000 | F14: 583300000 | G14: =C14-F14 -> 0
A15: COROLLA ALTIS 1.8 V A/T (Premium Color) | B15: ZE211VA/T25 | C15: 586300000 | F15: 586300000 | G15: =C15-F15 -> 0
A16: COROLLA ALTIS 1.8L HYBRID A/T | B16: ZE211LA/T26 | C16: 637500000 | F16: 637500000 | G16: =C16-F16 -> 0
A17: COROLLA ALTIS 1.8L HYBRID A/T (Premium Color) | B17: ZE211LA/T27 | C17: 640600000 | F17: 640600000 | G17: =C17-F17 -> 0
A18: COROLLA ALTIS 1.8L HYBRID A/T GR-S | B18: ZE211LA/T28 | C18: 644900000 | F18: 644900000 | G18: =C18-F18 -> 0
A19: COROLLA ALTIS 1.8L HYBRID A/T GR-S (Premium Color) | B19: ZE211LA/T29 | C19: 648000000 | F19: 648000000 | G19: =C19-F19 -> 0
A20: COROLLA CROSS 1.8 HYBRID A/T | B20: ZVG10A/T31 | C20: 603800000 | F20: 603800000 | G20: =C20-F20 -> 0
A21: COROLLA CROSS 1.8 HYBRID A/T(Premium Color) | B21: ZVG10A/T32 | C21: 606900000 | F21: 606900000 | G21: =C21-F21 -> 0
A22: COROLLA CROSS 1.8 HYBRID GR-S A/T | B22: ZVG10A/T41 | C22: 643100000 | F22: 643100000 | G22: =C22-F22 -> 0
A23: COROLLA CROSS 1.8 HYBRID GR-S A/T (Premium Color) | B23: ZVG10A/T42 | C23: 648200000 | F23: 648200000 | G23: =C23-F23 -> 0
... A222: Bz4X A/T ex-KTT Vin 2023 (With Wall Charger) | B222: XEA10EVB1 | C222: 1244100000 | F222: 1244100000 | G222: =C222-F222 -> 0
A223: Jakarta, 1 Oktober 2025
A224: 1. Tarif BBNKB menggunakan tarif kepemilikan unit kedua
A225: 2. Dyna, Hilux, Hi Ace sudah termasuk Keur.
A226: 3. LC 300 unit tergantung ketersediaan barang
A229: SURAT KEPUTUSAN
A230: NO. SK/001/TSO.OPR/VIII/2025
A232: HARGA KENDARAAN TOYOTA
A233: PRIME SERIES
A234: WILAYAH : JAKARTA, BEKASI, BANTEN B (PLAT NOMOR "B")
A235: Per 1 Oktober 2025 | F235: N-1 | G235: SELISIH
A237: TYPE | B237: KODE TIPE | C237: ON THE ROAD | D237: KETERANGAN | F237: ON THE ROAD | G237: ON THE ROAD
A238: AGYA 1.2 G CVT PRIME | B238: A351GA/T00CA | C238: 200200000 | D238: CA, CB: Premium Horn, DVR | F238: 200200000 | G238: =C238-F238 -> 0
A239: AGYA STYLIX 1.2 G CVT PRIME | B239: A351GA/T10CB | C239: 203700000 | F239: 203700000 | G239: =C239-F239 -> 0
A240: AGYA 1.2 G M/T PRIME | B240: A351GM/T00CA | C240: 184000000 | F240: 184000000 | G240: =C240-F240 -> 0
A241: CALYA 1.2 G MT PRIME | B241: B40GM/T20CA | C241: 180900000 | D241: CA: Side Visor, Foglamp Ornament, Door Handle Protector | F241: 180900000 | G241: =C241-F241 -> 0
A242: CALYA 1.2 G AT PRIME | B242: B40GA/T20CA | C242: 195300000 | F242: 195300000 | G242: =C242-F242 -> 0
A243: AVANZA 1.3 E M/T PRIME | B243: W00EM/T00DA | C243: 246300000 | D243: DA: Cargo Net, Front Grille Ornament, Side Body Moulding Gunmental | F243: 246300000 | G243: =C243-F243 -> 0
A244: AVANZA 1.5 G CVT PRIME | B244: W01GA/T00DA | C244: 284100000 | F244: 284100000 | G244: =C244-F244 -> 0
A245: AVANZA 1.5 G M/T PRIME | B245: W01GM/T00DA | C245: 269300000 | F245: 269300000 | G245: =C245-F245 -> 0
A246: VELOZ 1.5 M/T (Premium Color) PRIME | B246: W01VM/T01BF | C246: 301900000 | D246: BC, BF, BK: Back Door Galss Chrome Ornament, Air Purifier | F246: 301900000 | G246: =C246-F246 -> 0
A247: VELOZ 1.5 CVT PRIME | B247: W01VA/T00BC | C247: 316400000 | F247: 316400000 | G247: =C247-F247 -> 0
A248: VELOZ 1.5 Q CVT (Premium Color) PRIME | B248: W01QVA/T02BK | C248: 327100000 | F248: 327100000 | G248: =C248-F248 -> 0
A249: NEW RUSH 1.5 G M/T PRIME | B249: F80GM/T30AA | C249: 291200000 | D249: AA, AD: Spare Tire Cover, Cargo Net, dan Sporty Outer Mirror | F249: 291200000 | G249: =C249-F249 -> 0
A250: NEW RUSH 1.5 G A/T PRIME | B250: F80GA/T30AA | C250: 302200000 | F250: 302200000 | G250: =C250-F250 -> 0
A251: NEW RUSH 1.5 S M/T GR SPORT PRIME | B251: F80SM/T40AD | C251: 306600000 | F251: 306600000 | G251: =C251-F251 -> 0
A252: NEW RUSH 1.5 S A/T GR SPORT PRIME | B252: F80SA/T40AD | C252: 317200000 | F252: 317200000 | G252: =C252-F252 -> 0
A253: KIJANG INNOVA 2.0 G M/T BSN PRIME | B253: TGN40GM/T30FA | C253: 393000000 | D253: FA: Spare Tire Cover, Rear Bumper Ornament, dan Rear Bumper Step Guard | F253: 393000000 | G253: =C253-F253 -> 0
A254: KIJANG INNOVA 2.4 G A/T DSL PRIME | B254: GUN14GA/T20FA | C254: 441400000 | F254: 441400000 | G254: =C254-F254 -> 0
A255: KIJANG INNOVA 2.4 G M/T DSL PRIME | B255: GUN14GM/T20FA | C255: 420500000 | F255: 420500000 | G255: =C255-F255 -> 0
A256: LAND CRUISER 300 VX-R 4x4 A/T PRIME | B256: FJA300VA/T14DA | C256: 2639000000 | D256: DA: Rear view Electric Mirror & Rubber Floor mat | F256: 2639000000 | G256: =C256-F256 -> 0
A257: LAND CRUISER 300 GR-S 4x4 A/T PRIME | B257: FJA300GA/T18DA | C257: 2714400000 | F257: 2714400000 | G257: =C257-F257 -> 0
A258: INNOVA ZENIX 2.0 G CVT PRIME | B258: MAG10GA/T00BC | C258: 440000000 | D258: BC, BD, BE, BF: Multifunction Box, Storage Organizer, Black Outer Mirror Cover, Spare Tire Cover, Premium Horn | F258: 440000000 | G258: =C258-F258 -> 0
A259: INNOVA ZENIX 2.0 G CVT (Premium Color) PRIME | B259: MAG10GA/T01BD | C259: 443000000 | F259: 443000000 | G259: =C259-F259 -> 0
A260: INNOVA ZENIX 2.0 V CVT PRIME | B260: MAG10VA/T00BE | C260: 486500000 | F260: 486500000 | G260: =C260-F260 -> 0
A261: INNOVA ZENIX 2.0 V CVT (Premium Color) PRIME | B261: MAG10VA/T01BF | C261: 489500000 | F261: 489500000 | G261: =C261-F261 -> 0
A262: INNOVA ZENIX 2.0 G HV CVT (Premium Color) PRIME | B262: MAG10GHA/T01BD | C262: 480200000 | F262: 480200000 | G262: =C262-F262 -> 0
A263: INNOVA ZENIX 2.0 V HV Modelista CVT PRIME | B263: MAG10VHA/T00BC | C263: 551000000 | F263: 551000000 | G263: =C263-F263 -> 0
A264: INNOVA ZENIX 2.0 V HV Modelista CVT (Premium Color) PRIME | B264: MAG10VHA/T01BD | C264: 553900000 | F264: 553900000 | G264: =C264-F264 -> 0
A265: INNOVA ZENIX 2.0 Q HV Modelista CVT TSS PRIME | B265: MAG10QHA/T00BC | C265: 629200000 | F265: 629200000 | G265: =C265-F265 -> 0
A266: INNOVA ZENIX 2.0 Q HV Modelista CVT TSS (Premium Color) PRIME | B266: MAG10QHA/T01BD | C266: 632100000 | F266: 632100000 | G266: =C266-F266 -> 0
A267: RAIZE 1.0T G M/T ONE TONE PRIME | B267: A250GM/T00DA | C267: 264900000 | D267: DA, DE, DG: Cargo Net, Air Purifier | F267: 264900000 | G267: =C267-F267 -> 0
A268: RAIZE 1.0T G CVT ONE TONE PRIME | B268: A250GA/T00DA | C268: 280000000 | F268: 280000000 | G268: =C268-F268 -> 0
A269: RAIZE 1.0T GR-S CVT ONE TONE PRIME | B269: A250SA/T20DE | C269: 294200000 | F269: 294200000 | G269: =C269-F269 -> 0
A270: RAIZE 1.0T GR-S CVT TWO TONE PRIME | B270: A250SA/T21DG | C270: 296800000 | F270: 296800000 | G270: =C270-F270 -> 0
A271: RAIZE 1.2 G M/T ONE TONE PRIME | B271: A251GM/T00DA | C271: 245100000 | F271: 245100000 | G271: =C271-F271 -> 0
A272: RAIZE 1.2 G CVT ONE TONE PRIME | B272: A251GA/T00DA | C272: 260200000 | F272: 260200000 | G272: =C272-F272 -> 0
A273: FORTUNER 2.8 VRZ WITH GR AERO TSS 4X2 A/T ONE TONE PRIME | B273: GUN166VA/T31BF | C273: 680800000 | D273: BF, BH: Spare Tire Cover, Sporty Door Handle, Housing Protector, and Mirror Cover, and Premium Horn | F273: 680800000 | G273: =C273-F273 -> 0
A274: FORTUNER 2.8 VRZ 4X4 A/T GR-S TSS ONE TONE PRIME | B274: GUN156VA/T33BH | C274: 790500000 | F274: 790500000 | G274: =C274-F274 -> 0
A277: SURAT KEPUTUSAN
A278: NO. SK/001/TSO.OPR/VIII/2025
A280: HARGA KENDARAAN TOYOTA
A281: LUX ORDER
A282: WILAYAH : JAKARTA, BEKASI, BANTEN B (PLAT NOMOR "B")
A283: Per 1 Oktober 2025 | F283: N-1 | G283: SELISIH
A285: TYPE | B285: KODE TIPE | C285: ON THE ROAD | D285: KETERANGAN | F285: ON THE ROAD | G285: ON THE ROAD
A286: AGYA 1.2 E M/T LUX | B286: A351EM/T00Y | C286: 208968000 | D286: Agya Lux: Collapsible Box | F286: 208968000 | G286: =C286-F286 -> 0
A287: AGYA 1.2 G M/T LUX | B287: A351GM/T00Y | C287: 216668000 | F287: 216668000 | G287: =C287-F287 -> 0
A288: AGYA 1.2 G CVT LUX | B288: A351GA/T00Y | C288: 232868000 | F288: 232868000 | G288: =C288-F288 -> 0
A289: AGYA STYLIX 1.2 G CVT LUX | B289: A351GA/T10Y | C289: 236368000 | F289: 236368000 | G289: =C289-F289 -> 0
A290: AGYA 1.2 GR M/T (One Tone) LUX | B290: A351GRM/T00Y | C290: 281968000 | F290: 281968000 | G290: =C290-F290 -> 0
A291: AGYA 1.2 GR M/T (Two Tone) LUX | B291: A351GRM/T01Y | C291: 284468000 | F291: 284468000 | G291: =C291-F291 -> 0
A292: AGYA 1.2 GR CVT (One Tone) LUX | B292: A351GRA/T00Y | C292: 298468000 | F292: 298468000 | G292: =C292-F292 -> 0
A293: AGYA 1.2 GR CVT (Two Tone) LUX | B293: A351GRA/T01Y | C293: 301068000 | F293: 301068000 | G293: =C293-F293 -> 0
A294: AGYA 1.2 GR-S M/T (One Tone) Non-Premium LUX | B294: A351GRM/T10Y | C294: 272668000 | F294: 272668000 | G294: =C294-F294 -> 0
A295: AGYA 1.2 GR-S M/T (Two Tone) Non-Premium LUX | B295: A351GRM/T11Y | C295: 275168000 | F295: 275168000 | G295: =C295-F295 -> 0
A296: AGYA 1.2 GR-S CVT (One Tone) Non-Premium LUX | B296: A351GRA/T10Y | C296: 289368000 | F296: 289368000 | G296: =C296-F296 -> 0
A297: AGYA 1.2 GR-S CVT (Two Tone) Non-Premium LUX | B297: A351GRA/T11Y | C297: 291968000 | F297: 291968000 | G297: =C297-F297 -> 0
A298: CALYA 1.2 E MT STD LUX | B298: B40EM/T21 | C298: 206135000 | D298: Calya Lux: Side Visor & Mud Guard | F298: 206445000 | G298: =C298-F298 -> -310000
A299: CALYA 1.2 E MT LUX | B299: B40EM/T20 | C299: 209035000 | F299: 209345000 | G299: =C299-F299 -> -310000
A300: CALYA 1.2 G MT LUX | B300: B40GM/T20 | C300: 214735000 | F300: 215045000 | G300: =C300-F300 -> -310000
A301: CALYA 1.2 G AT LUX | B301: B40GA/T20 | C301: 229135000 | F301: 229445000 | G301: =C301-F301 -> -310000
A302: CALYA 1.2 E MT STD BASIC | B302: B40EM/T21FBY | C302: 206135000 | F302: 206445000 | G302: =C302-F302 -> -310000
A303: CALYA 1.2 E MT BASIC | B303: B40EM/T20FAY | C303: 209035000 | F303: 209345000 | G303: =C303-F303 -> -310000
A304: CALYA 1.2 G MT BASIC | B304: B40GM/T20FAY | C304: 214735000 | F304: 215045000 | G304: =C304-F304 -> -310000
A305: CALYA 1.2 G AT BASIC | B305: B40GA/T20FAY | C305: 229135000 | F305: 229445000 | G305: =C305-F305 -> -310000
A306: AVANZA 1.3 E M/T LUX | B306: W00EM/T00Y | C306: 279920000 | D306: Avanza Lux: Front Grille Ornament & Side Body Moulding Gunmetal | F306: 279920000 | G306: =C306-F306 -> 0
A307: AVANZA 1.3 E CVT LUX | B307: W00EA/T00Y | C307: 294920000 | F307: 294920000 | G307: =C307-F307 -> 0
A308: AVANZA 1.5 G M/T LUX | B308: W01GM/T00Y | C308: 302920000 | F308: 302920000 | G308: =C308-F308 -> 0
A309: AVANZA 1.5 G CVT LUX | B309: W01GA/T00Y | C309: 317720000 | F309: 317720000 | G309: =C309-F309 -> 0
A310: AVANZA 1.3 E M/T LUX | B310: W00EM/T00GAY | C310: 279920000 | F310: 279920000 | G310: =C310-F310 -> 0
...

Sheet OTR srg
A3: SURAT KEPUTUSAN
A4: NO. SK/001/TSO.OPR/XI/2025
A6: HARGA KENDARAAN TOYOTA
A7: REGULAR ORDER
A8: WILAYAH : SERANG & BALARAJA (PLAT NOMOR "A")
A9: Per 1 November 2025 | F9: N-1 | G9: SELISIH
A11: TYPE | B11: KODE TIPE | C11: ON THE ROAD | D11: KETERANGAN | F11: ON THE ROAD | G11: ON THE ROAD
A12: All New Vios 1.5 G CVT | B12: NGC102GA/T00 | C12: 375000000 | F12: 375000000 | G12: =C12-F12 -> 0
A13: All New Vios 1.5 G TSS CVT | B13: NGC102GA/T01 | C13: 388200000 | F13: 388200000 | G13: =C13-F13 -> 0
A14: COROLLA ALTIS 1.8 V A/T | B14: ZE211VA/T24 | C14: 584300000 | F14: 584300000 | G14: =C14-F14 -> 0
A15: COROLLA ALTIS 1.8 V A/T (Premium Color) | B15: ZE211VA/T25 | C15: 587300000 | F15: 587300000 | G15: =C15-F15 -> 0
A16: COROLLA ALTIS 1.8L HYBRID A/T | B16: ZE211LA/T26 | C16: 637800000 | F16: 637800000 | G16: =C16-F16 -> 0
A17: COROLLA ALTIS 1.8L HYBRID A/T (Premium Color) | B17: ZE211LA/T27 | C17: 640900000 | F17: 640900000 | G17: =C17-F17 -> 0
A18: COROLLA ALTIS 1.8L HYBRID A/T GR-S | B18: ZE211LA/T28 | C18: 645200000 | F18: 645200000 | G18: =C18-F18 -> 0
A19: COROLLA ALTIS 1.8L HYBRID A/T GR-S (Premium Color) | B19: ZE211LA/T29 | C19: 648300000 | F19: 648300000 | G19: =C19-F19 -> 0
A20: COROLLA CROSS 1.8 HYBRID A/T | B20: ZVG10A/T31 | C20: 608500000 | F20: 608500000 | G20: =C20-F20 -> 0
A21: COROLLA CROSS 1.8 HYBRID A/T(Premium Color) | B21: ZVG10A/T32 | C21: 611600000 | F21: 611600000 | G21: =C21-F21 -> 0
A22: COROLLA CROSS 1.8 HYBRID GR-S A/T | B22: ZVG10A/T41 | C22: 648300000 | F22: 648300000 | G22: =C22-F22 -> 0
A23: COROLLA CROSS 1.8 HYBRID GR-S A/T (Premium Color) | B23: ZVG10A/T42 | C23: 653400000 | F23: 653400000 | G23: =C23-F23 -> 0
... A222: Bz4X A/T ex-KTT Vin 2023 (With Wall Charger) | B222: XEA10EVB1 | C222: 1246500000 | F222: 1246500000 | G222: =C222-F222 -> 0
A223: Jakarta, 1 Oktober 2025
A224: 1. Tarif BBNKB menggunakan tarif kepemilikan unit kedua
A225: 2. Dyna, Hilux, Hi Ace sudah termasuk Keur.
A226: 3. LC 300 unit tergantung ketersediaan barang
A229: SURAT KEPUTUSAN
A230: NO. SK/001/TSO.OPR/VIII/2025
A232: HARGA KENDARAAN TOYOTA
A233: PRIME SERIES
A234: WILAYAH : SERANG & BALARAJA (PLAT NOMOR "A")
A235: Per 1 Oktober 2025 | F235: N-1 | G235: SELISIH
A237: TYPE | B237: KODE TIPE | C237: ON THE ROAD | D237: KETERANGAN | F237: ON THE ROAD | G237: ON THE ROAD
A238: AGYA 1.2 G CVT PRIME | B238: A351GA/T00CA | C238: 201400000 | D238: CA, CB: Premium Horn, DVR | F238: 201400000 | G238: =C238-F238 -> 0
A239: AGYA STYLIX 1.2 G CVT PRIME | B239: A351GA/T10CB | C239: 204900000 | F239: 204900000 | G239: =C239-F239 -> 0
A240: AGYA 1.2 G M/T PRIME | B240: A351GM/T00CA | C240: 185300000 | F240: 185300000 | G240: =C240-F240 -> 0
A241: CALYA 1.2 G MT PRIME | B241: B40GM/T20CA | C241: 182500000 | D241: CA: Side Visor, Foglamp Ornament, Door Handle Protector | F241: 182500000 | G241: =C241-F241 -> 0
A242: CALYA 1.2 G AT PRIME | B242: B40GA/T20CA | C242: 196900000 | F242: 196900000 | G242: =C242-F242 -> 0
A243: AVANZA 1.3 E M/T PRIME | B243: W00EM/T00DA | C243: 247800000 | D243: DA: Cargo Net, Front Grille Ornament, Side Body Moulding Gunmental | F243: 247800000 | G243: =C243-F243 -> 0
A244: AVANZA 1.5 G CVT PRIME | B244: W01GA/T00DA | C244: 285700000 | F244: 285700000 | G244: =C244-F244 -> 0
A245: AVANZA 1.5 G M/T PRIME | B245: W01GM/T00DA | C245: 270800000 | F245: 270800000 | G245: =C245-F245 -> 0
A246: VELOZ 1.5 M/T (Premium Color) PRIME | B246: W01VM/T01BF | C246: 303500000 | D246: BC, BF, BK: Back Door Galss Chrome Ornament, Air Purifier | F246: 303500000 | G246: =C246-F246 -> 0
A247: VELOZ 1.5 CVT PRIME | B247: W01VA/T00BC | C247: 317800000 | F247: 317800000 | G247: =C247-F247 -> 0
A248: VELOZ 1.5 Q CVT (Premium Color) PRIME | B248: W01QVA/T02BK | C248: 328500000 | F248: 328500000 | G248: =C248-F248 -> 0
A249: NEW RUSH 1.5 G M/T PRIME | B249: F80GM/T30AA | C249: 293100000 | D249: AA, AD: Spare Tire Cover, Cargo Net, dan Sporty Outer Mirror | F249: 293100000 | G249: =C249-F249 -> 0
A250: NEW RUSH 1.5 G A/T PRIME | B250: F80GA/T30AA | C250: 304200000 | F250: 304200000 | G250: =C250-F250 -> 0
A251: NEW RUSH 1.5 S M/T GR SPORT PRIME | B251: F80SM/T40AD | C251: 308300000 | F251: 308300000 | G251: =C251-F251 -> 0
A252: NEW RUSH 1.5 S A/T GR SPORT PRIME | B252: F80SA/T40AD | C252: 319000000 | F252: 319000000 | G252: =C252-F252 -> 0
A253: KIJANG INNOVA 2.0 G M/T BSN PRIME | B253: TGN40GM/T30FA | C253: 391000000 | D253: FA: Spare Tire Cover, Rear Bumper Ornament, dan Rear Bumper Step Guard | F253: 391000000 | G253: =C253-F253 -> 0
A254: KIJANG INNOVA 2.4 G A/T DSL PRIME | B254: GUN14GA/T20FA | C254: 441100000 | F254: 441100000 | G254: =C254-F254 -> 0
A255: KIJANG INNOVA 2.4 G M/T DSL PRIME | B255: GUN14GM/T20FA | C255: 419400000 | F255: 419400000 | G255: =C255-F255 -> 0
A256: LAND CRUISER 300 VX-R 4x4 A/T PRIME | B256: FJA300VA/T14DA | C256: 2621300000 | D256: DA: Rear view Electric Mirror & Rubber Floor mat | F256: 2621300000 | G256: =C256-F256 -> 0
A257: LAND CRUISER 300 GR-S 4x4 A/T PRIME | B257: FJA300GA/T18DA | C257: 2707600000 | F257: 2707600000 | G257: =C257-F257 -> 0
A258: INNOVA ZENIX 2.0 G CVT PRIME | B258: MAG10GA/T00BC | C258: 441000000 | D258: BC, BD, BE, BF: Multifunction Box, Storage Organizer, Black Outer Mirror Cover, Spare Tire Cover, Premium Horn | F258: 441000000 | G258: =C258-F258 -> 0
A259: INNOVA ZENIX 2.0 G CVT (Premium Color) PRIME | B259: MAG10GA/T01BD | C259: 443900000 | F259: 443900000 | G259: =C259-F259 -> 0
A260: INNOVA ZENIX 2.0 V CVT PRIME | B260: MAG10VA/T00BE | C260: 486100000 | F260: 486100000 | G260: =C260-F260 -> 0
A261: INNOVA ZENIX 2.0 V CVT (Premium Color) PRIME | B261: MAG10VA/T01BF | C261: 489000000 | F261: 489000000 | G261: =C261-F261 -> 0
A262: INNOVA ZENIX 2.0 G HV CVT (Premium Color) PRIME | B262: MAG10GHA/T01BD | C262: 481200000 | F262: 481200000 | G262: =C262-F262 -> 0
A263: INNOVA ZENIX 2.0 V HV Modelista CVT PRIME | B263: MAG10VHA/T00BC | C263: 551500000 | F263: 551500000 | G263: =C263-F263 -> 0
A264: INNOVA ZENIX 2.0 V HV Modelista CVT (Premium Color) PRIME | B264: MAG10VHA/T01BD | C264: 554500000 | F264: 554500000 | G264: =C264-F264 -> 0
A265: INNOVA ZENIX 2.0 Q HV Modelista CVT TSS PRIME | B265: MAG10QHA/T00BC | C265: 628700000 | F265: 628700000 | G265: =C265-F265 -> 0
A266: INNOVA ZENIX 2.0 Q HV Modelista CVT TSS (Premium Color) PRIME | B266: MAG10QHA/T01BD | C266: 631600000 | F266: 631600000 | G266: =C266-F266 -> 0
A267: RAIZE 1.0T G M/T ONE TONE PRIME | B267: A250GM/T00DA | C267: 266400000 | D267: DA, DE, DG: Cargo Net, Air Purifier | F267: 266400000 | G267: =C267-F267 -> 0
A268: RAIZE 1.0T G CVT ONE TONE PRIME | B268: A250GA/T00DA | C268: 281600000 | F268: 281600000 | G268: =C268-F268 -> 0
A269: RAIZE 1.0T GR-S CVT ONE TONE PRIME | B269: A250SA/T20DE | C269: 295700000 | F269: 295700000 | G269: =C269-F269 -> 0
A270: RAIZE 1.0T GR-S CVT TWO TONE PRIME | B270: A250SA/T21DG | C270: 298300000 | F270: 298300000 | G270: =C270-F270 -> 0
A271: RAIZE 1.2 G M/T ONE TONE PRIME | B271: A251GM/T00DA | C271: 246700000 | F271: 246700000 | G271: =C271-F271 -> 0
A272: RAIZE 1.2 G CVT ONE TONE PRIME | B272: A251GA/T00DA | C272: 261700000 | F272: 261700000 | G272: =C272-F272 -> 0
A273: FORTUNER 2.8 VRZ WITH GR AERO TSS 4X2 A/T ONE TONE PRIME | B273: GUN166VA/T31BF | C273: 680300000 | D273: BF, BH: Spare Tire Cover, Sporty Door Handle, Housing Protector, and Mirror Cover, and Premium Horn | F273: 680300000 | G273: =C273-F273 -> 0
A274: FORTUNER 2.8 VRZ 4X4 A/T GR-S TSS ONE TONE PRIME | B274: GUN156VA/T33BH | C274: 788700000 | F274: 788700000 | G274: =C274-F274 -> 0
A277: SURAT KEPUTUSAN
A278: NO. SK/001/TSO.OPR/VIII/2025
A280: HARGA KENDARAAN TOYOTA
A281: LUX ORDER
A282: WILAYAH : SERANG & BALARAJA (PLAT NOMOR "A")
A283: Per 1 Oktober 2025 | F283: N-1 | G283: SELISIH
A285: TYPE | B285: KODE TIPE | C285: ON THE ROAD | D285: KETERANGAN | F285: ON THE ROAD | G285: ON THE ROAD
A286: AGYA 1.2 E M/T LUX | B286: A351EM/T00Y | C286: 210568000 | F286: 210568000 | G286: =C286-F286 -> 0
A287: AGYA 1.2 G M/T LUX | B287: A351GM/T00Y | C287: 217968000 | F287: 217968000 | G287: =C287-F287 -> 0
A288: AGYA 1.2 G CVT LUX | B288: A351GA/T00Y | C288: 234068000 | F288: 234068000 | G288: =C288-F288 -> 0
A289: AGYA STYLIX 1.2 G CVT LUX | B289: A351GA/T10Y | C289: 237568000 | F289: 237568000 | G289: =C289-F289 -> 0
A290: AGYA 1.2 GR M/T (One Tone) LUX | B290: A351GRM/T00Y | C290: 283568000 | F290: 283568000 | G290: =C290-F290 -> 0
A291: AGYA 1.2 GR M/T (Two Tone) LUX | B291: A351GRM/T01Y | C291: 285968000 | F291: 285968000 | G291: =C291-F291 -> 0
A292: AGYA 1.2 GR CVT (One Tone) LUX | B292: A351GRA/T00Y | C292: 299968000 | F292: 299968000 | G292: =C292-F292 -> 0
A293: AGYA 1.2 GR CVT (Two Tone) LUX | B293: A351GRA/T01Y | C293: 302468000 | F293: 302468000 | G293: =C293-F293 -> 0
A294: AGYA 1.2 GR-S M/T (One Tone) Non-Premium LUX | B294: A351GRM/T10Y | C294: 274168000 | F294: 274168000 | G294: =C294-F294 -> 0
A295: AGYA 1.2 GR-S M/T (Two Tone) Non-Premium LUX | B295: A351GRM/T11Y | C295: 276668000 | F295: 276668000 | G295: =C295-F295 -> 0
A296: AGYA 1.2 GR-S CVT (One Tone) Non-Premium LUX | B296: A351GRA/T10Y | C296: 290768000 | F296: 290768000 | G296: =C296-F296 -> 0
A297: AGYA 1.2 GR-S CVT (Two Tone) Non-Premium LUX | B297: A351GRA/T11Y | C297: 293468000 | F297: 293468000 | G297: =C297-F297 -> 0
A298: CALYA 1.2 E MT STD LUX | B298: B40EM/T21 | C298: 213035000 | D298: Calya Lux: Side Visor & Mud Guard | F298: 213345000 | G298: =C298-F298 -> -310000
A299: CALYA 1.2 E MT LUX | B299: B40EM/T20 | C299: 216235000 | F299: 216545000 | G299: =C299-F299 -> -310000
A300: CALYA 1.2 G MT LUX | B300: B40GM/T20 | C300: 221835000 | F300: 222145000 | G300: =C300-F300 -> -310000
A301: CALYA 1.2 G AT LUX | B301: B40GA/T20 | C301: 236235000 | F301: 236545000 | G301: =C301-F301 -> -310000
A302: CALYA 1.2 E MT STD BASIC | B302: B40EM/T21FBY | C302: 213035000 | F302: 213345000 | G302: =C302-F302 -> -310000
A303: CALYA 1.2 E MT BASIC | B303: B40EM/T20FAY | C303: 216235000 | F303: 216545000 | G303: =C303-F303 -> -310000
A304: CALYA 1.2 G MT BASIC | B304: B40GM/T20FAY | C304: 221835000 | F304: 222145000 | G304: =C304-F304 -> -310000
A305: CALYA 1.2 G AT BASIC | B305: B40GA/T20FAY | C305: 236235000 | F305: 236545000 | G305: =C305-F305 -> -310000
A306: AVANZA 1.3 E M/T LUX | B306: W00EM/T00Y | C306: 281420000 | D306: Avanza Lux: Front Grille Ornament & Side Body Moulding Gunmetal | F306: 281420000 | G306: =C306-F306 -> 0
A307: AVANZA 1.3 E CVT LUX | B307: W00EA/T00Y | C307: 296520000 | F307: 296520000 | G307: =C307-F307 -> 0
A308: AVANZA 1.5 G M/T LUX | B308: W01GM/T00Y | C308: 304420000 | F308: 304420000 | G308: =C308-F308 -> 0
A309: AVANZA 1.5 G CVT LUX | B309: W01GA/T00Y | C309: 319320000 | F309: 319320000 | G309: =C309-F309 -> 0
A310: AVANZA 1.3 E M/T LUX | B310: W00EM/T00Y | C310: 281420000 | F310: 281420000 | G310: =C310-F310 -> 0
...

Sheet OTR bgr
A3: SURAT KEPUTUSAN
A4: NO. SK/001/TSO.OPR/XI/2025
A6: HARGA KENDARAAN TOYOTA
A7: REGULAR ORDER
A8: WILAYAH : BOGOR
A9: Per 1 November 2025 | F9: N-1 | G9: SELISIH
A11: TYPE | B11: KODE TIPE | C11: ON THE ROAD | D11: KETERANGAN | F11: ON THE ROAD | G11: ON THE ROAD
A12: All New Vios 1.5 G CVT | B12: NGC102GA/T00 | C12: 377300000 | F12: 377300000 | G12: =C12-F12 -> 0
A13: All New Vios 1.5 G TSS CVT | B13: NGC102GA/T01 | C13: 390500000 | F13: 390500000 | G13: =C13-F13 -> 0
A14: COROLLA ALTIS 1.8 V A/T | B14: ZE211VA/T24 | C14: 586500000 | F14: 586500000 | G14: =C14-F14 -> 0
A15: COROLLA ALTIS 1.8 V A/T (Premium Color) | B15: ZE211VA/T25 | C15: 589500000 | F15: 589500000 | G15: =C15-F15 -> 0
A16: COROLLA ALTIS 1.8L HYBRID A/T | B16: ZE211LA/T26 | C16: 640100000 | F16: 640100000 | G16: =C16-F16 -> 0
A17: COROLLA ALTIS 1.8L HYBRID A/T (Premium Color) | B17: ZE211LA/T27 | C17: 643200000 | F17: 643200000 | G17: =C17-F17 -> 0
A18: COROLLA ALTIS 1.8L HYBRID A/T GR-S | B18: ZE211LA/T28 | C18: 647500000 | F18: 647500000 | G18: =C18-F18 -> 0
A19: COROLLA ALTIS 1.8L HYBRID A/T GR-S (Premium Color) | B19: ZE211LA/T29 | C19: 650600000 | F19: 650600000 | G19: =C19-F19 -> 0
A20: COROLLA CROSS 1.8 HYBRID A/T | B20: ZVG10A/T31 | C20: 608800000 | F20: 608800000 | G20: =C20-F20 -> 0
A21: COROLLA CROSS 1.8 HYBRID A/T(Premium Color) | B21: ZVG10A/T32 | C21: 611900000 | F21: 611900000 | G21: =C21-F21 -> 0
A22: COROLLA CROSS 1.8 HYBRID GR-S A/T | B22: ZVG10A/T41 | C22: 648500000 | F22: 648500000 | G22: =C22-F22 -> 0
A23: COROLLA CROSS 1.8 HYBRID GR-S A/T (Premium Color) | B23: ZVG10A/T42 | C23: 653600000 | F23: 653600000 | G23: =C23-F23 -> 0
... A222: Bz4X A/T ex-KTT Vin 2023 (With Wall Charger) | B222: XEA10EVB1 | C222: 1248500000 | F222: 1248500000 | G222: =C222-F222 -> 0
A223: Jakarta, 1 Oktober 2025
A224: 1. Tarif BBNKB menggunakan tarif kepemilikan unit kedua
A225: 2. Dyna, Hilux, Hi Ace sudah termasuk Keur.
A226: 3. LC 300 unit tergantung ketersediaan barang
A229: SURAT KEPUTUSAN
A230: NO. SK/001/TSO.OPR/VIII/2025
A232: HARGA KENDARAAN TOYOTA
A233: PRIME SERIES
A234: WILAYAH : BOGOR
A235: Per 1 Oktober 2025 | F235: N-1 | G235: SELISIH
A237: TYPE | B237: KODE TIPE | C237: ON THE ROAD | D237: KETERANGAN | F237: ON THE ROAD | G237: ON THE ROAD
A238: AGYA 1.2 G CVT PRIME | B238: A351GA/T00CA | C238: 203500000 | D238: CA, CB: Premium Horn, DVR | F238: 203500000 | G238: =C238-F238 -> 0
A239: AGYA STYLIX 1.2 G CVT PRIME | B239: A351GA/T10CB | C239: 207000000 | F239: 207000000 | G239: =C239-F239 -> 0
A240: AGYA 1.2 G M/T PRIME | B240: A351GM/T00CA | C240: 187400000 | F240: 187400000 | G240: =C240-F240 -> 0
A241: CALYA 1.2 G MT PRIME | B241: B40GM/T20CA | C241: 184600000 | D241: CA: Side Visor, Foglamp Ornament, Door Handle Protector | F241: 184600000 | G241: =C241-F241 -> 0
A242: CALYA 1.2 G AT PRIME | B242: B40GA/T20CA | C242: 199000000 | F242: 199000000 | G242: =C242-F242 -> 0
A243: AVANZA 1.3 E M/T PRIME | B243: W00EM/T00DA | C243: 250000000 | D243: DA: Cargo Net, Front Grille Ornament, Side Body Moulding Gunmental | F243: 250000000 | G243: =C243-F243 -> 0
A244: AVANZA 1.5 G CVT PRIME | B244: W01GA/T00DA | C244: 287800000 | F244: 287800000 | G244: =C244-F244 -> 0
A245: AVANZA 1.5 G M/T PRIME | B245: W01GM/T00DA | C245: 272900000 | F245: 272900000 | G245: =C245-F245 -> 0
A246: VELOZ 1.5 M/T (Premium Color) PRIME | B246: W01VM/T01BF | C246: 305600000 | D246: BC, BF, BK: Back Door Galss Chrome Ornament, Air Purifier | F246: 305600000 | G246: =C246-F246 -> 0
A247: VELOZ 1.5 CVT PRIME | B247: W01VA/T00BC | C247: 319900000 | F247: 319900000 | G247: =C247-F247 -> 0
A248: VELOZ 1.5 Q CVT (Premium Color) PRIME | B248: W01QVA/T02BK | C248: 330600000 | F248: 330600000 | G248: =C248-F248 -> 0
A249: NEW RUSH 1.5 G M/T PRIME | B249: F80GM/T30AA | C249: 298500000 | D249: AA, AD: Spare Tire Cover, Cargo Net, dan Sporty Outer Mirror | F249: 298500000 | G249: =C249-F249 -> 0
A250: NEW RUSH 1.5 G A/T PRIME | B250: F80GA/T30AA | C250: 309300000 | F250: 309300000 | G250: =C250-F250 -> 0
A251: NEW RUSH 1.5 S M/T GR SPORT PRIME | B251: F80SM/T40AD | C251: 313600000 | F251: 313600000 | G251: =C251-F251 -> 0
A252: NEW RUSH 1.5 S A/T GR SPORT PRIME | B252: F80SA/T40AD | C252: 324600000 | F252: 324600000 | G252: =C252-F252 -> 0
A253: KIJANG INNOVA 2.0 G M/T BSN PRIME | B253: TGN40GM/T30FA | C253: 396900000 | D253: FA: Spare Tire Cover, Rear Bumper Ornament, dan Rear Bumper Step Guard | F253: 396900000 | G253: =C253-F253 -> 0
A254: KIJANG INNOVA 2.4 G A/T DSL PRIME | B254: GUN14GA/T20FA | C254: 445800000 | F254: 445800000 | G254: =C254-F254 -> 0
A255: KIJANG INNOVA 2.4 G M/T DSL PRIME | B255: GUN14GM/T20FA | C255: 424200000 | F255: 424200000 | G255: =C255-F255 -> 0
A256: LAND CRUISER 300 VX-R 4x4 A/T PRIME | B256: FJA300VA/T14DA | C256: 2623800000 | D256: DA: Rear view Electric Mirror & Rubber Floor mat | F256: 2623800000 | G256: =C256-F256 -> 0
A257: LAND CRUISER 300 GR-S 4x4 A/T PRIME | B257: FJA300GA/T18DA | C257: 2711000000 | F257: 2711000000 | G257: =C257-F257 -> 0
A258: INNOVA ZENIX 2.0 G CVT PRIME | B258: MAG10GA/T00BC | C258: 443100000 | D258: BC, BD, BE, BF: Multifunction Box, Storage Organizer, Black Outer Mirror Cover, Spare Tire Cover, Premium Horn | F258: 443100000 | G258: =C258-F258 -> 0
A259: INNOVA ZENIX 2.0 G CVT (Premium Color) PRIME | B259: MAG10GA/T01BD | C259: 446100000 | F259: 446100000 | G259: =C259-F259 -> 0
A260: INNOVA ZENIX 2.0 V CVT PRIME | B260: MAG10VA/T00BE | C260: 488100000 | F260: 488100000 | G260: =C260-F260 -> 0
A261: INNOVA ZENIX 2.0 V CVT (Premium Color) PRIME | B261: MAG10VA/T01BF | C261: 491100000 | F261: 491100000 | G261: =C261-F261 -> 0
A262: INNOVA ZENIX 2.0 G HV CVT (Premium Color) PRIME | B262: MAG10GHA/T01BD | C262: 483300000 | F262: 483300000 | G262: =C262-F262 -> 0
A263: INNOVA ZENIX 2.0 V HV Modelista CVT PRIME | B263: MAG10VHA/T00BC | C263: 555600000 | F263: 555600000 | G263: =C263-F263 -> 0
A264: INNOVA ZENIX 2.0 V HV Modelista CVT (Premium Color) PRIME | B264: MAG10VHA/T01BD | C264: 558500000 | F264: 558500000 | G264: =C264-F264 -> 0
A265: INNOVA ZENIX 2.0 Q HV Modelista CVT TSS PRIME | B265: MAG10QHA/T00BC | C265: 631000000 | F265: 631000000 | G265: =C265-F265 -> 0
A266: INNOVA ZENIX 2.0 Q HV Modelista CVT TSS (Premium Color) PRIME | B266: MAG10QHA/T01BD | C266: 633800000 | F266: 633800000 | G266: =C266-F266 -> 0
A267: RAIZE 1.0T G M/T ONE TONE PRIME | B267: A250GM/T00DA | C267: 268500000 | D267: DA, DE, DG: Cargo Net, Air Purifier | F267: 268500000 | G267: =C267-F267 -> 0
A268: RAIZE 1.0T G CVT ONE TONE PRIME | B268: A250GA/T00DA | C268: 283600000 | F268: 283600000 | G268: =C268-F268 -> 0
A269: RAIZE 1.0T GR-S CVT ONE TONE PRIME | B269: A250SA/T20DE | C269: 297800000 | F269: 297800000 | G269: =C269-F269 -> 0
A270: RAIZE 1.0T GR-S CVT TWO TONE PRIME | B270: A250SA/T21DG | C270: 300400000 | F270: 300400000 | G270: =C270-F270 -> 0
A271: RAIZE 1.2 G M/T ONE TONE PRIME | B271: A251GM/T00DA | C271: 248800000 | F271: 248800000 | G271: =C271-F271 -> 0
A272: RAIZE 1.2 G CVT ONE TONE PRIME | B272: A251GA/T00DA | C272: 263800000 | F272: 263800000 | G272: =C272-F272 -> 0
A273: FORTUNER 2.8 VRZ WITH GR AERO TSS 4X2 A/T ONE TONE PRIME | B273: GUN166VA/T31BF | C273: 682500000 | D273: BF, BH: Spare Tire Cover, Sporty Door Handle, Housing Protector, and Mirror Cover, and Premium Horn | F273: 682500000 | G273: =C273-F273 -> 0
A274: FORTUNER 2.8 VRZ 4X4 A/T GR-S TSS ONE TONE PRIME | B274: GUN156VA/T33BH | C274: 791200000 | F274: 791200000 | G274: =C274-F274 -> 0
A277: SURAT KEPUTUSAN
A278: NO. SK/001/TSO.OPR/VIII/2025
A280: HARGA KENDARAAN TOYOTA
A281: LUX ORDER
A282: WILAYAH : BOGOR
A283: Per 1 Oktober 2025 | F283: N-1 | G283: SELISIH
A285: TYPE | B285: KODE TIPE | C285: ON THE ROAD | D285: KETERANGAN | F285: ON THE ROAD | G285: ON THE ROAD
A286: AGYA 1.2 E M/T LUX | B286: A351EM/T00Y | C286: 212568000 | F286: 212568000 | G286: =C286-F286 -> 0
A287: AGYA 1.2 G M/T LUX | B287: A351GM/T00Y | C287: 220068000 | F287: 220068000 | G287: =C287-F287 -> 0
A288: AGYA 1.2 G CVT LUX | B288: A351GA/T00Y | C288: 236168000 | F288: 236168000 | G288: =C288-F288 -> 0
A289: AGYA STYLIX 1.2 G CVT LUX | B289: A351GA/T10Y | C289: 239668000 | F289: 239668000 | G289: =C289-F289 -> 0
A290: AGYA 1.2 GR M/T (One Tone) LUX | B290: A351GRM/T00Y | C290: 285668000 | F290: 285668000 | G290: =C290-F290 -> 0
A291: AGYA 1.2 GR M/T (Two Tone) LUX | B291: A351GRM/T01Y | C291: 288068000 | F291: 288068000 | G291: =C291-F291 -> 0
A292: AGYA 1.2 GR CVT (One Tone) LUX | B292: A351GRA/T00Y | C292: 302068000 | F292: 302068000 | G292: =C292-F292 -> 0
A293: AGYA 1.2 GR CVT (Two Tone) LUX | B293: A351GRA/T01Y | C293: 304668000 | F293: 304668000 | G293: =C293-F293 -> 0
A294: AGYA 1.2 GR-S M/T (One Tone) Non-Premium LUX | B294: A351GRM/T10Y | C294: 276268000 | F294: 276268000 | G294: =C294-F294 -> 0
A295: AGYA 1.2 GR-S M/T (Two Tone) Non-Premium LUX | B295: A351GRM/T11Y | C295: 278768000 | F295: 278768000 | G295: =C295-F295 -> 0
A296: AGYA 1.2 GR-S CVT (One Tone) Non-Premium LUX | B296: A351GRA/T10Y | C296: 292868000 | F296: 292868000 | G296: =C296-F296 -> 0
A297: AGYA 1.2 GR-S CVT (Two Tone) Non-Premium LUX | B297: A351GRA/T11Y | C297: 295568000 | F297: 295568000 | G297: =C297-F297 -> 0
A298: CALYA 1.2 E MT STD LUX | B298: B40EM/T21 | C298: 209635000 | D298: Calya Lux: Side Visor & Mud Guard | F298: 209945000 | G298: =C298-F298 -> -310000
A299: CALYA 1.2 E MT LUX | B299: B40EM/T20 | C299: 212935000 | F299: 213245000 | G299: =C299-F299 -> -310000
A300: CALYA 1.2 G MT LUX | B300: B40GM/T20 | C300: 218435000 | F300: 218745000 | G300: =C300-F300 -> -310000
A301: CALYA 1.2 G AT LUX | B301: B40GA/T20 | C301: 232835000 | F301: 233145000 | G301: =C301-F301 -> -310000
A302: CALYA 1.2 E MT STD BASIC | B302: B40EM/T21FBY | C302: 209635000 | F302: 209945000 | G302: =C302-F302 -> -310000
A303: CALYA 1.2 E MT BASIC | B303: B40EM/T20FAY | C303: 212935000 | F303: 213245000 | G303: =C303-F303 -> -310000
A304: CALYA 1.2 G MT BASIC | B304: B40GM/T20FAY | C304: 218435000 | F304: 218745000 | G304: =C304-F304 -> -310000
A305: CALYA 1.2 G AT BASIC | B305: B40GA/T20FAY | C305: 232835000 | F305: 233145000 | G305: =C305-F305 -> -310000
A306: AVANZA 1.3 E M/T LUX | B306: W00EM/T00Y | C306: 283620000 | D306: Avanza Lux: Front Grille Ornament & Side Body Moulding Gunmetal | F306: 283620000 | G306: =C306-F306 -> 0
A307: AVANZA 1.3 E CVT LUX | B307: W00EA/T00Y | C307: 298620000 | F307: 298620000 | G307: =C307-F307 -> 0
A308: AVANZA 1.5 G M/T LUX | B308: W01GM/T00Y | C308: 306520000 | F308: 306520000 | G308: =C308-F308 -> 0
A309: AVANZA 1.5 G CVT LUX | B309: W01GA/T00Y | C309: 321420000 | F309: 321420000 | G309: =C309-F309 -> 0
A310: AVANZA 1.3 E M/T LUX | B310: W00EM/T00Y | C310: 283620000 | F310: 283620000 | G310: =C310-F310 -> 0
...

Sheet OTR skb
A3: SURAT KEPUTUSAN
A4: NO. SK/001/TSO.OPR/XI/2025
A6: HARGA KENDARAAN TOYOTA
A7: REGULAR ORDER
A8: WILAYAH : SUKABUMI & CIANJUR
A9: Per 1 November 2025 | F9: N-1 | G9: SELISIH
A11: TYPE | B11: KODE TIPE | C11: ON THE ROAD | D11: KETERANGAN | F11: ON THE ROAD | G11: ON THE ROAD
A12: All New Vios 1.5 G CVT | B12: NGC102GA/T00 | C12: 377300000 | F12: 377300000 | G12: =C12-F12 -> 0
A13: All New Vios 1.5 G TSS CVT | B13: NGC102GA/T01 | C13: 390500000 | F13: 390500000 | G13: =C13-F13 -> 0
A14: COROLLA ALTIS 1.8 V A/T | B14: ZE211VA/T24 | C14: 586500000 | F14: 586500000 | G14: =C14-F14 -> 0
A15: COROLLA ALTIS 1.8 V A/T (Premium Color) | B15: ZE211VA/T25 | C15: 589500000 | F15: 589500000 | G15: =C15-F15 -> 0
A16: COROLLA ALTIS 1.8L HYBRID A/T | B16: ZE211LA/T26 | C16: 640100000 | F16: 640100000 | G16: =C16-F16 -> 0
A17: COROLLA ALTIS 1.8L HYBRID A/T (Premium Color) | B17: ZE211LA/T27 | C17: 643200000 | F17: 643200000 | G17: =C17-F17 -> 0
A18: COROLLA ALTIS 1.8L HYBRID A/T GR-S | B18: ZE211LA/T28 | C18: 647500000 | F18: 647500000 | G18: =C18-F18 -> 0
A19: COROLLA ALTIS 1.8L HYBRID A/T GR-S (Premium Color) | B19: ZE211LA/T29 | C19: 650600000 | F19: 650600000 | G19: =C19-F19 -> 0
A20: COROLLA CROSS 1.8 HYBRID A/T | B20: ZVG10A/T31 | C20: 608800000 | F20: 608800000 | G20: =C20-F20 -> 0
A21: COROLLA CROSS 1.8 HYBRID A/T(Premium Color) | B21: ZVG10A/T32 | C21: 611900000 | F21: 611900000 | G21: =C21-F21 -> 0
A22: COROLLA CROSS 1.8 HYBRID GR-S A/T | B22: ZVG10A/T41 | C22: 648500000 | F22: 648500000 | G22: =C22-F22 -> 0
A23: COROLLA CROSS 1.8 HYBRID GR-S A/T (Premium Color) | B23: ZVG10A/T42 | C23: 653600000 | F23: 653600000 | G23: =C23-F23 -> 0
... A222: Bz4X A/T ex-KTT Vin 2023 (With Wall Charger) | B222: XEA10EVB1 | C222: 1248500000 | F222: 1248500000 | G222: =C222-F222 -> 0
A223: Jakarta, 1 Oktober 2025
A224: 1. Tarif BBNKB menggunakan tarif kepemilikan unit kedua
A225: 2. Dyna, Hilux, Hi Ace sudah termasuk Keur.
A226: 3. LC 300 unit tergantung ketersediaan barang
A229: SURAT KEPUTUSAN
A230: NO. SK/001/TSO.OPR/VIII/2025
A232: HARGA KENDARAAN TOYOTA
A233: PRIME SERIES
A234: WILAYAH : SUKABUMI & CIANJUR
A235: Per 1 Oktober 2025 | F235: N-1 | G235: SELISIH
A237: TYPE | B237: KODE TIPE | C237: ON THE ROAD | D237: KETERANGAN | F237: ON THE ROAD | G237: ON THE ROAD
A238: AGYA 1.2 G CVT PRIME | B238: A351GA/T00CA | C238: 203500000 | D238: CA, CB: Premium Horn, DVR | F238: 203500000 | G238: =C238-F238 -> 0
A239: AGYA STYLIX 1.2 G CVT PRIME | B239: A351GA/T10CB | C239: 207000000 | F239: 207000000 | G239: =C239-F239 -> 0
A240: AGYA 1.2 G M/T PRIME | B240: A351GM/T00CA | C240: 187400000 | F240: 187400000 | G240: =C240-F240 -> 0
A241: CALYA 1.2 G MT PRIME | B241: B40GM/T20CA | C241: 184600000 | D241: CA: Side Visor, Foglamp Ornament, Door Handle Protector | F241: 184600000 | G241: =C241-F241 -> 0
A242: CALYA 1.2 G AT PRIME | B242: B40GA/T20CA | C242: 199000000 | F242: 199000000 | G242: =C242-F242 -> 0
A243: AVANZA 1.3 E M/T PRIME | B243: W00EM/T00DA | C243: 250000000 | D243: DA: Cargo Net, Front Grille Ornament, Side Body Moulding Gunmental | F243: 250000000 | G243: =C243-F243 -> 0
A244: AVANZA 1.5 G CVT PRIME | B244: W01GA/T00DA | C244: 287800000 | F244: 287800000 | G244: =C244-F244 -> 0
A245: AVANZA 1.5 G M/T PRIME | B245: W01GM/T00DA | C245: 272900000 | F245: 272900000 | G245: =C245-F245 -> 0
A246: VELOZ 1.5 M/T (Premium Color) PRIME | B246: W01VM/T01BF | C246: 305600000 | D246: BC, BF, BK: Back Door Galss Chrome Ornament, Air Purifier | F246: 305600000 | G246: =C246-F246 -> 0
A247: VELOZ 1.5 CVT PRIME | B247: W01VA/T00BC | C247: 319900000 | F247: 319900000 | G247: =C247-F247 -> 0
A248: VELOZ 1.5 Q CVT (Premium Color) PRIME | B248: W01QVA/T02BK | C248: 330600000 | F248: 330600000 | G248: =C248-F248 -> 0
A249: NEW RUSH 1.5 G M/T PRIME | B249: F80GM/T30AA | C249: 298500000 | D249: AA, AD: Spare Tire Cover, Cargo Net, dan Sporty Outer Mirror | F249: 298500000 | G249: =C249-F249 -> 0
A250: NEW RUSH 1.5 G A/T PRIME | B250: F80GA/T30AA | C250: 309300000 | F250: 309300000 | G250: =C250-F250 -> 0
A251: NEW RUSH 1.5 S M/T GR SPORT PRIME | B251: F80SM/T40AD | C251: 313600000 | F251: 313600000 | G251: =C251-F251 -> 0
A252: NEW RUSH 1.5 S A/T GR SPORT PRIME | B252: F80SA/T40AD | C252: 324600000 | F252: 324600000 | G252: =C252-F252 -> 0
A253: KIJANG INNOVA 2.0 G M/T BSN PRIME | B253: TGN40GM/T30FA | C253: 396900000 | D253: FA: Spare Tire Cover, Rear Bumper Ornament, dan Rear Bumper Step Guard | F253: 396900000 | G253: =C253-F253 -> 0
A254: KIJANG INNOVA 2.4 G A/T DSL PRIME | B254: GUN14GA/T20FA | C254: 445800000 | F254: 445800000 | G254: =C254-F254 -> 0
A255: KIJANG INNOVA 2.4 G M/T DSL PRIME | B255: GUN14GM/T20FA | C255: 424200000 | F255: 424200000 | G255: =C255-F255 -> 0
A256: LAND CRUISER 300 VX-R 4x4 A/T PRIME | B256: FJA300VA/T14DA | C256: 2623800000 | D256: DA: Rear view Electric Mirror & Rubber Floor mat | F256: 2623800000 | G256: =C256-F256 -> 0
A257: LAND CRUISER 300 GR-S 4x4 A/T PRIME | B257: FJA300GA/T18DA | C257: 2711000000 | F257: 2711000000 | G257: =C257-F257 -> 0
A258: INNOVA ZENIX 2.0 G CVT PRIME | B258: MAG10GA/T00BC | C258: 443100000 | D258: BC, BD, BE, BF: Multifunction Box, Storage Organizer, Black Outer Mirror Cover, Spare Tire Cover, Premium Horn | F258: 443100000 | G258: =C258-F258 -> 0
A259: INNOVA ZENIX 2.0 G CVT (Premium Color) PRIME | B259: MAG10GA/T01BD | C259: 446100000 | F259: 446100000 | G259: =C259-F259 -> 0
A260: INNOVA ZENIX 2.0 V CVT PRIME | B260: MAG10VA/T00BE | C260: 488100000 | F260: 488100000 | G260: =C260-F260 -> 0
A261: INNOVA ZENIX 2.0 V CVT (Premium Color) PRIME | B261: MAG10VA/T01BF | C261: 491100000 | F261: 491100000 | G261: =C261-F261 -> 0
A262: INNOVA ZENIX 2.0 G HV CVT (Premium Color) PRIME | B262: MAG10GHA/T01BD | C262: 483300000 | F262: 483300000 | G262: =C262-F262 -> 0
A263: INNOVA ZENIX 2.0 V HV Modelista CVT PRIME | B263: MAG10VHA/T00BC | C263: 555600000 | F263: 555600000 | G263: =C263-F263 -> 0
A264: INNOVA ZENIX 2.0 V HV Modelista CVT (Premium Color) PRIME | B264: MAG10VHA/T01BD | C264: 558500000 | F264: 558500000 | G264: =C264-F264 -> 0
A265: INNOVA ZENIX 2.0 Q HV Modelista CVT TSS PRIME | B265: MAG10QHA/T00BC | C265: 631000000 | F265: 631000000 | G265: =C265-F265 -> 0
A266: INNOVA ZENIX 2.0 Q HV Modelista CVT TSS (Premium Color) PRIME | B266: MAG10QHA/T01BD | C266: 633800000 | F266: 633800000 | G266: =C266-F266 -> 0
A267: RAIZE 1.0T G M/T ONE TONE PRIME | B267: A250GM/T00DA | C267: 268500000 | D267: DA, DE, DG: Cargo Net, Air Purifier | F267: 268500000 | G267: =C267-F267 -> 0
A268: RAIZE 1.0T G CVT ONE TONE PRIME | B268: A250GA/T00DA | C268: 283600000 | F268: 283600000 | G268: =C268-F268 -> 0
A269: RAIZE 1.0T GR-S CVT ONE TONE PRIME | B269: A250SA/T20DE | C269: 297800000 | F269: 297800000 | G269: =C269-F269 -> 0
A270: RAIZE 1.0T GR-S CVT TWO TONE PRIME | B270: A250SA/T21DG | C270: 300400000 | F270: 300400000 | G270: =C270-F270 -> 0
A271: RAIZE 1.2 G M/T ONE TONE PRIME | B271: A251GM/T00DA | C271: 248800000 | F271: 248800000 | G271: =C271-F271 -> 0
A272: RAIZE 1.2 G CVT ONE TONE PRIME | B272: A251GA/T00DA | C272: 263800000 | F272: 263800000 | G272: =C272-F272 -> 0
A273: FORTUNER 2.8 VRZ WITH GR AERO TSS 4X2 A/T ONE TONE PRIME | B273: GUN166VA/T31BF | C273: 682500000 | D273: BF, BH: Spare Tire Cover, Sporty Door Handle, Housing Protector, and Mirror Cover, and Premium Horn | F273: 682500000 | G273: =C273-F273 -> 0
A274: FORTUNER 2.8 VRZ 4X4 A/T GR-S TSS ONE TONE PRIME | B274: GUN156VA/T33BH | C274: 791200000 | F274: 791200000 | G274: =C274-F274 -> 0
A277: SURAT KEPUTUSAN
A278: NO. SK/001/TSO.OPR/VIII/2025
A280: HARGA KENDARAAN TOYOTA
A281: LUX ORDER
A282: WILAYAH : SUKABUMI & CIANJUR
A283: Per 1 Oktober 2025 | F283: N-1 | G283: SELISIH
A285: TYPE | B285: KODE TIPE | C285: ON THE ROAD | D285: KETERANGAN | F285: ON THE ROAD | G285: ON THE ROAD
A286: AGYA 1.2 E M/T LUX | B286: A351EM/T00Y | C286: 212568000 | F286: 212568000 | G286: =C286-F286 -> 0
A287: AGYA 1.2 G M/T LUX | B287: A351GM/T00Y | C287: 220068000 | F287: 220068000 | G287: =C287-F287 -> 0
A288: AGYA 1.2 G CVT LUX | B288: A351GA/T00Y | C288: 236168000 | F288: 236168000 | G288: =C288-F288 -> 0
A289: AGYA STYLIX 1.2 G CVT LUX | B289: A351GA/T10Y | C289: 239668000 | F289: 239668000 | G289: =C289-F289 -> 0
A290: AGYA 1.2 GR M/T (One Tone) LUX | B290: A351GRM/T00Y | C290: 285668000 | F290: 285668000 | G290: =C290-F290 -> 0
A291: AGYA 1.2 GR M/T (Two Tone) LUX | B291: A351GRM/T01Y | C291: 288068000 | F291: 288068000 | G291: =C291-F291 -> 0
A292: AGYA 1.2 GR CVT (One Tone) LUX | B292: A351GRA/T00Y | C292: 302068000 | F292: 302068000 | G292: =C292-F292 -> 0
A293: AGYA 1.2 GR CVT (Two Tone) LUX | B293: A351GRA/T01Y | C293: 304668000 | F293: 304668000 | G293: =C293-F293 -> 0
A294: AGYA 1.2 GR-S M/T (One Tone) Non-Premium LUX | B294: A351GRM/T10Y | C294: 276268000 | F294: 276268000 | G294: =C294-F294 -> 0
A295: AGYA 1.2 GR-S M/T (Two Tone) Non-Premium LUX | B295: A351GRM/T11Y | C295: 278768000 | F295: 278768000 | G295: =C295-F295 -> 0
A296: AGYA 1.2 GR-S CVT (One Tone) Non-Premium LUX | B296: A351GRA/T10Y | C296: 292868000 | F296: 292868000 | G296: =C296-F296 -> 0
A297: AGYA 1.2 GR-S CVT (Two Tone) Non-Premium LUX | B297: A351GRA/T11Y | C297: 295568000 | F297: 295568000 | G297: =C297-F297 -> 0
A298: CALYA 1.2 E MT STD LUX | B298: B40EM/T21 | C298: 209635000 | D298: Calya Lux: Side Visor & Mud Guard | F298: 209945000 | G298: =C298-F298 -> -310000
A299: CALYA 1.2 E MT LUX | B299: B40EM/T20 | C299: 212935000 | F299: 213245000 | G299: =C299-F299 -> -310000
A300: CALYA 1.2 G MT LUX | B300: B40GM/T20 | C300: 218435000 | F300: 218745000 | G300: =C300-F300 -> -310000
A301: CALYA 1.2 G AT LUX | B301: B40GA/T20 | C301: 232835000 | F301: 233145000 | G301: =C301-F301 -> -310000
A302: CALYA 1.2 E MT STD BASIC | B302: B40EM/T21FBY | C302: 209635000 | F302: 209945000 | G302: =C302-F302 -> -310000
A303: CALYA 1.2 E MT BASIC | B303: B40EM/T20FAY | C303: 212935000 | F303: 213245000 | G303: =C303-F303 -> -310000
A304: CALYA 1.2 G MT BASIC | B304: B40GM/T20FAY | C304: 218435000 | F304: 218745000 | G304: =C304-F304 -> -310000
A305: CALYA 1.2 G AT BASIC | B305: B40GA/T20FAY | C305: 232835000 | F305: 233145000 | G305: =C305-F305 -> -310000
A306: AVANZA 1.3 E M/T LUX | B306: W00EM/T00Y | C306: 283620000 | D306: Avanza Lux: Front Grille Ornament & Side Body Moulding Gunmetal | F306: 283620000 | G306: =C306-F306 -> 0
A307: AVANZA 1.3 E CVT LUX | B307: W00EA/T00Y | C307: 298620000 | F307: 298620000 | G307: =C307-F307 -> 0
A308: AVANZA 1.5 G M/T LUX | B308: W01GM/T00Y | C308: 306520000 | F308: 306520000 | G308: =C308-F308 -> 0
A309: AVANZA 1.5 G CVT LUX | B309: W01GA/T00Y | C309: 321420000 | F309: 321420000 | G309: =C309-F309 -> 0
A310: AVANZA 1.3 E M/T LUX | B310: W00EM/T00Y | C310: 283620000 | F310: 283620000 | G310: =C310-F310 -> 0
...

Sheet OTR bdg
A3: SURAT KEPUTUSAN
A4: NO. SK/001/TSO.OPR/XI/2025
A6: HARGA KENDARAAN TOYOTA
A7: REGULAR ORDER
A8: WILAYAH : BANDUNG
A9: Per 1 November 2025 | F9: N-1 | G9: SELISIH
A11: TYPE | B11: KODE TIPE | C11: ON THE ROAD | D11: KETERANGAN | F11: ON THE ROAD | G11: ON THE ROAD
A12: All New Vios 1.5 G CVT | B12: NGC102GA/T00 | C12: 377300000 | F12: 377300000 | G12: =C12-F12 -> 0
A13: All New Vios 1.5 G TSS CVT | B13: NGC102GA/T01 | C13: 390500000 | F13: 390500000 | G13: =C13-F13 -> 0
A14: COROLLA ALTIS 1.8 V A/T | B14: ZE211VA/T24 | C14: 586500000 | F14: 586500000 | G14: =C14-F14 -> 0
A15: COROLLA ALTIS 1.8 V A/T (Premium Color) | B15: ZE211VA/T25 | C15: 589500000 | F15: 589500000 | G15: =C15-F15 -> 0
A16: COROLLA ALTIS 1.8L HYBRID A/T | B16: ZE211LA/T26 | C16: 640100000 | F16: 640100000 | G16: =C16-F16 -> 0
A17: COROLLA ALTIS 1.8L HYBRID A/T (Premium Color) | B17: ZE211LA/T27 | C17: 643200000 | F17: 643200000 | G17: =C17-F17 -> 0
A18: COROLLA ALTIS 1.8L HYBRID A/T GR-S | B18: ZE211LA/T28 | C18: 647500000 | F18: 647500000 | G18: =C18-F18 -> 0
A19: COROLLA ALTIS 1.8L HYBRID A/T GR-S (Premium Color) | B19: ZE211LA/T29 | C19: 650600000 | F19: 650600000 | G19: =C19-F19 -> 0
A20: COROLLA CROSS 1.8 HYBRID A/T | B20: ZVG10A/T31 | C20: 608800000 | F20: 608800000 | G20: =C20-F20 -> 0
A21: COROLLA CROSS 1.8 HYBRID A/T(Premium Color) | B21: ZVG10A/T32 | C21: 611900000 | F21: 611900000 | G21: =C21-F21 -> 0
A22: COROLLA CROSS 1.8 HYBRID GR-S A/T | B22: ZVG10A/T41 | C22: 648500000 | F22: 648500000 | G22: =C22-F22 -> 0
A23: COROLLA CROSS 1.8 HYBRID GR-S A/T (Premium Color) | B23: ZVG10A/T42 | C23: 653600000 | F23: 653600000 | G23: =C23-F23 -> 0
... A222: Bz4X A/T ex-KTT Vin 2023 (With Wall Charger) | B222: XEA10EVB1 | C222: 1248500000 | F222: 1248500000 | G222: =C222-F222 -> 0
A223: Jakarta, 1 Oktober 2025
A224: 1. Tarif BBNKB menggunakan tarif kepemilikan unit kedua
A225: 2. Dyna, Hilux, Hi Ace sudah termasuk Keur.
A226: 3. LC 300 unit tergantung ketersediaan barang
A229: SURAT KEPUTUSAN
A230: NO. SK/001/TSO.OPR/VIII/2025
A232: HARGA KENDARAAN TOYOTA
A233: PRIME SERIES
A234: WILAYAH : BANDUNG
A235: Per 1 Oktober 2025 | F235: N-1 | G235: SELISIH
A237: TYPE | B237: KODE TIPE | C237: ON THE ROAD | D237: KETERANGAN | F237: ON THE ROAD | G237: ON THE ROAD
A238: AGYA 1.2 G CVT PRIME | B238: A351GA/T00CA | C238: 203500000 | D238: CA, CB: Premium Horn, DVR | F238: 203500000 | G238: =C238-F238 -> 0
A239: AGYA STYLIX 1.2 G CVT PRIME | B239: A351GA/T10CB | C239: 207000000 | F239: 207000000 | G239: =C239-F239 -> 0
A240: AGYA 1.2 G M/T PRIME | B240: A351GM/T00CA | C240: 187400000 | F240: 187400000 | G240: =C240-F240 -> 0
A241: CALYA 1.2 G MT PRIME | B241: B40GM/T20CA | C241: 184600000 | D241: CA: Side Visor, Foglamp Ornament, Door Handle Protector | F241: 184600000 | G241: =C241-F241 -> 0
A242: CALYA 1.2 G AT PRIME | B242: B40GA/T20CA | C242: 199000000 | F242: 199000000 | G242: =C242-F242 -> 0
A243: AVANZA 1.3 E M/T PRIME | B243: W00EM/T00DA | C243: 250000000 | D243: DA: Cargo Net, Front Grille Ornament, Side Body Moulding Gunmental | F243: 250000000 | G243: =C243-F243 -> 0
A244: AVANZA 1.5 G CVT PRIME | B244: W01GA/T00DA | C244: 287800000 | F244: 287800000 | G244: =C244-F244 -> 0
A245: AVANZA 1.5 G M/T PRIME | B245: W01GM/T00DA | C245: 272900000 | F245: 272900000 | G245: =C245-F245 -> 0
A246: VELOZ 1.5 M/T (Premium Color) PRIME | B246: W01VM/T01BF | C246: 305600000 | D246: BC, BF, BK: Back Door Galss Chrome Ornament, Air Purifier | F246: 305600000 | G246: =C246-F246 -> 0
A247: VELOZ 1.5 CVT PRIME | B247: W01VA/T00BC | C247: 319900000 | F247: 319900000 | G247: =C247-F247 -> 0
A248: VELOZ 1.5 Q CVT (Premium Color) PRIME | B248: W01QVA/T02BK | C248: 330600000 | F248: 330600000 | G248: =C248-F248 -> 0
A249: NEW RUSH 1.5 G M/T PRIME | B249: F80GM/T30AA | C249: 298500000 | D249: AA, AD: Spare Tire Cover, Cargo Net, dan Sporty Outer Mirror | F249: 298500000 | G249: =C249-F249 -> 0
A250: NEW RUSH 1.5 G A/T PRIME | B250: F80GA/T30AA | C250: 309300000 | F250: 309300000 | G250: =C250-F250 -> 0
A251: NEW RUSH 1.5 S M/T GR SPORT PRIME | B251: F80SM/T40AD | C251: 313600000 | F251: 313600000 | G251: =C251-F251 -> 0
A252: NEW RUSH 1.5 S A/T GR SPORT PRIME | B252: F80SA/T40AD | C252: 324600000 | F252: 324600000 | G252: =C252-F252 -> 0
A253: KIJANG INNOVA 2.0 G M/T BSN PRIME | B253: TGN40GM/T30FA | C253: 396900000 | D253: FA: Spare Tire Cover, Rear Bumper Ornament, dan Rear Bumper Step Guard | F253: 396900000 | G253: =C253-F253 -> 0
A254: KIJANG INNOVA 2.4 G A/T DSL PRIME | B254: GUN14GA/T20FA | C254: 445800000 | F254: 445800000 | G254: =C254-F254 -> 0
A255: KIJANG INNOVA 2.4 G M/T DSL PRIME | B255: GUN14GM/T20FA | C255: 424200000 | F255: 424200000 | G255: =C255-F255 -> 0
A256: LAND CRUISER 300 VX-R 4x4 A/T PRIME | B256: FJA300VA/T14DA | C256: 2623800000 | D256: DA: Rear view Electric Mirror & Rubber Floor mat | F256: 2623800000 | G256: =C256-F256 -> 0
A257: LAND CRUISER 300 GR-S 4x4 A/T PRIME | B257: FJA300GA/T18DA | C257: 2711000000 | F257: 2711000000 | G257: =C257-F257 -> 0
A258: INNOVA ZENIX 2.0 G CVT PRIME | B258: MAG10GA/T00BC | C258: 443100000 | D258: BC, BD, BE, BF: Multifunction Box, Storage Organizer, Black Outer Mirror Cover, Spare Tire Cover, Premium Horn | F258: 443100000 | G258: =C258-F258 -> 0
A259: INNOVA ZENIX 2.0 G CVT (Premium Color) PRIME | B259: MAG10GA/T01BD | C259: 446100000 | F259: 446100000 | G259: =C259-F259 -> 0
A260: INNOVA ZENIX 2.0 V CVT PRIME | B260: MAG10VA/T00BE | C260: 488100000 | F260: 488100000 | G260: =C260-F260 -> 0
A261: INNOVA ZENIX 2.0 V CVT (Premium Color) PRIME | B261: MAG10VA/T01BF | C261: 491100000 | F261: 491100000 | G261: =C261-F261 -> 0
A262: INNOVA ZENIX 2.0 G HV CVT (Premium Color) PRIME | B262: MAG10GHA/T01BD | C262: 483300000 | F262: 483300000 | G262: =C262-F262 -> 0
A263: INNOVA ZENIX 2.0 V HV Modelista CVT PRIME | B263: MAG10VHA/T00BC | C263: 555600000 | F263: 555600000 | G263: =C263-F263 -> 0
A264: INNOVA ZENIX 2.0 V HV Modelista CVT (Premium Color) PRIME | B264: MAG10VHA/T01BD | C264: 558500000 | F264: 558500000 | G264: =C264-F264 -> 0
A265: INNOVA ZENIX 2.0 Q HV Modelista CVT TSS PRIME | B265: MAG10QHA/T00BC | C265: 631000000 | F265: 631000000 | G265: =C265-F265 -> 0
A266: INNOVA ZENIX 2.0 Q HV Modelista CVT TSS (Premium Color) PRIME | B266: MAG10QHA/T01BD | C266: 633800000 | F266: 633800000 | G266: =C266-F266 -> 0
A267: RAIZE 1.0T G M/T ONE TONE PRIME | B267: A250GM/T00DA | C267: 268500000 | D267: DA, DE, DG: Cargo Net, Air Purifier | F267: 268500000 | G267: =C267-F267 -> 0
A268: RAIZE 1.0T G CVT ONE TONE PRIME | B268: A250GA/T00DA | C268: 283600000 | F268: 283600000 | G268: =C268-F268 -> 0
A269: RAIZE 1.0T GR-S CVT ONE TONE PRIME | B269: A250SA/T20DE | C269: 297800000 | F269: 297800000 | G269: =C269-F269 -> 0
A270: RAIZE 1.0T GR-S CVT TWO TONE PRIME | B270: A250SA/T21DG | C270: 300400000 | F270: 300400000 | G270: =C270-F270 -> 0
A271: RAIZE 1.2 G M/T ONE TONE PRIME | B271: A251GM/T00DA | C271: 248800000 | F271: 248800000 | G271: =C271-F271 -> 0
A272: RAIZE 1.2 G CVT ONE TONE PRIME | B272: A251GA/T00DA | C272: 263800000 | F272: 263800000 | G272: =C272-F272 -> 0
A273: FORTUNER 2.8 VRZ WITH GR AERO TSS 4X2 A/T ONE TONE PRIME | B273: GUN166VA/T31BF | C273: 682500000 | D273: BF, BH: Spare Tire Cover, Sporty Door Handle, Housing Protector, and Mirror Cover, and Premium Horn | F273: 682500000 | G273: =C273-F273 -> 0
A274: FORTUNER 2.8 VRZ 4X4 A/T GR-S TSS ONE TONE PRIME | B274: GUN156VA/T33BH | C274: 791200000 | F274: 791200000 | G274: =C274-F274 -> 0
A277: SURAT KEPUTUSAN
A278: NO. SK/001/TSO.OPR/VIII/2025
A280: HARGA KENDARAAN TOYOTA
A281: LUX ORDER
A282: WILAYAH : BANDUNG
A283: Per 1 Oktober 2025 | F283: N-1 | G283: SELISIH
A285: TYPE | B285: KODE TIPE | C285: ON THE ROAD | D285: KETERANGAN | F285: ON THE ROAD | G285: ON THE ROAD
A286: AGYA 1.2 E M/T LUX | B286: A351EM/T00Y | C286: 212568000 | F286: 212568000 | G286: =C286-F286 -> 0
A287: AGYA 1.2 G M/T LUX | B287: A351GM/T00Y | C287: 220068000 | F287: 220068000 | G287: =C287-F287 -> 0
A288: AGYA 1.2 G CVT LUX | B288: A351GA/T00Y | C288: 236168000 | F288: 236168000 | G288: =C288-F288 -> 0
A289: AGYA STYLIX 1.2 G CVT LUX | B289: A351GA/T10Y | C289: 239668000 | F289: 239668000 | G289: =C289-F289 -> 0
A290: AGYA 1.2 GR M/T (One Tone) LUX | B290: A351GRM/T00Y | C290: 285668000 | F290: 285668000 | G290: =C290-F290 -> 0
A291: AGYA 1.2 GR M/T (Two Tone) LUX | B291: A351GRM/T01Y | C291: 288068000 | F291: 288068000 | G291: =C291-F291 -> 0
A292: AGYA 1.2 GR CVT (One Tone) LUX | B292: A351GRA/T00Y | C292: 302068000 | F292: 302068000 | G292: =C292-F292 -> 0
A293: AGYA 1.2 GR CVT (Two Tone) LUX | B293: A351GRA/T01Y | C293: 304668000 | F293: 304668000 | G293: =C293-F293 -> 0
A294: AGYA 1.2 GR-S M/T (One Tone) Non-Premium LUX | B294: A351GRM/T10Y | C294: 276268000 | F294: 276268000 | G294: =C294-F294 -> 0
A295: AGYA 1.2 GR-S M/T (Two Tone) Non-Premium LUX | B295: A351GRM/T11Y | C295: 278768000 | F295: 278768000 | G295: =C295-F295 -> 0
A296: AGYA 1.2 GR-S CVT (One Tone) Non-Premium LUX | B296: A351GRA/T10Y | C296: 292868000 | F296: 292868000 | G296: =C296-F296 -> 0
A297: AGYA 1.2 GR-S CVT (Two Tone) Non-Premium LUX | B297: A351GRA/T11Y | C297: 295568000 | F297: 295568000 | G297: =C297-F297 -> 0
A298: CALYA 1.2 E MT STD LUX | B298: B40EM/T21 | C298: 209635000 | D298: Calya Lux: Side Visor & Mud Guard | F298: 209945000 | G298: =C298-F298 -> -310000
A299: CALYA 1.2 E MT LUX | B299: B40EM/T20 | C299: 212935000 | F299: 213245000 | G299: =C299-F299 -> -310000
A300: CALYA 1.2 G MT LUX | B300: B40GM/T20 | C300: 218435000 | F300: 218745000 | G300: =C300-F300 -> -310000
A301: CALYA 1.2 G AT LUX | B301: B40GA/T20 | C301: 232835000 | F301: 233145000 | G301: =C301-F301 -> -310000
A302: CALYA 1.2 E MT STD BASIC | B302: B40EM/T21FBY | C302: 209635000 | F302: 209945000 | G302: =C302-F302 -> -310000
A303: CALYA 1.2 E MT BASIC | B303: B40EM/T20FAY | C303: 212935000 | F303: 213245000 | G303: =C303-F303 -> -310000
A304: CALYA 1.2 G MT BASIC | B304: B40GM/T20FAY | C304: 218435000 | F304: 218745000 | G304: =C304-F304 -> -310000
A305: CALYA 1.2 G AT BASIC | B305: B40GA/T20FAY | C305: 232835000 | F305: 233145000 | G305: =C305-F305 -> -310000
A306: AVANZA 1.3 E M/T LUX | B306: W00EM/T00Y | C306: 283620000 | D306: Avanza Lux: Front Grille Ornament & Side Body Moulding Gunmetal | F306: 283620000 | G306: =C306-F306 -> 0
A307: AVANZA 1.3 E CVT LUX | B307: W00EA/T00Y | C307: 298620000 | F307: 298620000 | G307: =C307-F307 -> 0
A308: AVANZA 1.5 G M/T LUX | B308: W01GM/T00Y | C308: 306520000 | F308: 306520000 | G308: =C308-F308 -> 0
A309: AVANZA 1.5 G CVT LUX | B309: W01GA/T00Y | C309: 321420000 | F309: 321420000 | G309: =C309-F309 -> 0
A310: AVANZA 1.3 E M/T LUX | B310: W00EM/T00Y | C310: 283620000 | F310: 283620000 | G310: =C310-F310 -> 0
...

Sheet OTR smd
A3: SURAT KEPUTUSAN
A4: NO. SK/001/TSO.OPR/XI/2025
A6: HARGA KENDARAAN TOYOTA
A7: REGULAR ORDER
A8: WILAYAH : SUMEDANG, CIAMIS, TASIKMALAYA, BANJAR, PANGANDARAN
A9: Per 1 November 2025 | F9: N-1 | G9: SELISIH
A11: TYPE | B11: KODE TIPE | C11: ON THE ROAD | D11: KETERANGAN | F11: ON THE ROAD | G11: ON THE ROAD
A12: All New Vios 1.5 G CVT | B12: NGC102GA/T00 | C12: 377300000 | F12: 377300000 | G12: =C12-F12 -> 0
A13: All New Vios 1.5 G TSS CVT | B13: NGC102GA/T01 | C13: 390500000 | F13: 390500000 | G13: =C13-F13 -> 0
A14: COROLLA ALTIS 1.8 V A/T | B14: ZE211VA/T24 | C14: 586500000 | F14: 586500000 | G14: =C14-F14 -> 0
A15: COROLLA ALTIS 1.8 V A/T (Premium Color) | B15: ZE211VA/T25 | C15: 589500000 | F15: 589500000 | G15: =C15-F15 -> 0
A16: COROLLA ALTIS 1.8L HYBRID A/T | B16: ZE211LA/T26 | C16: 640100000 | F16: 640100000 | G16: =C16-F16 -> 0
A17: COROLLA ALTIS 1.8L HYBRID A/T (Premium Color) | B17: ZE211LA/T27 | C17: 643200000 | F17: 643200000 | G17: =C17-F17 -> 0
A18: COROLLA ALTIS 1.8L HYBRID A/T GR-S | B18: ZE211LA/T28 | C18: 647500000 | F18: 647500000 | G18: =C18-F18 -> 0
A19: COROLLA ALTIS 1.8L HYBRID A/T GR-S (Premium Color) | B19: ZE211LA/T29 | C19: 650600000 | F19: 650600000 | G19: =C19-F19 -> 0
A20: COROLLA CROSS 1.8 HYBRID A/T | B20: ZVG10A/T31 | C20: 608800000 | F20: 608800000 | G20: =C20-F20 -> 0
A21: COROLLA CROSS 1.8 HYBRID A/T(Premium Color) | B21: ZVG10A/T32 | C21: 611900000 | F21: 611900000 | G21: =C21-F21 -> 0
A22: COROLLA CROSS 1.8 HYBRID GR-S A/T | B22: ZVG10A/T41 | C22: 648500000 | F22: 648500000 | G22: =C22-F22 -> 0
A23: COROLLA CROSS 1.8 HYBRID GR-S A/T (Premium Color) | B23: ZVG10A/T42 | C23: 653600000 | F23: 653600000 | G23: =C23-F23 -> 0
... A222: Bz4X A/T ex-KTT Vin 2023 (With Wall Charger) | B222: XEA10EVB1 | C222: 1248500000 | F222: 1248500000 | G222: =C222-F222 -> 0
A223: Jakarta, 1 Oktober 2025
A224: 1. Tarif BBNKB menggunakan tarif kepemilikan unit kedua
A225: 2. Dyna, Hilux, Hi Ace sudah termasuk Keur.
A226: 3. LC 300 unit tergantung ketersediaan barang
A229: SURAT KEPUTUSAN
A230: NO. SK/001/TSO.OPR/VIII/2025
A232: HARGA KENDARAAN TOYOTA
A233: PRIME SERIES
A234: WILAYAH : SUMEDANG, CIAMIS, TASIKMALAYA, BANJAR, PANGANDARAN
A235: Per 1 Oktober 2025 | F235: N-1 | G235: SELISIH
A237: TYPE | B237: KODE TIPE | C237: ON THE ROAD | D237: KETERANGAN | F237: ON THE ROAD | G237: ON THE ROAD
A238: AGYA 1.2 G CVT PRIME | B238: A351GA/T00CA | C238: 203500000 | D238: CA, CB: Premium Horn, DVR | F238: 203500000 | G238: =C238-F238 -> 0
A239: AGYA STYLIX 1.2 G CVT PRIME | B239: A351GA/T10CB | C239: 207000000 | F239: 207000000 | G239: =C239-F239 -> 0
A240: AGYA 1.2 G M/T PRIME | B240: A351GM/T00CA | C240: 187400000 | F240: 187400000 | G240: =C240-F240 -> 0
A241: CALYA 1.2 G MT PRIME | B241: B40GM/T20CA | C241: 184600000 | D241: CA: Side Visor, Foglamp Ornament, Door Handle Protector | F241: 184600000 | G241: =C241-F241 -> 0
A242: CALYA 1.2 G AT PRIME | B242: B40GA/T20CA | C242: 199000000 | F242: 199000000 | G242: =C242-F242 -> 0
A243: AVANZA 1.3 E M/T PRIME | B243: W00EM/T00DA | C243: 250000000 | D243: DA: Cargo Net, Front Grille Ornament, Side Body Moulding Gunmental | F243: 250000000 | G243: =C243-F243 -> 0
A244: AVANZA 1.5 G CVT PRIME | B244: W01GA/T00DA | C244: 287800000 | F244: 287800000 | G244: =C244-F244 -> 0
A245: AVANZA 1.5 G M/T PRIME | B245: W01GM/T00DA | C245: 272900000 | F245: 272900000 | G245: =C245-F245 -> 0
A246: VELOZ 1.5 M/T (Premium Color) PRIME | B246: W01VM/T01BF | C246: 305600000 | D246: BC, BF, BK: Back Door Galss Chrome Ornament, Air Purifier | F246: 305600000 | G246: =C246-F246 -> 0
A247: VELOZ 1.5 CVT PRIME | B247: W01VA/T00BC | C247: 319900000 | F247: 319900000 | G247: =C247-F247 -> 0
A248: VELOZ 1.5 Q CVT (Premium Color) PRIME | B248: W01QVA/T02BK | C248: 330600000 | F248: 330600000 | G248: =C248-F248 -> 0
A249: NEW RUSH 1.5 G M/T PRIME | B249: F80GM/T30AA | C249: 298500000 | D249: AA, AD: Spare Tire Cover, Cargo Net, dan Sporty Outer Mirror | F249: 298500000 | G249: =C249-F249 -> 0
A250: NEW RUSH 1.5 G A/T PRIME | B250: F80GA/T30AA | C250: 309300000 | F250: 309300000 | G250: =C250-F250 -> 0
A251: NEW RUSH 1.5 S M/T GR SPORT PRIME | B251: F80SM/T40AD | C251: 313600000 | F251: 313600000 | G251: =C251-F251 -> 0
A252: NEW RUSH 1.5 S A/T GR SPORT PRIME | B252: F80SA/T40AD | C252: 324600000 | F252: 324600000 | G252: =C252-F252 -> 0
A253: KIJANG INNOVA 2.0 G M/T BSN PRIME | B253: TGN40GM/T30FA | C253: 396900000 | D253: FA: Spare Tire Cover, Rear Bumper Ornament, dan Rear Bumper Step Guard | F253: 396900000 | G253: =C253-F253 -> 0
A254: KIJANG INNOVA 2.4 G A/T DSL PRIME | B254: GUN14GA/T20FA | C254: 445800000 | F254: 445800000 | G254: =C254-F254 -> 0
A255: KIJANG INNOVA 2.4 G M/T DSL PRIME | B255: GUN14GM/T20FA | C255: 424200000 | F255: 424200000 | G255: =C255-F255 -> 0
A256: LAND CRUISER 300 VX-R 4x4 A/T PRIME | B256: FJA300VA/T14DA | C256: 2623800000 | D256: DA: Rear view Electric Mirror & Rubber Floor mat | F256: 2623800000 | G256: =C256-F256 -> 0
A257: LAND CRUISER 300 GR-S 4x4 A/T PRIME | B257: FJA300GA/T18DA | C257: 2711000000 | F257: 2711000000 | G257: =C257-F257 -> 0
A258: INNOVA ZENIX 2.0 G CVT PRIME | B258: MAG10GA/T00BC | C258: 443100000 | D258: BC, BD, BE, BF: Multifunction Box, Storage Organizer, Black Outer Mirror Cover, Spare Tire Cover, Premium Horn | F258: 443100000 | G258: =C258-F258 -> 0
A259: INNOVA ZENIX 2.0 G CVT (Premium Color) PRIME | B259: MAG10GA/T01BD | C259: 446100000 | F259: 446100000 | G259: =C259-F259 -> 0
A260: INNOVA ZENIX 2.0 V CVT PRIME | B260: MAG10VA/T00BE | C260: 488100000 | F260: 488100000 | G260: =C260-F260 -> 0
A261: INNOVA ZENIX 2.0 V CVT (Premium Color) PRIME | B261: MAG10VA/T01BF | C261: 491100000 | F261: 491100000 | G261: =C261-F261 -> 0
A262: INNOVA ZENIX 2.0 G HV CVT (Premium Color) PRIME | B262: MAG10GHA/T01BD | C262: 483300000 | F262: 483300000 | G262: =C262-F262 -> 0
A263: INNOVA ZENIX 2.0 V HV Modelista CVT PRIME | B263: MAG10VHA/T00BC | C263: 555600000 | F263: 555600000 | G263: =C263-F263 -> 0
A264: INNOVA ZENIX 2.0 V HV Modelista CVT (Premium Color) PRIME | B264: MAG10VHA/T01BD | C264: 558500000 | F264: 558500000 | G264: =C264-F264 -> 0
A265: INNOVA ZENIX 2.0 Q HV Modelista CVT TSS PRIME | B265: MAG10QHA/T00BC | C265: 631000000 | F265: 631000000 | G265: =C265-F265 -> 0
A266: INNOVA ZENIX 2.0 Q HV Modelista CVT TSS (Premium Color) PRIME | B266: MAG10QHA/T01BD | C266: 633800000 | F266: 633800000 | G266: =C266-F266 -> 0
A267: RAIZE 1.0T G M/T ONE TONE PRIME | B267: A250GM/T00DA | C267: 268500000 | D267: DA, DE, DG: Cargo Net, Air Purifier | F267: 268500000 | G267: =C267-F267 -> 0
A268: RAIZE 1.0T G CVT ONE TONE PRIME | B268: A250GA/T00DA | C268: 283600000 | F268: 283600000 | G268: =C268-F268 -> 0
A269: RAIZE 1.0T GR-S CVT ONE TONE PRIME | B269: A250SA/T20DE | C269: 297800000 | F269: 297800000 | G269: =C269-F269 -> 0
A270: RAIZE 1.0T GR-S CVT TWO TONE PRIME | B270: A250SA/T21DG | C270: 300400000 | F270: 300400000 | G270: =C270-F270 -> 0
A271: RAIZE 1.2 G M/T ONE TONE PRIME | B271: A251GM/T00DA | C271: 248800000 | F271: 248800000 | G271: =C271-F271 -> 0
A272: RAIZE 1.2 G CVT ONE TONE PRIME | B272: A251GA/T00DA | C272: 263800000 | F272: 263800000 | G272: =C272-F272 -> 0
A273: FORTUNER 2.8 VRZ WITH GR AERO TSS 4X2 A/T ONE TONE PRIME | B273: GUN166VA/T31BF | C273: 682500000 | D273: BF, BH: Spare Tire Cover, Sporty Door Handle, Housing Protector, and Mirror Cover, and Premium Horn | F273: 682500000 | G273: =C273-F273 -> 0
A274: FORTUNER 2.8 VRZ 4X4 A/T GR-S TSS ONE TONE PRIME | B274: GUN156VA/T33BH | C274: 791200000 | F274: 791200000 | G274: =C274-F274 -> 0
A277: SURAT KEPUTUSAN
A278: NO. SK/001/TSO.OPR/VIII/2025
A280: HARGA KENDARAAN TOYOTA
A281: LUX ORDER
A282: WILAYAH : SUMEDANG, CIAMIS, TASIKMALAYA, BANJAR, PANGANDARAN
A283: Per 1 Oktober 2025 | F283: N-1 | G283: SELISIH
A285: TYPE | B285: KODE TIPE | C285: ON THE ROAD | D285: KETERANGAN | F285: ON THE ROAD | G285: ON THE ROAD
A286: AGYA 1.2 E M/T LUX | B286: A351EM/T00Y | C286: 212568000 | F286: 212568000 | G286: =C286-F286 -> 0
A287: AGYA 1.2 G M/T LUX | B287: A351GM/T00Y | C287: 220068000 | F287: 220068000 | G287: =C287-F287 -> 0
A288: AGYA 1.2 G CVT LUX | B288: A351GA/T00Y | C288: 236168000 | F288: 236168000 | G288: =C288-F288 -> 0
A289: AGYA STYLIX 1.2 G CVT LUX | B289: A351GA/T10Y | C289: 239668000 | F289: 239668000 | G289: =C289-F289 -> 0
A290: AGYA 1.2 GR M/T (One Tone) LUX | B290: A351GRM/T00Y | C290: 285668000 | F290: 285668000 | G290: =C290-F290 -> 0
A291: AGYA 1.2 GR M/T (Two Tone) LUX | B291: A351GRM/T01Y | C291: 288068000 | F291: 288068000 | G291: =C291-F291 -> 0
A292: AGYA 1.2 GR CVT (One Tone) LUX | B292: A351GRA/T00Y | C292: 302068000 | F292: 302068000 | G292: =C292-F292 -> 0
A293: AGYA 1.2 GR CVT (Two Tone) LUX | B293: A351GRA/T01Y | C293: 304668000 | F293: 304668000 | G293: =C293-F293 -> 0
A294: AGYA 1.2 GR-S M/T (One Tone) Non-Premium LUX | B294: A351GRM/T10Y | C294: 276268000 | F294: 276268000 | G294: =C294-F294 -> 0
A295: AGYA 1.2 GR-S M/T (Two Tone) Non-Premium LUX | B295: A351GRM/T11Y | C295: 278768000 | F295: 278768000 | G295: =C295-F295 -> 0
A296: AGYA 1.2 GR-S CVT (One Tone) Non-Premium LUX | B296: A351GRA/T10Y | C296: 292868000 | F296: 292868000 | G296: =C296-F296 -> 0
A297: AGYA 1.2 GR-S CVT (Two Tone) Non-Premium LUX | B297: A351GRA/T11Y | C297: 295568000 | F297: 295568000 | G297: =C297-F297 -> 0
A298: CALYA 1.2 E MT STD LUX | B298: B40EM/T21 | C298: 209635000 | D298: Calya Lux: Side Visor & Mud Guard | F298: 209945000 | G298: =C298-F298 -> -310000
A299: CALYA 1.2 E MT LUX | B299: B40EM/T20 | C299: 212935000 | F299: 213245000 | G299: =C299-F299 -> -310000
A300: CALYA 1.2 G MT LUX | B300: B40GM/T20 | C300: 218435000 | F300: 218745000 | G300: =C300-F300 -> -310000
A301: CALYA 1.2 G AT LUX | B301: B40GA/T20 | C301: 232835000 | F301: 233145000 | G301: =C301-F301 -> -310000
A302: CALYA 1.2 E MT STD BASIC | B302: B40EM/T21FBY | C302: 209635000 | F302: 209945000 | G302: =C302-F302 -> -310000
A303: CALYA 1.2 E MT BASIC | B303: B40EM/T20FAY | C303: 212935000 | F303: 213245000 | G303: =C303-F303 -> -310000
A304: CALYA 1.2 G MT BASIC | B304: B40GM/T20FAY | C304: 218435000 | F304: 218745000 | G304: =C304-F304 -> -310000
A305: CALYA 1.2 G AT BASIC | B305: B40GA/T20FAY | C305: 232835000 | F305: 233145000 | G305: =C305-F305 -> -310000
A306: AVANZA 1.3 E M/T LUX | B306: W00EM/T00Y | C306: 283620000 | D306: Avanza Lux: Front Grille Ornament & Side Body Moulding Gunmetal | F306: 283620000 | G306: =C306-F306 -> 0
A307: AVANZA 1.3 E CVT LUX | B307: W00EA/T00Y | C307: 298620000 | F307: 298620000 | G307: =C307-F307 -> 0
A308: AVANZA 1.5 G M/T LUX | B308: W01GM/T00Y | C308: 306520000 | F308: 306520000 | G308: =C308-F308 -> 0
A309: AVANZA 1.5 G CVT LUX | B309: W01GA/T00Y | C309: 321420000 | F309: 321420000 | G309: =C309-F309 -> 0
A310: AVANZA 1.3 E M/T LUX | B310: W00EM/T00Y | C310: 283620000 | F310: 283620000 | G310: =C310-F310 -> 0
...

Sheet OTR grt
A3: SURAT KEPUTUSAN
A4: NO. SK/001/TSO.OPR/XI/2025
A6: HARGA KENDARAAN TOYOTA
A7: REGULAR ORDER
A8: WILAYAH : GARUT
A9: Per 1 November 2025 | F9: N-1 | G9: SELISIH
A11: TYPE | B11: KODE TIPE | C11: ON THE ROAD | D11: KETERANGAN | F11: ON THE ROAD | G11: ON THE ROAD
A12: All New Vios 1.5 G CVT | B12: NGC102GA/T00 | C12: 377300000 | F12: 377300000 | G12: =C12-F12 -> 0
A13: All New Vios 1.5 G TSS CVT | B13: NGC102GA/T01 | C13: 390500000 | F13: 390500000 | G13: =C13-F13 -> 0
A14: COROLLA ALTIS 1.8 V A/T | B14: ZE211VA/T24 | C14: 586500000 | F14: 586500000 | G14: =C14-F14 -> 0
A15: COROLLA ALTIS 1.8 V A/T (Premium Color) | B15: ZE211VA/T25 | C15: 589500000 | F15: 589500000 | G15: =C15-F15 -> 0
A16: COROLLA ALTIS 1.8L HYBRID A/T | B16: ZE211LA/T26 | C16: 640100000 | F16: 640100000 | G16: =C16-F16 -> 0
A17: COROLLA ALTIS 1.8L HYBRID A/T (Premium Color) | B17: ZE211LA/T27 | C17: 643200000 | F17: 643200000 | G17: =C17-F17 -> 0
A18: COROLLA ALTIS 1.8L HYBRID A/T GR-S | B18: ZE211LA/T28 | C18: 647500000 | F18: 647500000 | G18: =C18-F18 -> 0
A19: COROLLA ALTIS 1.8L HYBRID A/T GR-S (Premium Color) | B19: ZE211LA/T29 | C19: 650600000 | F19: 650600000 | G19: =C19-F19 -> 0
A20: COROLLA CROSS 1.8 HYBRID A/T | B20: ZVG10A/T31 | C20: 608800000 | F20: 608800000 | G20: =C20-F20 -> 0
A21: COROLLA CROSS 1.8 HYBRID A/T(Premium Color) | B21: ZVG10A/T32 | C21: 611900000 | F21: 611900000 | G21: =C21-F21 -> 0
A22: COROLLA CROSS 1.8 HYBRID GR-S A/T | B22: ZVG10A/T41 | C22: 648500000 | F22: 648500000 | G22: =C22-F22 -> 0
A23: COROLLA CROSS 1.8 HYBRID GR-S A/T (Premium Color) | B23: ZVG10A/T42 | C23: 653600000 | F23: 653600000 | G23: =C23-F23 -> 0
... A222: Bz4X A/T ex-KTT Vin 2023 (With Wall Charger) | B222: XEA10EVB1 | C222: 1248500000 | F222: 1248500000 | G222: =C222-F222 -> 0
A223: Jakarta, 1 Oktober 2025
A224: 1. Tarif BBNKB menggunakan tarif kepemilikan unit kedua
A225: 2. Dyna, Hilux, Hi Ace sudah termasuk Keur.
A226: 3. LC 300 unit tergantung ketersediaan barang
A229: SURAT KEPUTUSAN
A230: NO. SK/001/TSO.OPR/VIII/2025
A232: HARGA KENDARAAN TOYOTA
A233: PRIME SERIES
A234: WILAYAH : GARUT
A235: Per 1 Oktober 2025 | F235: N-1 | G235: SELISIH
A237: TYPE | B237: KODE TIPE | C237: ON THE ROAD | D237: KETERANGAN | F237: ON THE ROAD | G237: ON THE ROAD
A238: AGYA 1.2 G CVT PRIME | B238: A351GA/T00CA | C238: 203500000 | D238: CA, CB: Premium Horn, DVR | F238: 203500000 | G238: =C238-F238 -> 0
A239: AGYA STYLIX 1.2 G CVT PRIME | B239: A351GA/T10CB | C239: 207000000 | F239: 207000000 | G239: =C239-F239 -> 0
A240: AGYA 1.2 G M/T PRIME | B240: A351GM/T00CA | C240: 187400000 | F240: 187400000 | G240: =C240-F240 -> 0
A241: CALYA 1.2 G MT PRIME | B241: B40GM/T20CA | C241: 184600000 | D241: CA: Side Visor, Foglamp Ornament, Door Handle Protector | F241: 184600000 | G241: =C241-F241 -> 0
A242: CALYA 1.2 G AT PRIME | B242: B40GA/T20CA | C242: 199000000 | F242: 199000000 | G242: =C242-F242 -> 0
A243: AVANZA 1.3 E M/T PRIME | B243: W00EM/T00DA | C243: 250000000 | D243: DA: Cargo Net, Front Grille Ornament, Side Body Moulding Gunmental | F243: 250000000 | G243: =C243-F243 -> 0
A244: AVANZA 1.5 G CVT PRIME | B244: W01GA/T00DA | C244: 287800000 | F244: 287800000 | G244: =C244-F244 -> 0
A245: AVANZA 1.5 G M/T PRIME | B245: W01GM/T00DA | C245: 272900000 | F245: 272900000 | G245: =C245-F245 -> 0
A246: VELOZ 1.5 M/T (Premium Color) PRIME | B246: W01VM/T01BF | C246: 305600000 | D246: BC, BF, BK: Back Door Galss Chrome Ornament, Air Purifier | F246: 305600000 | G246: =C246-F246 -> 0
A247: VELOZ 1.5 CVT PRIME | B247: W01VA/T00BC | C247: 319900000 | F247: 319900000 | G247: =C247-F247 -> 0
A248: VELOZ 1.5 Q CVT (Premium Color) PRIME | B248: W01QVA/T02BK | C248: 330600000 | F248: 330600000 | G248: =C248-F248 -> 0
A249: NEW RUSH 1.5 G M/T PRIME | B249: F80GM/T30AA | C249: 298500000 | D249: AA, AD: Spare Tire Cover, Cargo Net, dan Sporty Outer Mirror | F249: 298500000 | G249: =C249-F249 -> 0
A250: NEW RUSH 1.5 G A/T PRIME | B250: F80GA/T30AA | C250: 309300000 | F250: 309300000 | G250: =C250-F250 -> 0
A251: NEW RUSH 1.5 S M/T GR SPORT PRIME | B251: F80SM/T40AD | C251: 313600000 | F251: 313600000 | G251: =C251-F251 -> 0
A252: NEW RUSH 1.5 S A/T GR SPORT PRIME | B252: F80SA/T40AD | C252: 324600000 | F252: 324600000 | G252: =C252-F252 -> 0
A253: KIJANG INNOVA 2.0 G M/T BSN PRIME | B253: TGN40GM/T30FA | C253: 396900000 | D253: FA: Spare Tire Cover, Rear Bumper Ornament, dan Rear Bumper Step Guard | F253: 396900000 | G253: =C253-F253 -> 0
A254: KIJANG INNOVA 2.4 G A/T DSL PRIME | B254: GUN14GA/T20FA | C254: 445800000 | F254: 445800000 | G254: =C254-F254 -> 0
A255: KIJANG INNOVA 2.4 G M/T DSL PRIME | B255: GUN14GM/T20FA | C255: 424200000 | F255: 424200000 | G255: =C255-F255 -> 0
A256: LAND CRUISER 300 VX-R 4x4 A/T PRIME | B256: FJA300VA/T14DA | C256: 2623800000 | D256: DA: Rear view Electric Mirror & Rubber Floor mat | F256: 2623800000 | G256: =C256-F256 -> 0
A257: LAND CRUISER 300 GR-S 4x4 A/T PRIME | B257: FJA300GA/T18DA | C257: 2711000000 | F257: 2711000000 | G257: =C257-F257 -> 0
A258: INNOVA ZENIX 2.0 G CVT PRIME | B258: MAG10GA/T00BC | C258: 443100000 | D258: BC, BD, BE, BF: Multifunction Box, Storage Organizer, Black Outer Mirror Cover, Spare Tire Cover, Premium Horn | F258: 443100000 | G258: =C258-F258 -> 0
A259: INNOVA ZENIX 2.0 G CVT (Premium Color) PRIME | B259: MAG10GA/T01BD | C259: 446100000 | F259: 446100000 | G259: =C259-F259 -> 0
A260: INNOVA ZENIX 2.0 V CVT PRIME | B260: MAG10VA/T00BE | C260: 488100000 | F260: 488100000 | G260: =C260-F260 -> 0
A261: INNOVA ZENIX 2.0 V CVT (Premium Color) PRIME | B261: MAG10VA/T01BF | C261: 491100000 | F261: 491100000 | G261: =C261-F261 -> 0
A262: INNOVA ZENIX 2.0 G HV CVT (Premium Color) PRIME | B262: MAG10GHA/T01BD | C262: 483300000 | F262: 483300000 | G262: =C262-F262 -> 0
A263: INNOVA ZENIX 2.0 V HV Modelista CVT PRIME | B263: MAG10VHA/T00BC | C263: 555600000 | F263: 555600000 | G263: =C263-F263 -> 0
A264: INNOVA ZENIX 2.0 V HV Modelista CVT (Premium Color) PRIME | B264: MAG10VHA/T01BD | C264: 558500000 | F264: 558500000 | G264: =C264-F264 -> 0
A265: INNOVA ZENIX 2.0 Q HV Modelista CVT TSS PRIME | B265: MAG10QHA/T00BC | C265: 631000000 | F265: 631000000 | G265: =C265-F265 -> 0
A266: INNOVA ZENIX 2.0 Q HV Modelista CVT TSS (Premium Color) PRIME | B266: MAG10QHA/T01BD | C266: 633800000 | F266: 633800000 | G266: =C266-F266 -> 0
A267: RAIZE 1.0T G M/T ONE TONE PRIME | B267: A250GM/T00DA | C267: 268500000 | D267: DA, DE, DG: Cargo Net, Air Purifier | F267: 268500000 | G267: =C267-F267 -> 0
A268: RAIZE 1.0T G CVT ONE TONE PRIME | B268: A250GA/T00DA | C268: 283600000 | F268: 283600000 | G268: =C268-F268 -> 0
A269: RAIZE 1.0T GR-S CVT ONE TONE PRIME | B269: A250SA/T20DE | C269: 297800000 | F269: 297800000 | G269: =C269-F269 -> 0
A270: RAIZE 1.0T GR-S CVT TWO TONE PRIME | B270: A250SA/T21DG | C270: 300400000 | F270: 300400000 | G270: =C270-F270 -> 0
A271: RAIZE 1.2 G M/T ONE TONE PRIME | B271: A251GM/T00DA | C271: 248800000 | F271: 248800000 | G271: =C271-F271 -> 0
A272: RAIZE 1.2 G CVT ONE TONE PRIME | B272: A251GA/T00DA | C272: 263800000 | F272: 263800000 | G272: =C272-F272 -> 0
A273: FORTUNER 2.8 VRZ WITH GR AERO TSS 4X2 A/T ONE TONE PRIME | B273: GUN166VA/T31BF | C273: 682500000 | D273: BF, BH: Spare Tire Cover, Sporty Door Handle, Housing Protector, and Mirror Cover, and Premium Horn | F273: 682500000 | G273: =C273-F273 -> 0
A274: FORTUNER 2.8 VRZ 4X4 A/T GR-S TSS ONE TONE PRIME | B274: GUN156VA/T33BH | C274: 791200000 | F274: 791200000 | G274: =C274-F274 -> 0
A277: SURAT KEPUTUSAN
A278: NO. SK/001/TSO.OPR/VIII/2025
A280: HARGA KENDARAAN TOYOTA
A281: LUX ORDER
A282: WILAYAH : GARUT
A283: Per 1 Oktober 2025 | F283: N-1 | G283: SELISIH
A285: TYPE | B285: KODE TIPE | C285: ON THE ROAD | D285: KETERANGAN | F285: ON THE ROAD | G285: ON THE ROAD
A286: AGYA 1.2 E M/T LUX | B286: A351EM/T00Y | C286: 212568000 | F286: 212568000 | G286: =C286-F286 -> 0
A287: AGYA 1.2 G M/T LUX | B287: A351GM/T00Y | C287: 220068000 | F287: 220068000 | G287: =C287-F287 -> 0
A288: AGYA 1.2 G CVT LUX | B288: A351GA/T00Y | C288: 236168000 | F288: 236168000 | G288: =C288-F288 -> 0
A289: AGYA STYLIX 1.2 G CVT LUX | B289: A351GA/T10Y | C289: 239668000 | F289: 239668000 | G289: =C289-F289 -> 0
A290: AGYA 1.2 GR M/T (One Tone) LUX | B290: A351GRM/T00Y | C290: 285668000 | F290: 285668000 | G290: =C290-F290 -> 0
A291: AGYA 1.2 GR M/T (Two Tone) LUX | B291: A351GRM/T01Y | C291: 288068000 | F291: 288068000 | G291: =C291-F291 -> 0
A292: AGYA 1.2 GR CVT (One Tone) LUX | B292: A351GRA/T00Y | C292: 302068000 | F292: 302068000 | G292: =C292-F292 -> 0
A293: AGYA 1.2 GR CVT (Two Tone) LUX | B293: A351GRA/T01Y | C293: 304668000 | F293: 304668000 | G293: =C293-F293 -> 0
A294: AGYA 1.2 GR-S M/T (One Tone) Non-Premium LUX | B294: A351GRM/T10Y | C294: 276268000 | F294: 276268000 | G294: =C294-F294 -> 0
A295: AGYA 1.2 GR-S M/T (Two Tone) Non-Premium LUX | B295: A351GRM/T11Y | C295: 278768000 | F295: 278768000 | G295: =C295-F295 -> 0
A296: AGYA 1.2 GR-S CVT (One Tone) Non-Premium LUX | B296: A351GRA/T10Y | C296: 292868000 | F296: 292868000 | G296: =C296-F296 -> 0
A297: AGYA 1.2 GR-S CVT (Two Tone) Non-Premium LUX | B297: A351GRA/T11Y | C297: 295568000 | F297: 295568000 | G297: =C297-F297 -> 0
A298: CALYA 1.2 E MT STD LUX | B298: B40EM/T21 | C298: 209635000 | D298: Calya Lux: Side Visor & Mud Guard | F298: 209945000 | G298: =C298-F298 -> -310000
A299: CALYA 1.2 E MT LUX | B299: B40EM/T20 | C299: 212935000 | F299: 213245000 | G299: =C299-F299 -> -310000
A300: CALYA 1.2 G MT LUX | B300: B40GM/T20 | C300: 218435000 | F300: 218745000 | G300: =C300-F300 -> -310000
A301: CALYA 1.2 G AT LUX | B301: B40GA/T20 | C301: 232835000 | F301: 233145000 | G301: =C301-F301 -> -310000
A302: CALYA 1.2 E MT STD BASIC | B302: B40EM/T21FBY | C302: 209635000 | F302: 209945000 | G302: =C302-F302 -> -310000
A303: CALYA 1.2 E MT BASIC | B303: B40EM/T20FAY | C303: 212935000 | F303: 213245000 | G303: =C303-F303 -> -310000
A304: CALYA 1.2 G MT BASIC | B304: B40GM/T20FAY | C304: 218435000 | F304: 218745000 | G304: =C304-F304 -> -310000
A305: CALYA 1.2 G AT BASIC | B305: B40GA/T20FAY | C305: 232835000 | F305: 233145000 | G305: =C305-F305 -> -310000
A306: AVANZA 1.3 E M/T LUX | B306: W00EM/T00Y | C306: 283620000 | D306: Avanza Lux: Front Grille Ornament & Side Body Moulding Gunmetal | F306: 283620000 | G306: =C306-F306 -> 0
A307: AVANZA 1.3 E CVT LUX | B307: W00EA/T00Y | C307: 298620000 | F307: 298620000 | G307: =C307-F307 -> 0
A308: AVANZA 1.5 G M/T LUX | B308: W01GM/T00Y | C308: 306520000 | F308: 306520000 | G308: =C308-F308 -> 0
A309: AVANZA 1.5 G CVT LUX | B309: W01GA/T00Y | C309: 321420000 | F309: 321420000 | G309: =C309-F309 -> 0
A310: AVANZA 1.3 E M/T LUX | B310: W00EM/T00Y | C310: 283620000 | F310: 283620000 | G310: =C310-F310 -> 0
...

Sheet OTR crb
A3: SURAT KEPUTUSAN
A4: NO. SK/001/TSO.OPR/XI/2025
A6: HARGA KENDARAAN TOYOTA
A7: REGULAR ORDER
A8: WILAYAH : CIREBON
A9: Per 1 November 2025 | F9: N-1 | G9: SELISIH
A11: TYPE | B11: KODE TIPE | C11: ON THE ROAD | D11: KETERANGAN | F11: ON THE ROAD | G11: ON THE ROAD
A12: All New Vios 1.5 G CVT | B12: NGC102GA/T00 | C12: 377300000 | F12: 377300000 | G12: =C12-F12 -> 0
A13: All New Vios 1.5 G TSS CVT | B13: NGC102GA/T01 | C13: 390500000 | F13: 390500000 | G13: =C13-F13 -> 0
A14: COROLLA ALTIS 1.8 V A/T | B14: ZE211VA/T24 | C14: 586500000 | F14: 586500000 | G14: =C14-F14 -> 0
A15: COROLLA ALTIS 1.8 V A/T (Premium Color) | B15: ZE211VA/T25 | C15: 589500000 | F15: 589500000 | G15: =C15-F15 -> 0
A16: COROLLA ALTIS 1.8L HYBRID A/T | B16: ZE211LA/T26 | C16: 640100000 | F16: 640100000 | G16: =C16-F16 -> 0
A17: COROLLA ALTIS 1.8L HYBRID A/T (Premium Color) | B17: ZE211LA/T27 | C17: 643200000 | F17: 643200000 | G17: =C17-F17 -> 0
A18: COROLLA ALTIS 1.8L HYBRID A/T GR-S | B18: ZE211LA/T28 | C18: 647500000 | F18: 647500000 | G18: =C18-F18 -> 0
A19: COROLLA ALTIS 1.8L HYBRID A/T GR-S (Premium Color) | B19: ZE211LA/T29 | C19: 650600000 | F19: 650600000 | G19: =C19-F19 -> 0
A20: COROLLA CROSS 1.8 HYBRID A/T | B20: ZVG10A/T31 | C20: 608800000 | F20: 608800000 | G20: =C20-F20 -> 0
A21: COROLLA CROSS 1.8 HYBRID A/T(Premium Color) | B21: ZVG10A/T32 | C21: 611900000 | F21: 611900000 | G21: =C21-F21 -> 0
A22: COROLLA CROSS 1.8 HYBRID GR-S A/T | B22: ZVG10A/T41 | C22: 648500000 | F22: 648500000 | G22: =C22-F22 -> 0
A23: COROLLA CROSS 1.8 HYBRID GR-S A/T (Premium Color) | B23: ZVG10A/T42 | C23: 653600000 | F23: 653600000 | G23: =C23-F23 -> 0
... A222: Bz4X A/T ex-KTT Vin 2023 (With Wall Charger) | B222: XEA10EVB1 | C222: 1248500000 | F222: 1248500000 | G222: =C222-F222 -> 0
A223: Jakarta, 1 Oktober 2025
A224: 1. Tarif BBNKB menggunakan tarif kepemilikan unit kedua
A225: 2. Dyna, Hilux, Hi Ace sudah termasuk Keur.
A226: 3. LC 300 unit tergantung ketersediaan barang
A229: SURAT KEPUTUSAN
A230: NO. SK/001/TSO.OPR/VIII/2025
A232: HARGA KENDARAAN TOYOTA
A233: PRIME SERIES
A234: WILAYAH : CIREBON
A235: Per 1 Oktober 2025 | F235: N-1 | G235: SELISIH
A237: TYPE | B237: KODE TIPE | C237: ON THE ROAD | D237: KETERANGAN | F237: ON THE ROAD | G237: ON THE ROAD
A238: AGYA 1.2 G CVT PRIME | B238: A351GA/T00CA | C238: 203500000 | D238: CA, CB: Premium Horn, DVR | F238: 203500000 | G238: =C238-F238 -> 0
A239: AGYA STYLIX 1.2 G CVT PRIME | B239: A351GA/T10CB | C239: 207000000 | F239: 207000000 | G239: =C239-F239 -> 0
A240: AGYA 1.2 G M/T PRIME | B240: A351GM/T00CA | C240: 187400000 | F240: 187400000 | G240: =C240-F240 -> 0
A241: CALYA 1.2 G MT PRIME | B241: B40GM/T20CA | C241: 184600000 | D241: CA: Side Visor, Foglamp Ornament, Door Handle Protector | F241: 184600000 | G241: =C241-F241 -> 0
A242: CALYA 1.2 G AT PRIME | B242: B40GA/T20CA | C242: 199000000 | F242: 199000000 | G242: =C242-F242 -> 0
A243: AVANZA 1.3 E M/T PRIME | B243: W00EM/T00DA | C243: 250000000 | D243: DA: Cargo Net, Front Grille Ornament, Side Body Moulding Gunmental | F243: 250000000 | G243: =C243-F243 -> 0
A244: AVANZA 1.5 G CVT PRIME | B244: W01GA/T00DA | C244: 287800000 | F244: 287800000 | G244: =C244-F244 -> 0
A245: AVANZA 1.5 G M/T PRIME | B245: W01GM/T00DA | C245: 272900000 | F245: 272900000 | G245: =C245-F245 -> 0
A246: VELOZ 1.5 M/T (Premium Color) PRIME | B246: W01VM/T01BF | C246: 305600000 | D246: BC, BF, BK: Back Door Galss Chrome Ornament, Air Purifier | F246: 305600000 | G246: =C246-F246 -> 0
A247: VELOZ 1.5 CVT PRIME | B247: W01VA/T00BC | C247: 319900000 | F247: 319900000 | G247: =C247-F247 -> 0
A248: VELOZ 1.5 Q CVT (Premium Color) PRIME | B248: W01QVA/T02BK | C248: 330600000 | F248: 330600000 | G248: =C248-F248 -> 0
A249: NEW RUSH 1.5 G M/T PRIME | B249: F80GM/T30AA | C249: 298500000 | D249: AA, AD: Spare Tire Cover, Cargo Net, dan Sporty Outer Mirror | F249: 298500000 | G249: =C249-F249 -> 0
A250: NEW RUSH 1.5 G A/T PRIME | B250: F80GA/T30AA | C250: 309300000 | F250: 309300000 | G250: =C250-F250 -> 0
A251: NEW RUSH 1.5 S M/T GR SPORT PRIME | B251: F80SM/T40AD | C251: 313600000 | F251: 313600000 | G251: =C251-F251 -> 0
A252: NEW RUSH 1.5 S A/T GR SPORT PRIME | B252: F80SA/T40AD | C252: 324600000 | F252: 324600000 | G252: =C252-F252 -> 0
A253: KIJANG INNOVA 2.0 G M/T BSN PRIME | B253: TGN40GM/T30FA | C253: 396900000 | D253: FA: Spare Tire Cover, Rear Bumper Ornament, dan Rear Bumper Step Guard | F253: 396900000 | G253: =C253-F253 -> 0
A254: KIJANG INNOVA 2.4 G A/T DSL PRIME | B254: GUN14GA/T20FA | C254: 445800000 | F254: 445800000 | G254: =C254-F254 -> 0
A255: KIJANG INNOVA 2.4 G M/T DSL PRIME | B255: GUN14GM/T20FA | C255: 424200000 | F255: 424200000 | G255: =C255-F255 -> 0
A256: LAND CRUISER 300 VX-R 4x4 A/T PRIME | B256: FJA300VA/T14DA | C256: 2623800000 | D256: DA: Rear view Electric Mirror & Rubber Floor mat | F256: 2623800000 | G256: =C256-F256 -> 0
A257: LAND CRUISER 300 GR-S 4x4 A/T PRIME | B257: FJA300GA/T18DA | C257: 2711000000 | F257: 2711000000 | G257: =C257-F257 -> 0
A258: INNOVA ZENIX 2.0 G CVT PRIME | B258: MAG10GA/T00BC | C258: 443100000 | D258: BC, BD, BE, BF: Multifunction Box, Storage Organizer, Black Outer Mirror Cover, Spare Tire Cover, Premium Horn | F258: 443100000 | G258: =C258-F258 -> 0
A259: INNOVA ZENIX 2.0 G CVT (Premium Color) PRIME | B259: MAG10GA/T01BD | C259: 446100000 | F259: 446100000 | G259: =C259-F259 -> 0
A260: INNOVA ZENIX 2.0 V CVT PRIME | B260: MAG10VA/T00BE | C260: 488100000 | F260: 488100000 | G260: =C260-F260 -> 0
A261: INNOVA ZENIX 2.0 V CVT (Premium Color) PRIME | B261: MAG10VA/T01BF | C261: 491100000 | F261: 491100000 | G261: =C261-F261 -> 0
A262: INNOVA ZENIX 2.0 G HV CVT (Premium Color) PRIME | B262: MAG10GHA/T01BD | C262: 483300000 | F262: 483300000 | G262: =C262-F262 -> 0
A263: INNOVA ZENIX 2.0 V HV Modelista CVT PRIME | B263: MAG10VHA/T00BC | C263: 555600000 | F263: 555600000 | G263: =C263-F263 -> 0
A264: INNOVA ZENIX 2.0 V HV Modelista CVT (Premium Color) PRIME | B264: MAG10VHA/T01BD | C264: 558500000 | F264: 558500000 | G264: =C264-F264 -> 0
A265: INNOVA ZENIX 2.0 Q HV Modelista CVT TSS PRIME | B265: MAG10QHA/T00BC | C265: 631000000 | F265: 631000000 | G265: =C265-F265 -> 0
A266: INNOVA ZENIX 2.0 Q HV Modelista CVT TSS (Premium Color) PRIME | B266: MAG10QHA/T01BD | C266: 633800000 | F266: 633800000 | G266: =C266-F266 -> 0
A267: RAIZE 1.0T G M/T ONE TONE PRIME | B267: A250GM/T00DA | C267: 268500000 | D267: DA, DE, DG: Cargo Net, Air Purifier | F267: 268500000 | G267: =C267-F267 -> 0
A268: RAIZE 1.0T G CVT ONE TONE PRIME | B268: A250GA/T00DA | C268: 283600000 | F268: 283600000 | G268: =C268-F268 -> 0
A269: RAIZE 1.0T GR-S CVT ONE TONE PRIME | B269: A250SA/T20DE | C269: 297800000 | F269: 297800000 | G269: =C269-F269 -> 0
A270: RAIZE 1.0T GR-S CVT TWO TONE PRIME | B270: A250SA/T21DG | C270: 300400000 | F270: 300400000 | G270: =C270-F270 -> 0
A271: RAIZE 1.2 G M/T ONE TONE PRIME | B271: A251GM/T00DA | C271: 248800000 | F271: 248800000 | G271: =C271-F271 -> 0
A272: RAIZE 1.2 G CVT ONE TONE PRIME | B272: A251GA/T00DA | C272: 263800000 | F272: 263800000 | G272: =C272-F272 -> 0
A273: FORTUNER 2.8 VRZ WITH GR AERO TSS 4X2 A/T ONE TONE PRIME | B273: GUN166VA/T31BF | C273: 682500000 | D273: BF, BH: Spare Tire Cover, Sporty Door Handle, Housing Protector, and Mirror Cover, and Premium Horn | F273: 682500000 | G273: =C273-F273 -> 0
A274: FORTUNER 2.8 VRZ 4X4 A/T GR-S TSS ONE TONE PRIME | B274: GUN156VA/T33BH | C274: 791200000 | F274: 791200000 | G274: =C274-F274 -> 0
A277: SURAT KEPUTUSAN
A278: NO. SK/001/TSO.OPR/VIII/2025
A280: HARGA KENDARAAN TOYOTA
A281: LUX ORDER
A282: WILAYAH : CIREBON
A283: Per 1 Oktober 2025 | F283: N-1 | G283: SELISIH
A285: TYPE | B285: KODE TIPE | C285: ON THE ROAD | D285: KETERANGAN | F285: ON THE ROAD | G285: ON THE ROAD
A286: AGYA 1.2 E M/T LUX | B286: A351EM/T00Y | C286: 212568000 | F286: 212568000 | G286: =C286-F286 -> 0
A287: AGYA 1.2 G M/T LUX | B287: A351GM/T00Y | C287: 220068000 | F287: 220068000 | G287: =C287-F287 -> 0
A288: AGYA 1.2 G CVT LUX | B288: A351GA/T00Y | C288: 236168000 | F288: 236168000 | G288: =C288-F288 -> 0
A289: AGYA STYLIX 1.2 G CVT LUX | B289: A351GA/T10Y | C289: 239668000 | F289: 239668000 | G289: =C289-F289 -> 0
A290: AGYA 1.2 GR M/T (One Tone) LUX | B290: A351GRM/T00Y | C290: 285668000 | F290: 285668000 | G290: =C290-F290 -> 0
A291: AGYA 1.2 GR M/T (Two Tone) LUX | B291: A351GRM/T01Y | C291: 288068000 | F291: 288068000 | G291: =C291-F291 -> 0
A292: AGYA 1.2 GR CVT (One Tone) LUX | B292: A351GRA/T00Y | C292: 302068000 | F292: 302068000 | G292: =C292-F292 -> 0
A293: AGYA 1.2 GR CVT (Two Tone) LUX | B293: A351GRA/T01Y | C293: 304668000 | F293: 304668000 | G293: =C293-F293 -> 0
A294: AGYA 1.2 GR-S M/T (One Tone) Non-Premium LUX | B294: A351GRM/T10Y | C294: 276268000 | F294: 276268000 | G294: =C294-F294 -> 0
A295: AGYA 1.2 GR-S M/T (Two Tone) Non-Premium LUX | B295: A351GRM/T11Y | C295: 278768000 | F295: 278768000 | G295: =C295-F295 -> 0
A296: AGYA 1.2 GR-S CVT (One Tone) Non-Premium LUX | B296: A351GRA/T10Y | C296: 292868000 | F296: 292868000 | G296: =C296-F296 -> 0
A297: AGYA 1.2 GR-S CVT (Two Tone) Non-Premium LUX | B297: A351GRA/T11Y | C297: 295568000 | F297: 295568000 | G297: =C297-F297 -> 0
A298: CALYA 1.2 E MT STD LUX | B298: B40EM/T21 | C298: 209635000 | D298: Calya Lux: Side Visor & Mud Guard | F298: 209945000 | G298: =C298-F298 -> -310000
A299: CALYA 1.2 E MT LUX | B299: B40EM/T20 | C299: 212935000 | F299: 213245000 | G299: =C299-F299 -> -310000
A300: CALYA 1.2 G MT LUX | B300: B40GM/T20 | C300: 218435000 | F300: 218745000 | G300: =C300-F300 -> -310000
A301: CALYA 1.2 G AT LUX | B301: B40GA/T20 | C301: 232835000 | F301: 233145000 | G301: =C301-F301 -> -310000
A302: CALYA 1.2 E MT STD BASIC | B302: B40EM/T21FBY | C302: 209635000 | F302: 209945000 | G302: =C302-F302 -> -310000
A303: CALYA 1.2 E MT BASIC | B303: B40EM/T20FAY | C303: 212935000 | F303: 213245000 | G303: =C303-F303 -> -310000
A304: CALYA 1.2 G MT BASIC | B304: B40GM/T20FAY | C304: 218435000 | F304: 218745000 | G304: =C304-F304 -> -310000
A305: CALYA 1.2 G AT BASIC | B305: B40GA/T20FAY | C305: 232835000 | F305: 233145000 | G305: =C305-F305 -> -310000
A306: AVANZA 1.3 E M/T LUX | B306: W00EM/T00Y | C306: 283620000 | D306: Avanza Lux: Front Grille Ornament & Side Body Moulding Gunmetal | F306: 283620000 | G306: =C306-F306 -> 0
A307: AVANZA 1.3 E CVT LUX | B307: W00EA/T00Y | C307: 298620000 | F307: 298620000 | G307: =C307-F307 -> 0
A308: AVANZA 1.5 G M/T LUX | B308: W01GM/T00Y | C308: 306520000 | F308: 306520000 | G308: =C308-F308 -> 0
A309: AVANZA 1.5 G CVT LUX | B309: W01GA/T00Y | C309: 321420000 | F309: 321420000 | G309: =C309-F309 -> 0
A310: AVANZA 1.3 E M/T LUX | B310: W00EM/T00Y | C310: 283620000 | F310: 283620000 | G310: =C310-F310 -> 0
...

Sheet OTR krw
A3: SURAT KEPUTUSAN
A4: NO. SK/001/TSO.OPR/XI/2025
A6: HARGA KENDARAAN TOYOTA
A7: REGULAR ORDER
A8: WILAYAH : KARAWANG dan PURWAKARTA
A9: Per 1 November 2025 | F9: N-1 | G9: SELISIH
A11: TYPE | B11: KODE TIPE | C11: ON THE ROAD | D11: KETERANGAN | F11: ON THE ROAD | G11: ON THE ROAD
A12: All New Vios 1.5 G CVT | B12: NGC102GA/T00 | C12: 377300000 | F12: 377300000 | G12: =C12-F12 -> 0
A13: All New Vios 1.5 G TSS CVT | B13: NGC102GA/T01 | C13: 390500000 | F13: 390500000 | G13: =C13-F13 -> 0
A14: COROLLA ALTIS 1.8 V A/T | B14: ZE211VA/T24 | C14: 586500000 | F14: 586500000 | G14: =C14-F14 -> 0
A15: COROLLA ALTIS 1.8 V A/T (Premium Color) | B15: ZE211VA/T25 | C15: 589500000 | F15: 589500000 | G15: =C15-F15 -> 0
A16: COROLLA ALTIS 1.8L HYBRID A/T | B16: ZE211LA/T26 | C16: 640100000 | F16: 640100000 | G16: =C16-F16 -> 0
A17: COROLLA ALTIS 1.8L HYBRID A/T (Premium Color) | B17: ZE211LA/T27 | C17: 643200000 | F17: 643200000 | G17: =C17-F17 -> 0
A18: COROLLA ALTIS 1.8L HYBRID A/T GR-S | B18: ZE211LA/T28 | C18: 647500000 | F18: 647500000 | G18: =C18-F18 -> 0
A19: COROLLA ALTIS 1.8L HYBRID A/T GR-S (Premium Color) | B19: ZE211LA/T29 | C19: 650600000 | F19: 650600000 | G19: =C19-F19 -> 0
A20: COROLLA CROSS 1.8 HYBRID A/T | B20: ZVG10A/T31 | C20: 608800000 | F20: 608800000 | G20: =C20-F20 -> 0
A21: COROLLA CROSS 1.8 HYBRID A/T(Premium Color) | B21: ZVG10A/T32 | C21: 611900000 | F21: 611900000 | G21: =C21-F21 -> 0
A22: COROLLA CROSS 1.8 HYBRID GR-S A/T | B22: ZVG10A/T41 | C22: 648500000 | F22: 648500000 | G22: =C22-F22 -> 0
A23: COROLLA CROSS 1.8 HYBRID GR-S A/T (Premium Color) | B23: ZVG10A/T42 | C23: 653600000 | F23: 653600000 | G23: =C23-F23 -> 0
... A222: Bz4X A/T ex-KTT Vin 2023 (With Wall Charger) | B222: XEA10EVB1 | C222: 1248500000 | F222: 1248500000 | G222: =C222-F222 -> 0
A223: Jakarta, 1 Oktober 2025
A224: 1. Tarif BBNKB menggunakan tarif kepemilikan unit kedua
A225: 2. Dyna, Hilux, Hi Ace sudah termasuk Keur.
A226: 3. LC 300 unit tergantung ketersediaan barang
A229: SURAT KEPUTUSAN
A230: NO. SK/001/TSO.OPR/VIII/2025
A232: HARGA KENDARAAN TOYOTA
A233: PRIME SERIES
A234: WILAYAH : KARAWANG dan PURWAKARTA
A235: Per 1 Oktober 2025 | F235: N-1 | G235: SELISIH
A237: TYPE | B237: KODE TIPE | C237: ON THE ROAD | D237: KETERANGAN | F237: ON THE ROAD | G237: ON THE ROAD
A238: AGYA 1.2 G CVT PRIME | B238: A351GA/T00CA | C238: 203500000 | D238: CA, CB: Premium Horn, DVR | F238: 203500000 | G238: =C238-F238 -> 0
A239: AGYA STYLIX 1.2 G CVT PRIME | B239: A351GA/T10CB | C239: 207000000 | F239: 207000000 | G239: =C239-F239 -> 0
A240: AGYA 1.2 G M/T PRIME | B240: A351GM/T00CA | C240: 187400000 | F240: 187400000 | G240: =C240-F240 -> 0
A241: CALYA 1.2 G MT PRIME | B241: B40GM/T20CA | C241: 184600000 | D241: CA: Side Visor, Foglamp Ornament, Door Handle Protector | F241: 184600000 | G241: =C241-F241 -> 0
A242: CALYA 1.2 G AT PRIME | B242: B40GA/T20CA | C242: 199000000 | F242: 199000000 | G242: =C242-F242 -> 0
A243: AVANZA 1.3 E M/T PRIME | B243: W00EM/T00DA | C243: 250000000 | D243: DA: Cargo Net, Front Grille Ornament, Side Body Moulding Gunmental | F243: 250000000 | G243: =C243-F243 -> 0
A244: AVANZA 1.5 G CVT PRIME | B244: W01GA/T00DA | C244: 287800000 | F244: 287800000 | G244: =C244-F244 -> 0
A245: AVANZA 1.5 G M/T PRIME | B245: W01GM/T00DA | C245: 272900000 | F245: 272900000 | G245: =C245-F245 -> 0
A246: VELOZ 1.5 M/T (Premium Color) PRIME | B246: W01VM/T01BF | C246: 305600000 | D246: BC, BF, BK: Back Door Galss Chrome Ornament, Air Purifier | F246: 305600000 | G246: =C246-F246 -> 0
A247: VELOZ 1.5 CVT PRIME | B247: W01VA/T00BC | C247: 319900000 | F247: 319900000 | G247: =C247-F247 -> 0
A248: VELOZ 1.5 Q CVT (Premium Color) PRIME | B248: W01QVA/T02BK | C248: 330600000 | F248: 330600000 | G248: =C248-F248 -> 0
A249: NEW RUSH 1.5 G M/T PRIME | B249: F80GM/T30AA | C249: 298500000 | D249: AA, AD: Spare Tire Cover, Cargo Net, dan Sporty Outer Mirror | F249: 298500000 | G249: =C249-F249 -> 0
A250: NEW RUSH 1.5 G A/T PRIME | B250: F80GA/T30AA | C250: 309300000 | F250: 309300000 | G250: =C250-F250 -> 0
A251: NEW RUSH 1.5 S M/T GR SPORT PRIME | B251: F80SM/T40AD | C251: 313600000 | F251: 313600000 | G251: =C251-F251 -> 0
A252: NEW RUSH 1.5 S A/T GR SPORT PRIME | B252: F80SA/T40AD | C252: 324600000 | F252: 324600000 | G252: =C252-F252 -> 0
A253: KIJANG INNOVA 2.0 G M/T BSN PRIME | B253: TGN40GM/T30FA | C253: 396900000 | D253: FA: Spare Tire Cover, Rear Bumper Ornament, dan Rear Bumper Step Guard | F253: 396900000 | G253: =C253-F253 -> 0
A254: KIJANG INNOVA 2.4 G A/T DSL PRIME | B254: GUN14GA/T20FA | C254: 445800000 | F254: 445800000 | G254: =C254-F254 -> 0
A255: KIJANG INNOVA 2.4 G M/T DSL PRIME | B255: GUN14GM/T20FA | C255: 424200000 | F255: 424200000 | G255: =C255-F255 -> 0
A256: LAND CRUISER 300 VX-R 4x4 A/T PRIME | B256: FJA300VA/T14DA | C256: 2623800000 | D256: DA: Rear view Electric Mirror & Rubber Floor mat | F256: 2623800000 | G256: =C256-F256 -> 0
A257: LAND CRUISER 300 GR-S 4x4 A/T PRIME | B257: FJA300GA/T18DA | C257: 2711000000 | F257: 2711000000 | G257: =C257-F257 -> 0
A258: INNOVA ZENIX 2.0 G CVT PRIME | B258: MAG10GA/T00BC | C258: 443100000 | D258: BC, BD, BE, BF: Multifunction Box, Storage Organizer, Black Outer Mirror Cover, Spare Tire Cover, Premium Horn | F258: 443100000 | G258: =C258-F258 -> 0
A259: INNOVA ZENIX 2.0 G CVT (Premium Color) PRIME | B259: MAG10GA/T01BD | C259: 446100000 | F259: 446100000 | G259: =C259-F259 -> 0
A260: INNOVA ZENIX 2.0 V CVT PRIME | B260: MAG10VA/T00BE | C260: 488100000 | F260: 488100000 | G260: =C260-F260 -> 0
A261: INNOVA ZENIX 2.0 V CVT (Premium Color) PRIME | B261: MAG10VA/T01BF | C261: 491100000 | F261: 491100000 | G261: =C261-F261 -> 0
A262: INNOVA ZENIX 2.0 G HV CVT (Premium Color) PRIME | B262: MAG10GHA/T01BD | C262: 483300000 | F262: 483300000 | G262: =C262-F262 -> 0
A263: INNOVA ZENIX 2.0 V HV Modelista CVT PRIME | B263: MAG10VHA/T00BC | C263: 555600000 | F263: 555600000 | G263: =C263-F263 -> 0
A264: INNOVA ZENIX 2.0 V HV Modelista CVT (Premium Color) PRIME | B264: MAG10VHA/T01BD | C264: 558500000 | F264: 558500000 | G264: =C264-F264 -> 0
A265: INNOVA ZENIX 2.0 Q HV Modelista CVT TSS PRIME | B265: MAG10QHA/T00BC | C265: 631000000 | F265: 631000000 | G265: =C265-F265 -> 0
A266: INNOVA ZENIX 2.0 Q HV Modelista CVT TSS (Premium Color) PRIME | B266: MAG10QHA/T01BD | C266: 633800000 | F266: 633800000 | G266: =C266-F266 -> 0
A267: RAIZE 1.0T G M/T ONE TONE PRIME | B267: A250GM/T00DA | C267: 268500000 | D267: DA, DE, DG: Cargo Net, Air Purifier | F267: 268500000 | G267: =C267-F267 -> 0
A268: RAIZE 1.0T G CVT ONE TONE PRIME | B268: A250GA/T00DA | C268: 283600000 | F268: 283600000 | G268: =C268-F268 -> 0
A269: RAIZE 1.0T GR-S CVT ONE TONE PRIME | B269: A250SA/T20DE | C269: 297800000 | F269: 297800000 | G269: =C269-F269 -> 0
A270: RAIZE 1.0T GR-S CVT TWO TONE PRIME | B270: A250SA/T21DG | C270: 300400000 | F270: 300400000 | G270: =C270-F270 -> 0
A271: RAIZE 1.2 G M/T ONE TONE PRIME | B271: A251GM/T00DA | C271: 248800000 | F271: 248800000 | G271: =C271-F271 -> 0
A272: RAIZE 1.2 G CVT ONE TONE PRIME | B272: A251GA/T00DA | C272: 263800000 | F272: 263800000 | G272: =C272-F272 -> 0
A273: FORTUNER 2.8 VRZ WITH GR AERO TSS 4X2 A/T ONE TONE PRIME | B273: GUN166VA/T31BF | C273: 682500000 | D273: BF, BH: Spare Tire Cover, Sporty Door Handle, Housing Protector, and Mirror Cover, and Premium Horn | F273: 682500000 | G273: =C273-F273 -> 0
A274: FORTUNER 2.8 VRZ 4X4 A/T GR-S TSS ONE TONE PRIME | B274: GUN156VA/T33BH | C274: 791200000 | F274: 791200000 | G274: =C274-F274 -> 0
A277: SURAT KEPUTUSAN
A278: NO. SK/001/TSO.OPR/VIII/2025
A280: HARGA KENDARAAN TOYOTA
A281: LUX ORDER
A282: WILAYAH : KARAWANG dan PURWAKARTA
A283: Per 1 Oktober 2025 | F283: N-1 | G283: SELISIH
A285: TYPE | B285: KODE TIPE | C285: ON THE ROAD | D285: KETERANGAN | F285: ON THE ROAD | G285: ON THE ROAD
A286: AGYA 1.2 E M/T LUX | B286: A351EM/T00Y | C286: 212568000 | F286: 212568000 | G286: =C286-F286 -> 0
A287: AGYA 1.2 G M/T LUX | B287: A351GM/T00Y | C287: 220068000 | F287: 220068000 | G287: =C287-F287 -> 0
A288: AGYA 1.2 G CVT LUX | B288: A351GA/T00Y | C288: 236168000 | F288: 236168000 | G288: =C288-F288 -> 0
A289: AGYA STYLIX 1.2 G CVT LUX | B289: A351GA/T10Y | C289: 239668000 | F289: 239668000 | G289: =C289-F289 -> 0
A290: AGYA 1.2 GR M/T (One Tone) LUX | B290: A351GRM/T00Y | C290: 285668000 | F290: 285668000 | G290: =C290-F290 -> 0
A291: AGYA 1.2 GR M/T (Two Tone) LUX | B291: A351GRM/T01Y | C291: 288068000 | F291: 288068000 | G291: =C291-F291 -> 0
A292: AGYA 1.2 GR CVT (One Tone) LUX | B292: A351GRA/T00Y | C292: 302068000 | F292: 302068000 | G292: =C292-F292 -> 0
A293: AGYA 1.2 GR CVT (Two Tone) LUX | B293: A351GRA/T01Y | C293: 304668000 | F293: 304668000 | G293: =C293-F293 -> 0
A294: AGYA 1.2 GR-S M/T (One Tone) Non-Premium LUX | B294: A351GRM/T10Y | C294: 276268000 | F294: 276268000 | G294: =C294-F294 -> 0
A295: AGYA 1.2 GR-S M/T (Two Tone) Non-Premium LUX | B295: A351GRM/T11Y | C295: 278768000 | F295: 278768000 | G295: =C295-F295 -> 0
A296: AGYA 1.2 GR-S CVT (One Tone) Non-Premium LUX | B296: A351GRA/T10Y | C296: 292868000 | F296: 292868000 | G296: =C296-F296 -> 0
A297: AGYA 1.2 GR-S CVT (Two Tone) Non-Premium LUX | B297: A351GRA/T11Y | C297: 295568000 | F297: 295568000 | G297: =C297-F297 -> 0
A298: CALYA 1.2 E MT STD LUX | B298: B40EM/T21 | C298: 209635000 | D298: Calya Lux: Side Visor & Mud Guard | F298: 209945000 | G298: =C298-F298 -> -310000
A299: CALYA 1.2 E MT LUX | B299: B40EM/T20 | C299: 212935000 | F299: 213245000 | G299: =C299-F299 -> -310000
A300: CALYA 1.2 G MT LUX | B300: B40GM/T20 | C300: 218435000 | F300: 218745000 | G300: =C300-F300 -> -310000
A301: CALYA 1.2 G AT LUX | B301: B40GA/T20 | C301: 232835000 | F301: 233145000 | G301: =C301-F301 -> -310000
A302: CALYA 1.2 E MT STD BASIC | B302: B40EM/T21FBY | C302: 209635000 | F302: 209945000 | G302: =C302-F302 -> -310000
A303: CALYA 1.2 E MT BASIC | B303: B40EM/T20FAY | C303: 212935000 | F303: 213245000 | G303: =C303-F303 -> -310000
A304: CALYA 1.2 G MT BASIC | B304: B40GM/T20FAY | C304: 218435000 | F304: 218745000 | G304: =C304-F304 -> -310000
A305: CALYA 1.2 G AT BASIC | B305: B40GA/T20FAY | C305: 232835000 | F305: 233145000 | G305: =C305-F305 -> -310000
A306: AVANZA 1.3 E M/T LUX | B306: W00EM/T00Y | C306: 283620000 | D306: Avanza Lux: Front Grille Ornament & Side Body Moulding Gunmetal | F306: 283620000 | G306: =C306-F306 -> 0
A307: AVANZA 1.3 E CVT LUX | B307: W00EA/T00Y | C307: 298620000 | F307: 298620000 | G307: =C307-F307 -> 0
A308: AVANZA 1.5 G M/T LUX | B308: W01GM/T00Y | C308: 306520000 | F308: 306520000 | G308: =C308-F308 -> 0
A309: AVANZA 1.5 G CVT LUX | B309: W01GA/T00Y | C309: 321420000 | F309: 321420000 | G309: =C309-F309 -> 0
A310: AVANZA 1.3 E M/T LUX | B310: W00EM/T00Y | C310: 283620000 | F310: 283620000 | G310: =C310-F310 -> 0
...

Sheet OTR sby
A3: SURAT KEPUTUSAN
A4: NO. SK/001/TSO.OPR/XI/2025
A6: HARGA KENDARAAN TOYOTA
A7: REGULAR ORDER
A8: WILAYAH : SURABAYA, MALANG, KEDIRI, JEMBER, MADIUN
A9: Per 1 November 2025 | F9: N-1 | G9: SELISIH
A11: TYPE | B11: KODE TIPE | C11: ON THE ROAD | D11: KETERANGAN | F11: ON THE ROAD | G11: ON THE ROAD
A12: All New Vios 1.5 G CVT | B12: NGC102GA/T00 | C12: 391900000 | F12: 391900000 | G12: =C12-F12 -> 0
A13: All New Vios 1.5 G TSS CVT | B13: NGC102GA/T01 | C13: 405100000 | F13: 405100000 | G13: =C13-F13 -> 0
A14: COROLLA ALTIS 1.8 V A/T | B14: ZE211VA/T24 | C14: 605200000 | F14: 605200000 | G14: =C14-F14 -> 0
A15: COROLLA ALTIS 1.8 V A/T (Premium Color) | B15: ZE211VA/T25 | C15: 608100000 | F15: 608100000 | G15: =C15-F15 -> 0
A16: COROLLA ALTIS 1.8L HYBRID A/T | B16: ZE211LA/T26 | C16: 659000000 | F16: 659000000 | G16: =C16-F16 -> 0
A17: COROLLA ALTIS 1.8L HYBRID A/T (Premium Color) | B17: ZE211LA/T27 | C17: 662100000 | F17: 662100000 | G17: =C17-F17 -> 0
A18: COROLLA ALTIS 1.8L HYBRID A/T GR-S | B18: ZE211LA/T28 | C18: 666500000 | F18: 666500000 | G18: =C18-F18 -> 0
A19: COROLLA ALTIS 1.8L HYBRID A/T GR-S (Premium Color) | B19: ZE211LA/T29 | C19: 669500000 | F19: 669500000 | G19: =C19-F19 -> 0
A20: COROLLA CROSS 1.8 HYBRID A/T | B20: ZVG10A/T31 | C20: 626800000 | F20: 626800000 | G20: =C20-F20 -> 0
A21: COROLLA CROSS 1.8 HYBRID A/T(Premium Color) | B21: ZVG10A/T32 | C21: 629900000 | F21: 629900000 | G21: =C21-F21 -> 0
A22: COROLLA CROSS 1.8 HYBRID GR-S A/T | B22: ZVG10A/T41 | C22: 666200000 | F22: 666200000 | G22: =C22-F22 -> 0
A23: COROLLA CROSS 1.8 HYBRID GR-S A/T (Premium Color) | B23: ZVG10A/T42 | C23: 671200000 | F23: 671200000 | G23: =C23-F23 -> 0
... A222: Bz4X A/T ex-KTT Vin 2023 (With Wall Charger) | B222: XEA10EVB1 | C222: 1282600000 | F222: 1282600000 | G222: =C222-F222 -> 0
A223: Jakarta, 1 Oktober 2025
A224: 1. Tarif BBNKB menggunakan tarif kepemilikan unit kedua
A225: 2. All Model include 1Y All Risk Insurance
A226: 3. Dyna, Hilux, Hi Ace sudah termasuk Keur.
A227: 4. LC 300 unit tergantung ketersediaan barang
A229: SURAT KEPUTUSAN
A230: NO. SK/001/TSO.OPR/VIII/2025
A232: HARGA KENDARAAN TOYOTA
A233: PRIME SERIES
A234: WILAYAH : SURABAYA, MALANG, KEDIRI, JEMBER, MADIUN
A235: Per 1 Oktober 2025 | F235: N-1 | G235: SELISIH
A237: TYPE | B237: KODE TIPE | C237: ON THE ROAD | D237: KETERANGAN | F237: ON THE ROAD | G237: ON THE ROAD
A238: AGYA 1.2 G CVT PRIME | B238: A351GA/T00CA | C238: 216300000 | D238: CA, CB: Premium Horn, DVR | F238: 216300000 | G238: =C238-F238 -> 0
A239: AGYA STYLIX 1.2 G CVT PRIME | B239: A351GA/T10CB | C239: 219800000 | F239: 219800000 | G239: =C239-F239 -> 0
A240: AGYA 1.2 G M/T PRIME | B240: A351GM/T00CA | C240: 199800000 | F240: 199800000 | G240: =C240-F240 -> 0
A241: CALYA 1.2 G MT PRIME | B241: B40GM/T20CA | C241: 198400000 | D241: CA: Side Visor, Foglamp Ornament, Door Handle Protector | F241: 198400000 | G241: =C241-F241 -> 0
A242: CALYA 1.2 G AT PRIME | B242: B40GA/T20CA | C242: 212700000 | F242: 212700000 | G242: =C242-F242 -> 0
A243: AVANZA 1.3 E M/T PRIME | B243: W00EM/T00DA | C243: 264700000 | D243: DA: Cargo Net, Front Grille Ornament, Side Body Moulding Gunmental | F243: 264700000 | G243: =C243-F243 -> 0
A244: AVANZA 1.5 G CVT PRIME | B244: W01GA/T00DA | C244: 302400000 | F244: 302400000 | G244: =C244-F244 -> 0
A245: AVANZA 1.5 G M/T PRIME | B245: W01GM/T00DA | C245: 287600000 | F245: 287600000 | G245: =C245-F245 -> 0
A246: VELOZ 1.5 M/T (Premium Color) PRIME | B246: W01VM/T01BF | C246: 321600000 | D246: BC, BF, BK: Back Door Galss Chrome Ornament, Air Purifier | F246: 321600000 | G246: =C246-F246 -> 0
A247: VELOZ 1.5 CVT PRIME | B247: W01VA/T00BC | C247: 336200000 | F247: 336200000 | G247: =C247-F247 -> 0
A248: VELOZ 1.5 Q CVT (Premium Color) PRIME | B248: W01QVA/T02BK | C248: 346900000 | F248: 346900000 | G248: =C248-F248 -> 0
A249: NEW RUSH 1.5 G M/T PRIME | B249: F80GM/T30AA | C249: 313700000 | D249: AA, AD: Spare Tire Cover, Cargo Net, dan Sporty Outer Mirror | F249: 313700000 | G249: =C249-F249 -> 0
A250: NEW RUSH 1.5 G A/T PRIME | B250: F80GA/T30AA | C250: 324900000 | F250: 324900000 | G250: =C250-F250 -> 0
A251: NEW RUSH 1.5 S M/T GR SPORT PRIME | B251: F80SM/T40AD | C251: 329200000 | F251: 329200000 | G251: =C251-F251 -> 0
A252: NEW RUSH 1.5 S A/T GR SPORT PRIME | B252: F80SA/T40AD | C252: 339900000 | F252: 339900000 | G252: =C252-F252 -> 0
A253: KIJANG INNOVA 2.0 G M/T BSN PRIME | B253: TGN40GM/T30FA | C253: 409400000 | D253: FA: Spare Tire Cover, Rear Bumper Ornament, dan Rear Bumper Step Guard | F253: 409400000 | G253: =C253-F253 -> 0
A254: KIJANG INNOVA 2.4 G A/T DSL PRIME | B254: GUN14GA/T20FA | C254: 462600000 | F254: 462600000 | G254: =C254-F254 -> 0
A255: KIJANG INNOVA 2.4 G M/T DSL PRIME | B255: GUN14GM/T20FA | C255: 440800000 | F255: 440800000 | G255: =C255-F255 -> 0
A256: LAND CRUISER 300 VX-R 4x4 A/T PRIME | B256: FJA300VA/T14DA | C256: 2696700000 | D256: DA: Rear view Electric Mirror & Rubber Floor mat | F256: 2696300000 | G256: =C256-F256 -> 400000
A257: LAND CRUISER 300 GR-S 4x4 A/T PRIME | B257: FJA300GA/T18DA | C257: 2787300000 | F257: 2786900000 | G257: =C257-F257 -> 400000
A258: INNOVA ZENIX 2.0 G CVT PRIME | B258: MAG10GA/T00BC | C258: 466700000 | D258: BC, BD, BE, BF: Multifunction Box, Storage Organizer, Black Outer Mirror Cover, Spare Tire Cover, Premium Horn | F258: 466700000 | G258: =C258-F258 -> 0
A259: INNOVA ZENIX 2.0 G CVT (Premium Color) PRIME | B259: MAG10GA/T01BD | C259: 469700000 | F259: 469700000 | G259: =C259-F259 -> 0
A260: INNOVA ZENIX 2.0 V CVT PRIME | B260: MAG10VA/T00BE | C260: 511900000 | F260: 511900000 | G260: =C260-F260 -> 0
A261: INNOVA ZENIX 2.0 V CVT (Premium Color) PRIME | B261: MAG10VA/T01BF | C261: 514800000 | F261: 514800000 | G261: =C261-F261 -> 0
A262: INNOVA ZENIX 2.0 G HV CVT (Premium Color) PRIME | B262: MAG10GHA/T01BD | C262: 507000000 | F262: 507000000 | G262: =C262-F262 -> 0
A263: INNOVA ZENIX 2.0 V HV Modelista CVT PRIME | B263: MAG10VHA/T00BC | C263: 577800000 | F263: 577800000 | G263: =C263-F263 -> 0
A264: INNOVA ZENIX 2.0 V HV Modelista CVT (Premium Color) PRIME | B264: MAG10VHA/T01BD | C264: 580500000 | F264: 580500000 | G264: =C264-F264 -> 0
A265: INNOVA ZENIX 2.0 Q HV Modelista CVT TSS PRIME | B265: MAG10QHA/T00BC | C265: 655100000 | F265: 655100000 | G265: =C265-F265 -> 0
A266: INNOVA ZENIX 2.0 Q HV Modelista CVT TSS (Premium Color) PRIME | B266: MAG10QHA/T01BD | C266: 657900000 | F266: 657900000 | G266: =C266-F266 -> 0
A267: RAIZE 1.0T G M/T ONE TONE PRIME | B267: A250GM/T00DA | C267: 283000000 | D267: DA, DE, DG: Cargo Net, Air Purifier | F267: 283000000 | G267: =C267-F267 -> 0
A268: RAIZE 1.0T G CVT ONE TONE PRIME | B268: A250GA/T00DA | C268: 298100000 | F268: 298100000 | G268: =C268-F268 -> 0
A269: RAIZE 1.0T GR-S CVT ONE TONE PRIME | B269: A250SA/T20DE | C269: 312300000 | F269: 312300000 | G269: =C269-F269 -> 0
A270: RAIZE 1.0T GR-S CVT TWO TONE PRIME | B270: A250SA/T21DG | C270: 314900000 | F270: 314900000 | G270: =C270-F270 -> 0
A271: RAIZE 1.2 G M/T ONE TONE PRIME | B271: A251GM/T00DA | C271: 263400000 | F271: 263400000 | G271: =C271-F271 -> 0
A272: RAIZE 1.2 G CVT ONE TONE PRIME | B272: A251GA/T00DA | C272: 278500000 | F272: 278500000 | G272: =C272-F272 -> 0
A273: FORTUNER 2.8 VRZ WITH GR AERO TSS 4X2 A/T ONE TONE PRIME | B273: GUN166VA/T31BF | C273: 702400000 | D273: BF, BH: Spare Tire Cover, Sporty Door Handle, Housing Protector, and Mirror Cover, and Premium Horn | F273: 702400000 | G273: =C273-F273 -> 0
A274: FORTUNER 2.8 VRZ 4X4 A/T GR-S TSS ONE TONE PRIME | B274: GUN156VA/T33BH | C274: 811200000 | F274: 811200000 | G274: =C274-F274 -> 0
A277: SURAT KEPUTUSAN
A278: NO. SK/001/TSO.OPR/VIII/2025
A280: HARGA KENDARAAN TOYOTA
A281: LUX ORDER
A282: WILAYAH : SURABAYA, MALANG, KEDIRI, JEMBER, MADIUN
A283: Per 1 Oktober 2025 | F283: N-1 | G283: SELISIH
A285: TYPE | B285: KODE TIPE | C285: ON THE ROAD | D285: KETERANGAN | F285: ON THE ROAD | G285: ON THE ROAD
A286: AGYA 1.2 E M/T LUX | B286: A351EM/T00Y | C286: 225168000 | F286: 225168000 | G286: =C286-F286 -> 0
A287: AGYA 1.2 G M/T LUX | B287: A351GM/T00Y | C287: 232468000 | F287: 232468000 | G287: =C287-F287 -> 0
A288: AGYA 1.2 G CVT LUX | B288: A351GA/T00Y | C288: 248968000 | F288: 248968000 | G288: =C288-F288 -> 0
A289: AGYA STYLIX 1.2 G CVT LUX | B289: A351GA/T10Y | C289: 252468000 | F289: 252468000 | G289: =C289-F289 -> 0
A290: AGYA 1.2 GR M/T (One Tone) LUX | B290: A351GRM/T00Y | C290: 298368000 | F290: 298368000 | G290: =C290-F290 -> 0
A291: AGYA 1.2 GR M/T (Two Tone) LUX | B291: A351GRM/T01Y | C291: 300868000 | F291: 300868000 | G291: =C291-F291 -> 0
A292: AGYA 1.2 GR CVT (One Tone) LUX | B292: A351GRA/T00Y | C292: 314768000 | F292: 314768000 | G292: =C292-F292 -> 0
A293: AGYA 1.2 GR CVT (Two Tone) LUX | B293: A351GRA/T01Y | C293: 317268000 | F293: 317268000 | G293: =C293-F293 -> 0
A294: AGYA 1.2 GR-S M/T (One Tone) Non-Premium LUX | B294: A351GRM/T10Y | C294: 289068000 | F294: 289068000 | G294: =C294-F294 -> 0
A295: AGYA 1.2 GR-S M/T (Two Tone) Non-Premium LUX | B295: A351GRM/T11Y | C295: 291568000 | F295: 291568000 | G295: =C295-F295 -> 0
A296: AGYA 1.2 GR-S CVT (One Tone) Non-Premium LUX | B296: A351GRA/T10Y | C296: 305668000 | F296: 305668000 | G296: =C296-F296 -> 0
A297: AGYA 1.2 GR-S CVT (Two Tone) Non-Premium LUX | B297: A351GRA/T11Y | C297: 308168000 | F297: 308168000 | G297: =C297-F297 -> 0
A298: CALYA 1.2 E MT STD LUX | B298: B40EM/T21 | C298: 223235000 | D298: Calya Lux: Side Visor & Mud Guard | F298: 223545000 | G298: =C298-F298 -> -310000
A299: CALYA 1.2 E MT LUX | B299: B40EM/T20 | C299: 226335000 | F299: 226645000 | G299: =C299-F299 -> -310000
A300: CALYA 1.2 G MT LUX | B300: B40GM/T20 | C300: 232235000 | F300: 232545000 | G300: =C300-F300 -> -310000
A301: CALYA 1.2 G AT LUX | B301: B40GA/T20 | C301: 246535000 | F301: 246845000 | G301: =C301-F301 -> -310000
A302: CALYA 1.2 E MT STD BASIC | B302: B40EM/T21FBY | C302: 223235000 | F302: 223545000 | G302: =C302-F302 -> -310000
A303: CALYA 1.2 E MT BASIC | B303: B40EM/T20FAY | C303: 226335000 | F303: 226645000 | G303: =C303-F303 -> -310000
A304: CALYA 1.2 G MT BASIC | B304: B40GM/T20FAY | C304: 232235000 | F304: 232545000 | G304: =C304-F304 -> -310000
A305: CALYA 1.2 G AT BASIC | B305: B40GA/T20FAY | C305: 246535000 | F305: 246845000 | G305: =C305-F305 -> -310000
A306: AVANZA 1.3 E M/T LUX | B306: W00EM/T00Y | C306: 298320000 | D306: Avanza Lux: Front Grille Ornament & Side Body Moulding Gunmetal | F306: 298320000 | G306: =C306-F306 -> 0
A307: AVANZA 1.3 E CVT LUX | B307: W00EA/T00Y | C307: 313220000 | F307: 313220000 | G307: =C307-F307 -> 0
A308: AVANZA 1.5 G M/T LUX | B308: W01GM/T00Y | C308: 321220000 | F308: 321220000 | G308: =C308-F308 -> 0
A309: AVANZA 1.5 G CVT LUX | B309: W01GA/T00Y | C309: 336020000 | F309: 336020000 | G309: =C309-F309 -> 0
...

Sheet OTR dps
A3: SURAT KEPUTUSAN
A4: NO. SK/001/TSO.OPR/XI/2025
A6: HARGA KENDARAAN TOYOTA
A7: REGULAR ORDER
A8: WILAYAH : DENPASAR
A9: Per 1 November 2025 | F9: N-1 | G9: SELISIH
A11: TYPE | B11: KODE TIPE | C11: ON THE ROAD | D11: KETERANGAN | F11: ON THE ROAD | G11: ON THE ROAD
A12: All New Vios 1.5 G CVT | B12: NGC102GA/T00 | C12: 394100000 | D12: Include Asuransi All Risk 1 tahun | F12: 394100000 | G12: =C12-F12 -> 0
A13: All New Vios 1.5 G TSS CVT | B13: NGC102GA/T01 | C13: 407800000 | F13: 407800000 | G13: =C13-F13 -> 0
A14: COROLLA ALTIS 1.8 V A/T | B14: ZE211VA/T24 | C14: 604300000 | D14: Include Asuransi All Risk 1 tahun | F14: 604300000 | G14: =C14-F14 -> 0
A15: COROLLA ALTIS 1.8 V A/T (Premium Color) | B15: ZE211VA/T25 | C15: 607300000 | F15: 607300000 | G15: =C15-F15 -> 0
A16: COROLLA ALTIS 1.8L HYBRID A/T | B16: ZE211LA/T26 | C16: 659800000 | F16: 659800000 | G16: =C16-F16 -> 0
A17: COROLLA ALTIS 1.8L HYBRID A/T (Premium Color) | B17: ZE211LA/T27 | C17: 662700000 | F17: 662700000 | G17: =C17-F17 -> 0
A18: COROLLA ALTIS 1.8L HYBRID A/T GR-S | B18: ZE211LA/T28 | C18: 667300000 | F18: 667300000 | G18: =C18-F18 -> 0
A19: COROLLA ALTIS 1.8L HYBRID A/T GR-S (Premium Color) | B19: ZE211LA/T29 | C19: 670200000 | F19: 670200000 | G19: =C19-F19 -> 0
A20: COROLLA CROSS 1.8 HYBRID A/T | B20: ZVG10A/T31 | C20: 624600000 | F20: 624600000 | G20: =C20-F20 -> 0
A21: COROLLA CROSS 1.8 HYBRID A/T(Premium Color) | B21: ZVG10A/T32 | C21: 627600000 | F21: 627600000 | G21: =C21-F21 -> 0
A22: COROLLA CROSS 1.8 HYBRID GR-S A/T | B22: ZVG10A/T41 | C22: 665100000 | F22: 665100000 | G22: =C22-F22 -> 0
A23: COROLLA CROSS 1.8 HYBRID GR-S A/T (Premium Color) | B23: ZVG10A/T42 | C23: 670200000 | F23: 670200000 | G23: =C23-F23 -> 0
A24: CAMRY 2.5 V A/T | B24: AX80VGA/T00 | C24: 874200000 | F24: 874200000 | G24: =C24-F24 -> 0
A25: CAMRY 2.5 V A/T (Premium Color) | B25: AX80VGA/T01 | C25: 877400000 | F25: 877400000 | G25: =C25-F25 -> 0
A26: CAMRY 2.5 L A/T HYBRID | B26: AX80VA/T00 | C26: 1001400000 | F26: 1001400000 | G26: =C26-F26 -> 0
A27: CAMRY 2.5 L A/T HYBRID (Premium Color) | B27: AX80VA/T01 | C27: 1004400000 | F27: 1004400000 | G27: =C27-F27 -> 0
A28: AGYA 1.2 E M/T | B28: A351EM/T00 | C28: 192800000 | D28: Include Asuransi All Risk 1 tahun | F28: 192800000 | G28: =C28-F28 -> 0
A29: AGYA 1.2 G M/T | B29: A351GM/T00 | C29: 200400000 | F29: 200400000 | G29: =C29-F29 -> 0
A30: AGYA 1.2 G CVT | B30: A351GA/T00 | C30: 217100000 | F30: 217100000 | G30: =C30-F30 -> 0
A31: AGYA STYLIX 1.2 G CVT | B31: A351GA/T10 | C31: 220600000 | F31: 220600000 | G31: =C31-F31 -> 0
A32: AGYA 1.2 GR M/T (One Tone) | B32: A351GRM/T00 | C32: 267200000 | F32: 267200000 | G32: =C32-F32 -> 0
A33: AGYA 1.2 GR M/T (Two Tone) | B33: A351GRM/T01 | C33: 269600000 | F33: 269600000 | G33: =C33-F33 -> 0
A34: AGYA 1.2 GR CVT (One Tone) | B34: A351GRA/T00 | C34: 283900000 | F34: 283900000 | G34: =C34-F34 -> 0
A35: AGYA 1.2 GR CVT (Two Tone) | B35: A351GRA/T01 | C35: 286500000 | F35: 286500000 | G35: =C35-F35 -> 0
A36: AGYA 1.2 GR-S M/T (One Tone) Non Premium | B36: A351GRM/T10 | C36: 257900000 | F36: 257900000 | G36: =C36-F36 -> 0
A37: AGYA 1.2 GR-S M/T (Two Tone) Non Premium | B37: A351GRM/T11 | C37: 260400000 | F37: 260400000 | G37: =C37-F37 -> 0
A38: AGYA 1.2 GR-S CVT (One Tone) Non Premium | B38: A351GRA/T10 | C38: 274800000 | F38: 274800000 | G38: =C38-F38 -> 0
A39: AGYA 1.2 GR-S CVT (Two Tone) Non Premium | B39: A351GRA/T11 | C39: 277400000 | F39: 277400000 | G39: =C39-F39 -> 0
A40: CALYA 1.2 E MT STD | B40: B40EM/T21B | C40: 189600000 | D40: Include Asuransi All Risk 1 tahun | F40: 189600000 | G40: =C40-F40 -> 0
A41: CALYA 1.2 E MT | B41: B40EM/T20B | C41: 193000000 | F41: 193000000 | G41: =C41-F41 -> 0
A42: CALYA 1.2 G MT | B42: B40GM/T20B | C42: 198900000 | F42: 198900000 | G42: =C42-F42 -> 0
A43: CALYA 1.2 G AT | B43: B40GA/T20B | C43: 213500000 | F43: 213500000 | G43: =C43-F43 -> 0
A44: AVANZA 1.3 E M/T | B44: W00EM/T00 | C44: 264000000 | F44: 263800000 | G44: =C44-F44 -> 200000
A45: AVANZA 1.3 E CVT | B45: W00EA/T00 | C45: 279200000 | F45: 279000000 | G45: =C45-F45 -> 200000
A46: AVANZA 1.5 G M/T | B46: W01GM/T00 | C46: 287300000 | F46: 287100000 | G46: =C46-F46 -> 200000
A47: AVANZA 1.5 G CVT | B47: W01GA/T00 | C47: 302500000 | F47: 302300000 | G47: =C47-F47 -> 200000
A48: VELOZ 1.5 M/T | B48: W01VM/T00 | C48: 320300000 | F48: 320100000 | G48: =C48-F48 -> 200000
A49: VELOZ 1.5 M/T (Premium Color) | B49: W01VM/T01 | C49: 321700000 | F49: 321500000 | G49: =C49-F49 -> 200000
A50: VELOZ 1.5 CVT | B50: W01VA/T00 | C50: 336600000 | F50: 336400000 | G50: =C50-F50 -> 200000
A51: VELOZ 1.5 CVT (Premium Color) | B51: W01VA/T01 | C51: 338100000 | F51: 337900000 | G51: =C51-F51 -> 200000
A52: VELOZ 1.5 Q CVT | B52: W01QVA/T00 | C52: 345800000 | F52: 345600000 | G52: =C52-F52 -> 200000
... A55: VELOZ 1.5 Q CVT TSS (Premium Color) | B55: W01QVA/T03 | C55: 370500000 | F55: 370300000 | G55: =C55-F55 -> 200000
A56: YARIS 1.5 S CVT GR SPORT 3 Airbags Monotone | B56: NSP15SA/T61 | C56: 360900000 | D56: Include Asuransi All Risk 1 tahun | F56: 360700000 | G56: =C56-F56 -> 200000
A57: YARIS 1.5 S CVT GR SPORT 3 Airbags Bitone | B57: NSP15SA/T63 | C57: 365000000 | F57: 364800000 | G57: =C57-F57 -> 200000
A58: YARIS 1.5 S CVT GR SPORT 7 Airbags Monotone | B58: NSP15SA/T60 | C58: 367800000 | F58: 367600000 | G58: =C58-F58 -> 200000
A59: YARIS 1.5 S CVT GR SPORT 7 Airbags Bitone | B59: NSP15SA/T62 | C59: 371900000 | F59: 371700000 | G59: =C59-F59 -> 200000
A60: YARIS CROSS 1.5 G MT | B60: NGC20GM/T00 | C60: 382800000 | F60: 382800000 | G60: =C60-F60 -> 0
A61: YARIS CROSS 1.5 G CVT | B61: NGC20GA/T00 | C61: 396400000 | F61: 396400000 | G61: =C61-F61 -> 0
A62: YARIS CROSS 1.5 S CVT TSS | B62: NGC20SA/T00 | C62: 441300000 | F62: 441300000 | G62: =C62-F62 -> 0
A63: YARIS CROSS 1.5 S CVT TSS (Premium Color) | B63: NGC20SA/T02 | C63: 443700000 | F63: 443700000 | G63: =C63-F63 -> 0
A64: YARIS CROSS 1.5 S GR CVT TSS | B64: NGC20SA/T01 | C64: 450600000 | F64: 450600000 | G64: =C64-F64 -> 0
A65: YARIS CROSS 1.5 S GR CVT TSS (Premium Color) | B65: NGC20SA/T03 | C65: 453800000 | F65: 453800000 | G65: =C65-F65 -> 0
A66: YARIS CROSS 1.5 S HV CVT TSS | B66: NYC20SHA/T00 | C66: 463300000 | F66: 463300000 | G66: =C66-F66 -> 0
A67: YARIS CROSS 1.5 S HV CVT TSS (Premium Color) | B67: NYC20SHA/T06 | C67: 465800000 | F67: 465800000 | G67: =C67-F67 -> 0
A68: YARIS CROSS 1.5 S HV CVT TSS 2 TONE | B68: NYC20SHA/T04 | C68: 467400000 | F68: 467400000 | G68: =C68-F68 -> 0
... A73: YARIS CROSS 1.5 S GR HV CVT TSS 2 TONE (Premium Color) | B73: NYC20SHA/T03 | C73: 477800000 | F73: 477800000 | G73: =C73-F73 -> 0
A74: NEW RUSH 1.5 G M/T | B74: F80GM/T30B | C74: 318000000 | D74: Include Asuransi All Risk 1 tahun | F74: 318000000 | G74: =C74-F74 -> 0
A75: NEW RUSH 1.5 G A/T | B75: F80GA/T30B | C75: 329300000 | F75: 329300000 | G75: =C75-F75 -> 0
A76: NEW RUSH 1.5 S M/T GR SPORT | B76: F80SM/T40B | C76: 333700000 | F76: 333700000 | G76: =C76-F76 -> 0
A77: NEW RUSH 1.5 S A/T GR SPORT | B77: F80SA/T40B | C77: 344400000 | F77: 344400000 | G77: =C77-F77 -> 0
A78: VOXY 2.0 A/T | B78: MZR90A/T00B | C78: 651500000 | F78: 651500000 | G78: =C78-F78 -> 0
A79: VOXY 2.0 A/T (Premium Color) | B79: MZR90A/T01B | C79: 654500000 | F79: 654500000 | G79: =C79-F79 -> 0
A80: NEW VELLFIRE 2.5 VIP HYBRID CVT | B80: AAH40HA/T00 | C80: 1907100000 | F80: 1907100000 | G80: =C80-F80 -> 0
A81: NEW VELLFIRE 2.5 VIP HYBRID CVT (Premium Color) | B81: AAH40HA/T01 | C81: 1910600000 | F81: 1910600000 | G81: =C81-F81 -> 0
A82: NEW ALPHARD 2.5 G CVT | B82: AGH40GA/T00 | C82: 1684500000 | F82: 1684500000 | G82: =C82-F82 -> 0
A83: NEW ALPHARD 2.5 G CVT (Premium Color) | B83: AGH40GA/T01 | C83: 1688200000 | F83: 1688200000 | G83: =C83-F83 -> 0
A84: NEW ALPHARD 2.5 HYBRID CVT | B84: AGH40HA/T00 | C84: 1770000000 | F84: 1770000000 | G84: =C84-F84 -> 0
A85: NEW ALPHARD 2.5 HYBRID CVT (Premium Color) | B85: AGH40HA/T01 | C85: 1773600000 | F85: 1773600000 | G85: =C85-F85 -> 0
A86: KIJANG INNOVA 2.0 G M/T BSN | B86: TGN40GM/T30X | C86: 411600000 | D86: Include Asuransi All Risk 1 tahun | F86: 411600000 | G86: =C86-F86 -> 0
A87: KIJANG INNOVA 2.4 G A/T DSL | B87: GUN14GA/T20X | C87: 465100000 | F87: 465100000 | G87: =C87-F87 -> 0
A88: KIJANG INNOVA 2.4 G M/T DSL | B88: GUN14GM/T20X | C88: 443100000 | F88: 443100000 | G88: =C88-F88 -> 0
A89: INNOVA ZENIX 2.0 G CVT | B89: MAG10GA/T00 | C89: 465100000 | F89: 465100000 | G89: =C89-F89 -> 0
A90: INNOVA ZENIX 2.0 G CVT (Premium Color) | B90: MAG10GA/T01 | C90: 468200000 | F90: 468200000 | G90: =C90-F90 -> 0
A91: INNOVA ZENIX 2.0 V CVT | B91: MAG10VA/T00 | C91: 511000000 | F91: 511000000 | G91: =C91-F91 -> 0
A92: INNOVA ZENIX 2.0 V CVT (Premium Color) | B92: MAG10VA/T01 | C92: 514100000 | F92: 514100000 | G92: =C92-F92 -> 0
A93: INNOVA ZENIX 2.0 G HV CVT | B93: MAG10GHA/T00 | C93: 503500000 | F93: 503500000 | G93: =C93-F93 -> 0
A94: INNOVA ZENIX 2.0 G HV CVT (Premium Color) | B94: MAG10GHA/T01 | C94: 506400000 | F94: 506400000 | G94: =C94-F94 -> 0
A95: INNOVA ZENIX 2.0 G HV CVT | B95: MAG10GHA/T05 | C95: 503500000 | F95: 503500000 | G95: =C95-F95 -> 0
A96: INNOVA ZENIX 2.0 G HV CVT (Premium Color) | B96: MAG10GHA/T06 | C96: 506400000 | F96: 506400000 | G96: =C96-F96 -> 0
A97: INNOVA ZENIX 2.0 V HV Modelista CVT | B97: MAG10VHA/T00 | C97: 578200000 | F97: 578200000 | G97: =C97-F97 -> 0
A98: INNOVA ZENIX 2.0 V HV Modelista CVT (Premium Color) | B98: MAG10VHA/T01 | C98: 581200000 | F98: 581200000 | G98: =C98-F98 -> 0
... A127: NEW INNOVA ZENIX 2.0 Q HV Modelista CVT TSS Non RSE (Premium Color) | B127: MAG10QHA/T15 | C127: 651500000 | F127: 651500000 | G127: =C127-F127 -> 0
A128: HILUX SINGLE CABIN 2.4 DSL 4x4 M/T | B128: GUN25SCM/T30 | C128: 438500000 | D128: Include Asuransi All Risk 1 tahun | F128: 438500000 | G128: =C128-F128 -> 0
A129: HILUX DOUBLE CABIN 2.4 E (4X4) DSL M/T | B129: GUN25DCEM/T40 | C129: 475600000 | F129: 475600000 | G129: =C129-F129 -> 0
A130: HILUX DOUBLE CABIN 2.4 G (4X4) DSL M/T | B130: GUN25DCGM/T30 | C130: 510100000 | F130: 510100000 | G130: =C130-F130 -> 0
A131: HILUX DOUBLE CABIN 2.4 V (4x4) DSL A/T | B131: GUN25DCVA/T40 | C131: 562700000 | F131: 562700000 | G131: =C131-F131 -> 0
A132: HILUX RANGGA CAB-CHASSIS PU 2.0 STD M/T | B132: TGN10CCSM/T00 | C132: 206000000 | F132: 206000000 | G132: =C132-F132 -> 0
A133: HILUX RANGGA CAB-CHASSIS MB 2.0 STD M/T | B133: TGN10MBSM/T01 | C133: 206000000 | F133: 206000000 | G133: =C133-F133 -> 0
A134: HILUX RANGGA PICK UP 2.0 STD M/T | B134: TGN10PUSM/T00 | C134: 211000000 | F134: 211000000 | G134: =C134-F134 -> 0
A135: HILUX RANGGA PICK UP 2.0 STD M/T 3WAY | B135: TGN10PUSM/T01 | C135: 212000000 | F135: 212000000 | G135: =C135-F135 -> 0
A136: HILUX RANGGA PICK UP 2.0 HIGH M/T | B136: TGN10PUHM/T00 | C136: 234500000 | F136: 234500000 | G136: =C136-F136 -> 0
A137: HILUX RANGGA PICK UP 2.0 HIGH M/T | B137: TGN10PUHM/T02 | C137: 234500000 | F137: 234500000 | G137: =C137-F137 -> 0
A138: HILUX RANGGA CAB-CHASSIS PU 2.4 DSL STD M/T | B138: GUN12CCSM/T00 | C138: 263500000 | F138: 263500000 | G138: =C138-F138 -> 0
...

Sheet OTR blp
A3: SURAT KEPUTUSAN
A4: NO. SK/001/TSO.OPR/XI/2025
A6: HARGA KENDARAAN TOYOTA
A7: REGULAR ORDER
A8: WILAYAH : BALIKPAPAN
A9: Per 1 November 2025 | F9: N-1 | G9: SELISIH
A11: TYPE | B11: KODE TIPE | C11: ON THE ROAD | D11: KETERANGAN | F11: ON THE ROAD | G11: ON THE ROAD
A12: All New Vios 1.5 G CVT | B12: NGC102GA/T00 | C12: 418500000 | F12: 418500000 | G12: =C12-F12 -> 0
A13: All New Vios 1.5 G TSS CVT | B13: NGC102GA/T01 | C13: 432100000 | F13: 432100000 | G13: =C13-F13 -> 0
A14: COROLLA ALTIS 1.8 V A/T | B14: ZE211VA/T24 | C14: 628700000 | F14: 628700000 | G14: =C14-F14 -> 0
A15: COROLLA ALTIS 1.8 V A/T (Premium Color) | B15: ZE211VA/T25 | C15: 631800000 | F15: 631800000 | G15: =C15-F15 -> 0
A16: COROLLA ALTIS 1.8L HYBRID A/T | B16: ZE211LA/T26 | C16: 684900000 | F16: 684900000 | G16: =C16-F16 -> 0
A17: COROLLA ALTIS 1.8L HYBRID A/T (Premium Color) | B17: ZE211LA/T27 | C17: 688000000 | F17: 688000000 | G17: =C17-F17 -> 0
A18: COROLLA ALTIS 1.8L HYBRID A/T GR-S | B18: ZE211LA/T28 | C18: 692300000 | F18: 692300000 | G18: =C18-F18 -> 0
A19: COROLLA ALTIS 1.8L HYBRID A/T GR-S (Premium Color) | B19: ZE211LA/T29 | C19: 695400000 | F19: 695400000 | G19: =C19-F19 -> 0
A20: COROLLA CROSS 1.8 HYBRID A/T | B20: ZVG10A/T31 | C20: 647400000 | F20: 647400000 | G20: =C20-F20 -> 0
A21: COROLLA CROSS 1.8 HYBRID A/T(Premium Color) | B21: ZVG10A/T32 | C21: 650400000 | F21: 650400000 | G21: =C21-F21 -> 0
A22: COROLLA CROSS 1.8 HYBRID GR-S A/T | B22: ZVG10A/T41 | C22: 689300000 | F22: 689300000 | G22: =C22-F22 -> 0
A23: COROLLA CROSS 1.8 HYBRID GR-S A/T (Premium Color) | B23: ZVG10A/T42 | C23: 694400000 | F23: 694400000 | G23: =C23-F23 -> 0
... A222: Bz4X A/T ex-KTT Vin 2023 (With Wall Charger) | B222: XEA10EVB1 | C222: 1306000000 | F222: 1306000000 | G222: =C222-F222 -> 0
A223: Jakarta, 1 Oktober 2025
A224: 1. Tarif BBNKB menggunakan tarif kepemilikan unit kedua
A225: 2. All Model include 1Y All Risk Insurance
A226: 3. Dyna, Hilux, Hi Ace sudah termasuk Keur.
A227: 4. LC 300 unit tergantung ketersediaan barang
A229: SURAT KEPUTUSAN
A230: NO. SK/001/TSO.OPR/VIII/2025
A232: HARGA KENDARAAN TOYOTA
A233: PRIME SERIES
A234: WILAYAH : BALIKPAPAN
A235: Per 1 Oktober 2025 | F235: N-1 | G235: SELISIH
A237: TYPE | B237: KODE TIPE | C237: ON THE ROAD | D237: KETERANGAN | F237: ON THE ROAD | G237: ON THE ROAD
A238: AGYA 1.2 G CVT PRIME | B238: A351GA/T00CA | C238: 235800000 | D238: CA, CB: Premium Horn, DVR | F238: 235800000 | G238: =C238-F238 -> 0
A239: AGYA STYLIX 1.2 G CVT PRIME | B239: A351GA/T10CB | C239: 239300000 | F239: 239300000 | G239: =C239-F239 -> 0
A240: AGYA 1.2 G M/T PRIME | B240: A351GM/T00CA | C240: 219400000 | F240: 219400000 | G240: =C240-F240 -> 0
A241: CALYA 1.2 G MT PRIME | B241: B40GM/T20CA | C241: 218700000 | D241: CA: Side Visor, Foglamp Ornament, Door Handle Protector | F241: 218700000 | G241: =C241-F241 -> 0
A242: CALYA 1.2 G AT PRIME | B242: B40GA/T20CA | C242: 233000000 | F242: 233000000 | G242: =C242-F242 -> 0
A243: AVANZA 1.3 E M/T PRIME | B243: W00EM/T00DA | C243: 284600000 | D243: DA: Cargo Net, Front Grille Ornament, Side Body Moulding Gunmental | F243: 284600000 | G243: =C243-F243 -> 0
A244: AVANZA 1.5 G CVT PRIME | B244: W01GA/T00DA | C244: 322100000 | F244: 322100000 | G244: =C244-F244 -> 0
A245: AVANZA 1.5 G M/T PRIME | B245: W01GM/T00DA | C245: 307600000 | F245: 307600000 | G245: =C245-F245 -> 0
A246: VELOZ 1.5 M/T (Premium Color) PRIME | B246: W01VM/T01BF | C246: 341500000 | D246: BC, BF, BK: Back Door Galss Chrome Ornament, Air Purifier | F246: 341500000 | G246: =C246-F246 -> 0
A247: VELOZ 1.5 CVT PRIME | B247: W01VA/T00BC | C247: 356000000 | F247: 356000000 | G247: =C247-F247 -> 0
A248: VELOZ 1.5 Q CVT (Premium Color) PRIME | B248: W01QVA/T02BK | C248: 366800000 | F248: 366800000 | G248: =C248-F248 -> 0
A249: NEW RUSH 1.5 G M/T PRIME | B249: F80GM/T30AA | C249: 334800000 | D249: AA, AD: Spare Tire Cover, Cargo Net, dan Sporty Outer Mirror | F249: 334800000 | G249: =C249-F249 -> 0
A250: NEW RUSH 1.5 G A/T PRIME | B250: F80GA/T30AA | C250: 345400000 | F250: 345400000 | G250: =C250-F250 -> 0
A251: NEW RUSH 1.5 S M/T GR SPORT PRIME | B251: F80SM/T40AD | C251: 350300000 | F251: 350300000 | G251: =C251-F251 -> 0
A252: NEW RUSH 1.5 S A/T GR SPORT PRIME | B252: F80SA/T40AD | C252: 361000000 | F252: 361000000 | G252: =C252-F252 -> 0
A253: KIJANG INNOVA 2.0 G M/T BSN PRIME | B253: TGN40GM/T30FA | C253: 431400000 | D253: FA: Spare Tire Cover, Rear Bumper Ornament, dan Rear Bumper Step Guard | F253: 431400000 | G253: =C253-F253 -> 0
A254: KIJANG INNOVA 2.4 G A/T DSL PRIME | B254: GUN14GA/T20FA | C254: 484800000 | F254: 484800000 | G254: =C254-F254 -> 0
A255: KIJANG INNOVA 2.4 G M/T DSL PRIME | B255: GUN14GM/T20FA | C255: 460500000 | F255: 460500000 | G255: =C255-F255 -> 0
A256: LAND CRUISER 300 VX-R 4x4 A/T PRIME | B256: FJA300VA/T14DA | C256: 2744700000 | D256: DA: Rear view Electric Mirror & Rubber Floor mat | F256: 2744700000 | G256: =C256-F256 -> 0
A257: LAND CRUISER 300 GR-S 4x4 A/T PRIME | B257: FJA300GA/T18DA | C257: 2819000000 | F257: 2819000000 | G257: =C257-F257 -> 0
A258: INNOVA ZENIX 2.0 G CVT PRIME | B258: MAG10GA/T00BC | C258: 490600000 | D258: BC, BD, BE, BF: Multifunction Box, Storage Organizer, Black Outer Mirror Cover, Spare Tire Cover, Premium Horn | F258: 490600000 | G258: =C258-F258 -> 0
A259: INNOVA ZENIX 2.0 G CVT (Premium Color) PRIME | B259: MAG10GA/T01BD | C259: 493700000 | F259: 493700000 | G259: =C259-F259 -> 0
A260: INNOVA ZENIX 2.0 V CVT PRIME | B260: MAG10VA/T00BE | C260: 532700000 | F260: 532700000 | G260: =C260-F260 -> 0
A261: INNOVA ZENIX 2.0 V CVT (Premium Color) PRIME | B261: MAG10VA/T01BF | C261: 535700000 | F261: 535700000 | G261: =C261-F261 -> 0
A262: INNOVA ZENIX 2.0 G HV CVT (Premium Color) PRIME | B262: MAG10GHA/T01BD | C262: 533900000 | F262: 533900000 | G262: =C262-F262 -> 0
A263: INNOVA ZENIX 2.0 V HV Modelista CVT PRIME | B263: MAG10VHA/T00BC | C263: 602100000 | F263: 602100000 | G263: =C263-F263 -> 0
A264: INNOVA ZENIX 2.0 V HV Modelista CVT (Premium Color) PRIME | B264: MAG10VHA/T01BD | C264: 605200000 | F264: 605200000 | G264: =C264-F264 -> 0
A265: INNOVA ZENIX 2.0 Q HV Modelista CVT TSS PRIME | B265: MAG10QHA/T00BC | C265: 680600000 | F265: 680600000 | G265: =C265-F265 -> 0
A266: INNOVA ZENIX 2.0 Q HV Modelista CVT TSS (Premium Color) PRIME | B266: MAG10QHA/T01BD | C266: 683700000 | F266: 683700000 | G266: =C266-F266 -> 0
A267: RAIZE 1.0T G M/T ONE TONE PRIME | B267: A250GM/T00DA | C267: 304000000 | D267: DA, DE, DG: Cargo Net, Air Purifier | F267: 303800000 | G267: =C267-F267 -> 200000
A268: RAIZE 1.0T G CVT ONE TONE PRIME | B268: A250GA/T00DA | C268: 319200000 | F268: 319000000 | G268: =C268-F268 -> 200000
A269: RAIZE 1.0T GR-S CVT ONE TONE PRIME | B269: A250SA/T20DE | C269: 333100000 | F269: 332900000 | G269: =C269-F269 -> 200000
A270: RAIZE 1.0T GR-S CVT TWO TONE PRIME | B270: A250SA/T21DG | C270: 335800000 | F270: 335600000 | G270: =C270-F270 -> 200000
A271: RAIZE 1.2 G M/T ONE TONE PRIME | B271: A251GM/T00DA | C271: 284300000 | F271: 284100000 | G271: =C271-F271 -> 200000
A272: RAIZE 1.2 G CVT ONE TONE PRIME | B272: A251GA/T00DA | C272: 299400000 | F272: 299200000 | G272: =C272-F272 -> 200000
A273: FORTUNER 2.8 VRZ WITH GR AERO TSS 4X2 A/T ONE TONE PRIME | B273: GUN166VA/T31BF | C273: 729200000 | D273: BF, BH: Spare Tire Cover, Sporty Door Handle, Housing Protector, and Mirror Cover, and Premium Horn | F273: 729200000 | G273: =C273-F273 -> 0
A274: FORTUNER 2.8 VRZ 4X4 A/T GR-S TSS ONE TONE PRIME | B274: GUN156VA/T33BH | C274: 837200000 | F274: 837200000 | G274: =C274-F274 -> 0
A277: SURAT KEPUTUSAN
A278: NO. SK/001/TSO.OPR/VIII/2025
A280: HARGA KENDARAAN TOYOTA
A281: LUX ORDER
A282: WILAYAH : BALIKPAPAN
A283: Per 1 Oktober 2025 | F283: N-1 | G283: SELISIH
A285: TYPE | B285: KODE TIPE | C285: ON THE ROAD | D285: KETERANGAN | F285: ON THE ROAD | G285: ON THE ROAD
A286: AGYA 1.2 E M/T LUX | B286: A351EM/T00Y | C286: 244768000 | D286: Agya Lux: Collapsible Box | F286: 244768000 | G286: =C286-F286 -> 0
A287: AGYA 1.2 G M/T LUX | B287: A351GM/T00Y | C287: 252068000 | F287: 252068000 | G287: =C287-F287 -> 0
A288: AGYA 1.2 G CVT LUX | B288: A351GA/T00Y | C288: 268468000 | F288: 268468000 | G288: =C288-F288 -> 0
A289: AGYA STYLIX 1.2 G CVT LUX | B289: A351GA/T10Y | C289: 271968000 | F289: 271968000 | G289: =C289-F289 -> 0
A290: AGYA 1.2 GR M/T (One Tone) LUX | B290: A351GRM/T00Y | C290: 318168000 | F290: 318168000 | G290: =C290-F290 -> 0
A291: AGYA 1.2 GR M/T (Two Tone) LUX | B291: A351GRM/T01Y | C291: 320668000 | F291: 320668000 | G291: =C291-F291 -> 0
A292: AGYA 1.2 GR CVT (One Tone) LUX | B292: A351GRA/T00Y | C292: 334568000 | F292: 334568000 | G292: =C292-F292 -> 0
A293: AGYA 1.2 GR CVT (Two Tone) LUX | B293: A351GRA/T01Y | C293: 337068000 | F293: 337068000 | G293: =C293-F293 -> 0
A294: AGYA 1.2 GR-S M/T (One Tone) Non-Premium LUX | B294: A351GRM/T10Y | C294: 308868000 | F294: 308868000 | G294: =C294-F294 -> 0
A295: AGYA 1.2 GR-S M/T (Two Tone) Non-Premium LUX | B295: A351GRM/T11Y | C295: 311368000 | F295: 311368000 | G295: =C295-F295 -> 0
A296: AGYA 1.2 GR-S CVT (One Tone) Non-Premium LUX | B296: A351GRA/T10Y | C296: 325468000 | F296: 325468000 | G296: =C296-F296 -> 0
A297: AGYA 1.2 GR-S CVT (Two Tone) Non-Premium LUX | B297: A351GRA/T11Y | C297: 327968000 | F297: 327968000 | G297: =C297-F297 -> 0
A298: CALYA 1.2 E MT STD LUX | B298: B40EM/T21 | C298: 243535000 | D298: Calya Lux: Side Visor & Mud Guard | F298: 243845000 | G298: =C298-F298 -> -310000
A299: CALYA 1.2 E MT LUX | B299: B40EM/T20 | C299: 246935000 | F299: 247245000 | G299: =C299-F299 -> -310000
A300: CALYA 1.2 G MT LUX | B300: B40GM/T20 | C300: 252535000 | F300: 252845000 | G300: =C300-F300 -> -310000
A301: CALYA 1.2 G AT LUX | B301: B40GA/T20 | C301: 266835000 | F301: 267145000 | G301: =C301-F301 -> -310000
A302: CALYA 1.2 E MT STD BASIC | B302: B40EM/T21FBY | C302: 243535000 | F302: 243845000 | G302: =C302-F302 -> -310000
A303: CALYA 1.2 E MT BASIC | B303: B40EM/T20FAY | C303: 246935000 | F303: 247245000 | G303: =C303-F303 -> -310000
A304: CALYA 1.2 G MT BASIC | B304: B40GM/T20FAY | C304: 252535000 | F304: 252845000 | G304: =C304-F304 -> -310000
A305: CALYA 1.2 G AT BASIC | B305: B40GA/T20FAY | C305: 266835000 | F305: 267145000 | G305: =C305-F305 -> -310000
A306: AVANZA 1.3 E M/T LUX | B306: W00EM/T00Y | C306: 318220000 | D306: Avanza Lux: Front Grille Ornament & Side Body Moulding Gunmetal | F306: 318220000 | G306: =C306-F306 -> 0
A307: AVANZA 1.3 E CVT LUX | B307: W00EA/T00Y | C307: 332820000 | F307: 332820000 | G307: =C307-F307 -> 0
A308: AVANZA 1.5 G M/T LUX | B308: W01GM/T00Y | C308: 341220000 | F308: 341220000 | G308: =C308-F308 -> 0
A309: AVANZA 1.5 G CVT LUX | B309: W01GA/T00Y | C309: 355720000 | F309: 355720000 | G309: =C309-F309 -> 0
...

Sheet OTR smr
A3: SURAT KEPUTUSAN
A4: NO. SK/001/TSO.OPR/XI/2025
A6: HARGA KENDARAAN TOYOTA
A7: REGULAR ORDER
A8: WILAYAH : SAMARINDA
A9: Per 1 November 2025 | F9: N-1 | G9: SELISIH
A11: TYPE | B11: KODE TIPE | C11: ON THE ROAD | D11: KETERANGAN | F11: ON THE ROAD | G11: ON THE ROAD
A12: All New Vios 1.5 G CVT | B12: NGC102GA/T00 | C12: 420000000 | F12: 420000000 | G12: =C12-F12 -> 0
A13: All New Vios 1.5 G TSS CVT | B13: NGC102GA/T01 | C13: 433600000 | F13: 433600000 | G13: =C13-F13 -> 0
A14: COROLLA ALTIS 1.8 V A/T | B14: ZE211VA/T24 | C14: 630200000 | F14: 630200000 | G14: =C14-F14 -> 0
A15: COROLLA ALTIS 1.8 V A/T (Premium Color) | B15: ZE211VA/T25 | C15: 633300000 | F15: 633300000 | G15: =C15-F15 -> 0
A16: COROLLA ALTIS 1.8L HYBRID A/T | B16: ZE211LA/T26 | C16: 686400000 | F16: 686400000 | G16: =C16-F16 -> 0
A17: COROLLA ALTIS 1.8L HYBRID A/T (Premium Color) | B17: ZE211LA/T27 | C17: 689500000 | F17: 689500000 | G17: =C17-F17 -> 0
A18: COROLLA ALTIS 1.8L HYBRID A/T GR-S | B18: ZE211LA/T28 | C18: 693800000 | F18: 693800000 | G18: =C18-F18 -> 0
A19: COROLLA ALTIS 1.8L HYBRID A/T GR-S (Premium Color) | B19: ZE211LA/T29 | C19: 696900000 | F19: 696900000 | G19: =C19-F19 -> 0
A20: COROLLA CROSS 1.8 HYBRID A/T | B20: ZVG10A/T31 | C20: 647400000 | F20: 647400000 | G20: =C20-F20 -> 0
A21: COROLLA CROSS 1.8 HYBRID A/T(Premium Color) | B21: ZVG10A/T32 | C21: 650400000 | F21: 650400000 | G21: =C21-F21 -> 0
A22: COROLLA CROSS 1.8 HYBRID GR-S A/T | B22: ZVG10A/T41 | C22: 689300000 | F22: 689300000 | G22: =C22-F22 -> 0
A23: COROLLA CROSS 1.8 HYBRID GR-S A/T (Premium Color) | B23: ZVG10A/T42 | C23: 694400000 | F23: 694400000 | G23: =C23-F23 -> 0
... A222: Bz4X A/T ex-KTT Vin 2023 (With Wall Charger) | B222: XEA10EVB1 | C222: 1307500000 | F222: 1307500000 | G222: =C222-F222 -> 0
A223: Jakarta, 1 Oktober 2025
A224: 1. Tarif BBNKB menggunakan tarif kepemilikan unit kedua
A225: 2. All Model include 1Y All Risk Insurance
A226: 3. Dyna, Hilux, Hi Ace sudah termasuk Keur.
A227: 4. LC 300 unit tergantung ketersediaan barang
A229: SURAT KEPUTUSAN
A230: NO. SK/001/TSO.OPR/VIII/2025
A232: HARGA KENDARAAN TOYOTA
A233: PRIME SERIES
A234: WILAYAH : SAMARINDA
A235: Per 1 Oktober 2025 | F235: N-1 | G235: SELISIH
A237: TYPE | B237: KODE TIPE | C237: ON THE ROAD | D237: KETERANGAN | F237: ON THE ROAD | G237: ON THE ROAD
A238: AGYA 1.2 G CVT PRIME | B238: A351GA/T00CA | C238: 237300000 | D238: CA, CB: Premium Horn, DVR | F238: 237300000 | G238: =C238-F238 -> 0
A239: AGYA STYLIX 1.2 G CVT PRIME | B239: A351GA/T10CB | C239: 240800000 | F239: 240800000 | G239: =C239-F239 -> 0
A240: AGYA 1.2 G M/T PRIME | B240: A351GM/T00CA | C240: 220900000 | F240: 220900000 | G240: =C240-F240 -> 0
A241: CALYA 1.2 G MT PRIME | B241: B40GM/T20CA | C241: 220200000 | D241: CA: Side Visor, Foglamp Ornament, Door Handle Protector | F241: 220200000 | G241: =C241-F241 -> 0
A242: CALYA 1.2 G AT PRIME | B242: B40GA/T20CA | C242: 234500000 | F242: 234500000 | G242: =C242-F242 -> 0
A243: AVANZA 1.3 E M/T PRIME | B243: W00EM/T00DA | C243: 286100000 | D243: DA: Cargo Net, Front Grille Ornament, Side Body Moulding Gunmental | F243: 286100000 | G243: =C243-F243 -> 0
A244: AVANZA 1.5 G CVT PRIME | B244: W01GA/T00DA | C244: 323600000 | F244: 323600000 | G244: =C244-F244 -> 0
A245: AVANZA 1.5 G M/T PRIME | B245: W01GM/T00DA | C245: 309100000 | F245: 309100000 | G245: =C245-F245 -> 0
A246: VELOZ 1.5 M/T (Premium Color) PRIME | B246: W01VM/T01BF | C246: 343000000 | D246: BC, BF, BK: Back Door Galss Chrome Ornament, Air Purifier | F246: 343000000 | G246: =C246-F246 -> 0
A247: VELOZ 1.5 CVT PRIME | B247: W01VA/T00BC | C247: 357500000 | F247: 357500000 | G247: =C247-F247 -> 0
A248: VELOZ 1.5 Q CVT (Premium Color) PRIME | B248: W01QVA/T02BK | C248: 368300000 | F248: 368300000 | G248: =C248-F248 -> 0
A249: NEW RUSH 1.5 G M/T PRIME | B249: F80GM/T30AA | C249: 336300000 | D249: AA, AD: Spare Tire Cover, Cargo Net, dan Sporty Outer Mirror | F249: 336300000 | G249: =C249-F249 -> 0
A250: NEW RUSH 1.5 G A/T PRIME | B250: F80GA/T30AA | C250: 346900000 | F250: 346900000 | G250: =C250-F250 -> 0
A251: NEW RUSH 1.5 S M/T GR SPORT PRIME | B251: F80SM/T40AD | C251: 351800000 | F251: 351800000 | G251: =C251-F251 -> 0
A252: NEW RUSH 1.5 S A/T GR SPORT PRIME | B252: F80SA/T40AD | C252: 362500000 | F252: 362500000 | G252: =C252-F252 -> 0
A253: KIJANG INNOVA 2.0 G M/T BSN PRIME | B253: TGN40GM/T30FA | C253: 432900000 | D253: FA: Spare Tire Cover, Rear Bumper Ornament, dan Rear Bumper Step Guard | F253: 432900000 | G253: =C253-F253 -> 0
A254: KIJANG INNOVA 2.4 G A/T DSL PRIME | B254: GUN14GA/T20FA | C254: 486300000 | F254: 486300000 | G254: =C254-F254 -> 0
A255: KIJANG INNOVA 2.4 G M/T DSL PRIME | B255: GUN14GM/T20FA | C255: 462000000 | F255: 462000000 | G255: =C255-F255 -> 0
A256: LAND CRUISER 300 VX-R 4x4 A/T PRIME | B256: FJA300VA/T14DA | C256: 2746400000 | D256: DA: Rear view Electric Mirror & Rubber Floor mat | F256: 2746400000 | G256: =C256-F256 -> 0
A257: LAND CRUISER 300 GR-S 4x4 A/T PRIME | B257: FJA300GA/T18DA | C257: 2820500000 | F257: 2820500000 | G257: =C257-F257 -> 0
A258: INNOVA ZENIX 2.0 G CVT PRIME | B258: MAG10GA/T00BC | C258: 492100000 | D258: BC, BD, BE, BF: Multifunction Box, Storage Organizer, Black Outer Mirror Cover, Spare Tire Cover, Premium Horn | F258: 492100000 | G258: =C258-F258 -> 0
A259: INNOVA ZENIX 2.0 G CVT (Premium Color) PRIME | B259: MAG10GA/T01BD | C259: 495200000 | F259: 495200000 | G259: =C259-F259 -> 0
A260: INNOVA ZENIX 2.0 V CVT PRIME | B260: MAG10VA/T00BE | C260: 534200000 | F260: 534200000 | G260: =C260-F260 -> 0
A261: INNOVA ZENIX 2.0 V CVT (Premium Color) PRIME | B261: MAG10VA/T01BF | C261: 537200000 | F261: 537200000 | G261: =C261-F261 -> 0
A262: INNOVA ZENIX 2.0 G HV CVT (Premium Color) PRIME | B262: MAG10GHA/T01BD | C262: 535400000 | F262: 535400000 | G262: =C262-F262 -> 0
A263: INNOVA ZENIX 2.0 V HV Modelista CVT PRIME | B263: MAG10VHA/T00BC | C263: 603600000 | F263: 603600000 | G263: =C263-F263 -> 0
A264: INNOVA ZENIX 2.0 V HV Modelista CVT (Premium Color) PRIME | B264: MAG10VHA/T01BD | C264: 606700000 | F264: 606700000 | G264: =C264-F264 -> 0
A265: INNOVA ZENIX 2.0 Q HV Modelista CVT TSS PRIME | B265: MAG10QHA/T00BC | C265: 682100000 | F265: 682100000 | G265: =C265-F265 -> 0
A266: INNOVA ZENIX 2.0 Q HV Modelista CVT TSS (Premium Color) PRIME | B266: MAG10QHA/T01BD | C266: 685200000 | F266: 685200000 | G266: =C266-F266 -> 0
A267: RAIZE 1.0T G M/T ONE TONE PRIME | B267: A250GM/T00DA | C267: 305500000 | D267: DA, DE, DG: Cargo Net, Air Purifier | F267: 305300000 | G267: =C267-F267 -> 200000
A268: RAIZE 1.0T G CVT ONE TONE PRIME | B268: A250GA/T00DA | C268: 320700000 | F268: 320500000 | G268: =C268-F268 -> 200000
A269: RAIZE 1.0T GR-S CVT ONE TONE PRIME | B269: A250SA/T20DE | C269: 334600000 | F269: 334400000 | G269: =C269-F269 -> 200000
A270: RAIZE 1.0T GR-S CVT TWO TONE PRIME | B270: A250SA/T21DG | C270: 337300000 | F270: 337100000 | G270: =C270-F270 -> 200000
A271: RAIZE 1.2 G M/T ONE TONE PRIME | B271: A251GM/T00DA | C271: 285800000 | F271: 285600000 | G271: =C271-F271 -> 200000
A272: RAIZE 1.2 G CVT ONE TONE PRIME | B272: A251GA/T00DA | C272: 300900000 | F272: 300700000 | G272: =C272-F272 -> 200000
A273: FORTUNER 2.8 VRZ WITH GR AERO TSS 4X2 A/T ONE TONE PRIME | B273: GUN166VA/T31BF | C273: 730700000 | D273: BF, BH: Spare Tire Cover, Sporty Door Handle, Housing Protector, and Mirror Cover, and Premium Horn | F273: 730700000 | G273: =C273-F273 -> 0
A274: FORTUNER 2.8 VRZ 4X4 A/T GR-S TSS ONE TONE PRIME | B274: GUN156VA/T33BH | C274: 838700000 | F274: 838700000 | G274: =C274-F274 -> 0
A277: SURAT KEPUTUSAN
A278: NO. SK/001/TSO.OPR/VIII/2025
A280: HARGA KENDARAAN TOYOTA
A281: LUX ORDER
A282: WILAYAH : SAMARINDA
A283: Per 1 Oktober 2025 | F283: N-1 | G283: SELISIH
A285: TYPE | B285: KODE TIPE | C285: ON THE ROAD | D285: KETERANGAN | F285: ON THE ROAD | G285: ON THE ROAD
A286: AGYA 1.2 E M/T LUX | B286: A351EM/T00Y | C286: 246268000 | D286: Agya Lux: Collapsible Box | F286: 246268000 | G286: =C286-F286 -> 0
A287: AGYA 1.2 G M/T LUX | B287: A351GM/T00Y | C287: 253568000 | F287: 253568000 | G287: =C287-F287 -> 0
A288: AGYA 1.2 G CVT LUX | B288: A351GA/T00Y | C288: 269968000 | F288: 269968000 | G288: =C288-F288 -> 0
A289: AGYA STYLIX 1.2 G CVT LUX | B289: A351GA/T10Y | C289: 273468000 | F289: 273468000 | G289: =C289-F289 -> 0
A290: AGYA 1.2 GR M/T (One Tone) LUX | B290: A351GRM/T00Y | C290: 319668000 | F290: 319668000 | G290: =C290-F290 -> 0
A291: AGYA 1.2 GR M/T (Two Tone) LUX | B291: A351GRM/T01Y | C291: 322168000 | F291: 322168000 | G291: =C291-F291 -> 0
A292: AGYA 1.2 GR CVT (One Tone) LUX | B292: A351GRA/T00Y | C292: 336068000 | F292: 336068000 | G292: =C292-F292 -> 0
A293: AGYA 1.2 GR CVT (Two Tone) LUX | B293: A351GRA/T01Y | C293: 338568000 | F293: 338568000 | G293: =C293-F293 -> 0
A294: AGYA 1.2 GR-S M/T (One Tone) Non-Premium LUX | B294: A351GRM/T10Y | C294: 310368000 | F294: 310368000 | G294: =C294-F294 -> 0
A295: AGYA 1.2 GR-S M/T (Two Tone) Non-Premium LUX | B295: A351GRM/T11Y | C295: 312868000 | F295: 312868000 | G295: =C295-F295 -> 0
A296: AGYA 1.2 GR-S CVT (One Tone) Non-Premium LUX | B296: A351GRA/T10Y | C296: 326968000 | F296: 326968000 | G296: =C296-F296 -> 0
A297: AGYA 1.2 GR-S CVT (Two Tone) Non-Premium LUX | B297: A351GRA/T11Y | C297: 329468000 | F297: 329468000 | G297: =C297-F297 -> 0
A298: CALYA 1.2 E MT STD LUX | B298: B40EM/T21 | C298: 245035000 | D298: Calya Lux: Side Visor & Mud Guard | F298: 245345000 | G298: =C298-F298 -> -310000
A299: CALYA 1.2 E MT LUX | B299: B40EM/T20 | C299: 248435000 | F299: 248745000 | G299: =C299-F299 -> -310000
A300: CALYA 1.2 G MT LUX | B300: B40GM/T20 | C300: 254035000 | F300: 254345000 | G300: =C300-F300 -> -310000
A301: CALYA 1.2 G AT LUX | B301: B40GA/T20 | C301: 268335000 | F301: 268645000 | G301: =C301-F301 -> -310000
A302: CALYA 1.2 E MT STD BASIC | B302: B40EM/T21FBY | C302: 245035000 | F302: 245345000 | G302: =C302-F302 -> -310000
A303: CALYA 1.2 E MT BASIC | B303: B40EM/T20FAY | C303: 248435000 | F303: 248745000 | G303: =C303-F303 -> -310000
A304: CALYA 1.2 G MT BASIC | B304: B40GM/T20FAY | C304: 254035000 | F304: 254345000 | G304: =C304-F304 -> -310000
A305: CALYA 1.2 G AT BASIC | B305: B40GA/T20FAY | C305: 268335000 | F305: 268645000 | G305: =C305-F305 -> -310000
A306: AVANZA 1.3 E M/T LUX | B306: W00EM/T00Y | C306: 319720000 | D306: Avanza Lux: Front Grille Ornament & Side Body Moulding Gunmetal | F306: 319720000 | G306: =C306-F306 -> 0
A307: AVANZA 1.3 E CVT LUX | B307: W00EA/T00Y | C307: 334320000 | F307: 334320000 | G307: =C307-F307 -> 0
A308: AVANZA 1.5 G M/T LUX | B308: W01GM/T00Y | C308: 342720000 | F308: 342720000 | G308: =C308-F308 -> 0
A309: AVANZA 1.5 G CVT LUX | B309: W01GA/T00Y | C309: 357220000 | F309: 357220000 | G309: =C309-F309 -> 0
...

Sheet OTR kti
A3: SURAT KEPUTUSAN
A4: NO. SK/001/TSO.OPR/XI/2025
A6: HARGA KENDARAAN TOYOTA
A7: REGULAR ORDER
A8: WILAYAH : KUTAI TIMUR & KUTAI BARAT
A9: Per 1 November 2025 | F9: N-1 | G9: SELISIH
A11: TYPE | B11: KODE TIPE | C11: ON THE ROAD | D11: KETERANGAN | F11: ON THE ROAD | G11: ON THE ROAD
A12: All New Vios 1.5 G CVT | B12: NGC102GA/T00 | C12: 423000000 | F12: 423000000 | G12: =C12-F12 -> 0
A13: All New Vios 1.5 G TSS CVT | B13: NGC102GA/T01 | C13: 436600000 | F13: 436600000 | G13: =C13-F13 -> 0
A14: COROLLA ALTIS 1.8 V A/T | B14: ZE211VA/T24 | C14: 633200000 | F14: 633200000 | G14: =C14-F14 -> 0
A15: COROLLA ALTIS 1.8 V A/T (Premium Color) | B15: ZE211VA/T25 | C15: 636300000 | F15: 636300000 | G15: =C15-F15 -> 0
A16: COROLLA ALTIS 1.8L HYBRID A/T | B16: ZE211LA/T26 | C16: 689400000 | F16: 689400000 | G16: =C16-F16 -> 0
A17: COROLLA ALTIS 1.8L HYBRID A/T (Premium Color) | B17: ZE211LA/T27 | C17: 692500000 | F17: 692500000 | G17: =C17-F17 -> 0
A18: COROLLA ALTIS 1.8L HYBRID A/T GR-S | B18: ZE211LA/T28 | C18: 696800000 | F18: 696800000 | G18: =C18-F18 -> 0
A19: COROLLA ALTIS 1.8L HYBRID A/T GR-S (Premium Color) | B19: ZE211LA/T29 | C19: 699900000 | F19: 699900000 | G19: =C19-F19 -> 0
A20: COROLLA CROSS 1.8 HYBRID A/T | B20: ZVG10A/T31 | C20: 647400000 | F20: 647400000 | G20: =C20-F20 -> 0
A21: COROLLA CROSS 1.8 HYBRID A/T(Premium Color) | B21: ZVG10A/T32 | C21: 650400000 | F21: 650400000 | G21: =C21-F21 -> 0
A22: COROLLA CROSS 1.8 HYBRID GR-S A/T | B22: ZVG10A/T41 | C22: 689300000 | F22: 689300000 | G22: =C22-F22 -> 0
A23: COROLLA CROSS 1.8 HYBRID GR-S A/T (Premium Color) | B23: ZVG10A/T42 | C23: 694400000 | F23: 694400000 | G23: =C23-F23 -> 0
... A222: Bz4X A/T ex-KTT Vin 2023 (With Wall Charger) | B222: XEA10EVB1 | C222: 1310500000 | F222: 1310500000 | G222: =C222-F222 -> 0
A223: Jakarta, 1 Oktober 2025
A224: 1. Tarif BBNKB menggunakan tarif kepemilikan unit kedua
A225: 2. All Model include 1Y All Risk Insurance
A226: 3. Dyna, Hilux, Hi Ace sudah termasuk Keur.
A227: 4. LC 300 unit tergantung ketersediaan barang
A229: SURAT KEPUTUSAN
A230: NO. SK/001/TSO.OPR/VIII/2025
A232: HARGA KENDARAAN TOYOTA
A233: PRIME SERIES
A234: WILAYAH : KUTAI TIMUR & KUTAI BARAT
A235: Per 1 Oktober 2025 | F235: N-1 | G235: SELISIH
A237: TYPE | B237: KODE TIPE | C237: ON THE ROAD | D237: KETERANGAN | F237: ON THE ROAD | G237: ON THE ROAD
A238: AGYA 1.2 G CVT PRIME | B238: A351GA/T00CA | C238: 240300000 | D238: CA, CB: Premium Horn, DVR | F238: 240300000 | G238: =C238-F238 -> 0
A239: AGYA STYLIX 1.2 G CVT PRIME | B239: A351GA/T10CB | C239: 243800000 | F239: 243800000 | G239: =C239-F239 -> 0
A240: AGYA 1.2 G M/T PRIME | B240: A351GM/T00CA | C240: 223900000 | F240: 223900000 | G240: =C240-F240 -> 0
A241: CALYA 1.2 G MT PRIME | B241: B40GM/T20CA | C241: 223200000 | D241: CA: Side Visor, Foglamp Ornament, Door Handle Protector | F241: 223200000 | G241: =C241-F241 -> 0
A242: CALYA 1.2 G AT PRIME | B242: B40GA/T20CA | C242: 237500000 | F242: 237500000 | G242: =C242-F242 -> 0
A243: AVANZA 1.3 E M/T PRIME | B243: W00EM/T00DA | C243: 289100000 | D243: DA: Cargo Net, Front Grille Ornament, Side Body Moulding Gunmental | F243: 289100000 | G243: =C243-F243 -> 0
A244: AVANZA 1.5 G CVT PRIME | B244: W01GA/T00DA | C244: 326600000 | F244: 326600000 | G244: =C244-F244 -> 0
A245: AVANZA 1.5 G M/T PRIME | B245: W01GM/T00DA | C245: 312100000 | F245: 312100000 | G245: =C245-F245 -> 0
A246: VELOZ 1.5 M/T (Premium Color) PRIME | B246: W01VM/T01BF | C246: 346000000 | D246: BC, BF, BK: Back Door Galss Chrome Ornament, Air Purifier | F246: 346000000 | G246: =C246-F246 -> 0
A247: VELOZ 1.5 CVT PRIME | B247: W01VA/T00BC | C247: 360500000 | F247: 360500000 | G247: =C247-F247 -> 0
A248: VELOZ 1.5 Q CVT (Premium Color) PRIME | B248: W01QVA/T02BK | C248: 371300000 | F248: 371300000 | G248: =C248-F248 -> 0
A249: NEW RUSH 1.5 G M/T PRIME | B249: F80GM/T30AA | C249: 339300000 | D249: AA, AD: Spare Tire Cover, Cargo Net, dan Sporty Outer Mirror | F249: 339300000 | G249: =C249-F249 -> 0
A250: NEW RUSH 1.5 G A/T PRIME | B250: F80GA/T30AA | C250: 349900000 | F250: 349900000 | G250: =C250-F250 -> 0
A251: NEW RUSH 1.5 S M/T GR SPORT PRIME | B251: F80SM/T40AD | C251: 354800000 | F251: 354800000 | G251: =C251-F251 -> 0
A252: NEW RUSH 1.5 S A/T GR SPORT PRIME | B252: F80SA/T40AD | C252: 365500000 | F252: 365500000 | G252: =C252-F252 -> 0
A253: KIJANG INNOVA 2.0 G M/T BSN PRIME | B253: TGN40GM/T30FA | C253: 435900000 | D253: FA: Spare Tire Cover, Rear Bumper Ornament, dan Rear Bumper Step Guard | F253: 435900000 | G253: =C253-F253 -> 0
A254: KIJANG INNOVA 2.4 G A/T DSL PRIME | B254: GUN14GA/T20FA | C254: 489300000 | F254: 489300000 | G254: =C254-F254 -> 0
A255: KIJANG INNOVA 2.4 G M/T DSL PRIME | B255: GUN14GM/T20FA | C255: 465000000 | F255: 465000000 | G255: =C255-F255 -> 0
A256: LAND CRUISER 300 VX-R 4x4 A/T PRIME | B256: FJA300VA/T14DA | C256: 2749400000 | D256: DA: Rear view Electric Mirror & Rubber Floor mat | F256: 2749400000 | G256: =C256-F256 -> 0
A257: LAND CRUISER 300 GR-S 4x4 A/T PRIME | B257: FJA300GA/T18DA | C257: 2823700000 | F257: 2823700000 | G257: =C257-F257 -> 0
A258: INNOVA ZENIX 2.0 G CVT PRIME | B258: MAG10GA/T00BC | C258: 495100000 | D258: BC, BD, BE, BF: Multifunction Box, Storage Organizer, Black Outer Mirror Cover, Spare Tire Cover, Premium Horn | F258: 495100000 | G258: =C258-F258 -> 0
A259: INNOVA ZENIX 2.0 G CVT (Premium Color) PRIME | B259: MAG10GA/T01BD | C259: 498200000 | F259: 498200000 | G259: =C259-F259 -> 0
A260: INNOVA ZENIX 2.0 V CVT PRIME | B260: MAG10VA/T00BE | C260: 537200000 | F260: 537200000 | G260: =C260-F260 -> 0
A261: INNOVA ZENIX 2.0 V CVT (Premium Color) PRIME | B261: MAG10VA/T01BF | C261: 540200000 | F261: 540200000 | G261: =C261-F261 -> 0
A262: INNOVA ZENIX 2.0 G HV CVT (Premium Color) PRIME | B262: MAG10GHA/T01BD | C262: 538400000 | F262: 538400000 | G262: =C262-F262 -> 0
A263: INNOVA ZENIX 2.0 V HV Modelista CVT PRIME | B263: MAG10VHA/T00BC | C263: 606600000 | F263: 606600000 | G263: =C263-F263 -> 0
A264: INNOVA ZENIX 2.0 V HV Modelista CVT (Premium Color) PRIME | B264: MAG10VHA/T01BD | C264: 609700000 | F264: 609700000 | G264: =C264-F264 -> 0
A265: INNOVA ZENIX 2.0 Q HV Modelista CVT TSS PRIME | B265: MAG10QHA/T00BC | C265: 685100000 | F265: 685100000 | G265: =C265-F265 -> 0
A266: INNOVA ZENIX 2.0 Q HV Modelista CVT TSS (Premium Color) PRIME | B266: MAG10QHA/T01BD | C266: 688200000 | F266: 688200000 | G266: =C266-F266 -> 0
A267: RAIZE 1.0T G M/T ONE TONE PRIME | B267: A250GM/T00DA | C267: 308500000 | D267: DA, DE, DG: Cargo Net, Air Purifier | F267: 308300000 | G267: =C267-F267 -> 200000
A268: RAIZE 1.0T G CVT ONE TONE PRIME | B268: A250GA/T00DA | C268: 323700000 | F268: 323500000 | G268: =C268-F268 -> 200000
A269: RAIZE 1.0T GR-S CVT ONE TONE PRIME | B269: A250SA/T20DE | C269: 337600000 | F269: 337400000 | G269: =C269-F269 -> 200000
A270: RAIZE 1.0T GR-S CVT TWO TONE PRIME | B270: A250SA/T21DG | C270: 340300000 | F270: 340100000 | G270: =C270-F270 -> 200000
A271: RAIZE 1.2 G M/T ONE TONE PRIME | B271: A251GM/T00DA | C271: 288800000 | F271: 288600000 | G271: =C271-F271 -> 200000
A272: RAIZE 1.2 G CVT ONE TONE PRIME | B272: A251GA/T00DA | C272: 303900000 | F272: 303700000 | G272: =C272-F272 -> 200000
A273: FORTUNER 2.8 VRZ WITH GR AERO TSS 4X2 A/T ONE TONE PRIME | B273: GUN166VA/T31BF | C273: 733700000 | D273: BF, BH: Spare Tire Cover, Sporty Door Handle, Housing Protector, and Mirror Cover, and Premium Horn | F273: 733700000 | G273: =C273-F273 -> 0
A274: FORTUNER 2.8 VRZ 4X4 A/T GR-S TSS ONE TONE PRIME | B274: GUN156VA/T33BH | C274: 841700000 | F274: 841700000 | G274: =C274-F274 -> 0
A277: SURAT KEPUTUSAN
A278: NO. SK/001/TSO.OPR/VIII/2025
A280: HARGA KENDARAAN TOYOTA
A281: LUX ORDER
A282: WILAYAH : KUTAI TIMUR & KUTAI BARAT
A283: Per 1 Oktober 2025 | F283: N-1 | G283: SELISIH
A285: TYPE | B285: KODE TIPE | C285: ON THE ROAD | D285: KETERANGAN | F285: ON THE ROAD | G285: ON THE ROAD
A286: AGYA 1.2 E M/T LUX | B286: A351EM/T00Y | C286: 249268000 | D286: Agya Lux: Collapsible Box | F286: 249268000 | G286: =C286-F286 -> 0
A287: AGYA 1.2 G M/T LUX | B287: A351GM/T00Y | C287: 256568000 | F287: 256568000 | G287: =C287-F287 -> 0
A288: AGYA 1.2 G CVT LUX | B288: A351GA/T00Y | C288: 272968000 | F288: 272968000 | G288: =C288-F288 -> 0
A289: AGYA STYLIX 1.2 G CVT LUX | B289: A351GA/T10Y | C289: 276468000 | F289: 276468000 | G289: =C289-F289 -> 0
A290: AGYA 1.2 GR M/T (One Tone) LUX | B290: A351GRM/T00Y | C290: 322668000 | F290: 322668000 | G290: =C290-F290 -> 0
A291: AGYA 1.2 GR M/T (Two Tone) LUX | B291: A351GRM/T01Y | C291: 325168000 | F291: 325168000 | G291: =C291-F291 -> 0
A292: AGYA 1.2 GR CVT (One Tone) LUX | B292: A351GRA/T00Y | C292: 339068000 | F292: 339068000 | G292: =C292-F292 -> 0
A293: AGYA 1.2 GR CVT (Two Tone) LUX | B293: A351GRA/T01Y | C293: 341568000 | F293: 341568000 | G293: =C293-F293 -> 0
A294: AGYA 1.2 GR-S M/T (One Tone) Non-Premium LUX | B294: A351GRM/T10Y | C294: 313368000 | F294: 313368000 | G294: =C294-F294 -> 0
A295: AGYA 1.2 GR-S M/T (Two Tone) Non-Premium LUX | B295: A351GRM/T11Y | C295: 315868000 | F295: 315868000 | G295: =C295-F295 -> 0
A296: AGYA 1.2 GR-S CVT (One Tone) Non-Premium LUX | B296: A351GRA/T10Y | C296: 329968000 | F296: 329968000 | G296: =C296-F296 -> 0
A297: AGYA 1.2 GR-S CVT (Two Tone) Non-Premium LUX | B297: A351GRA/T11Y | C297: 332468000 | F297: 332468000 | G297: =C297-F297 -> 0
A298: CALYA 1.2 E MT STD LUX | B298: B40EM/T21 | C298: 248035000 | D298: Calya Lux: Side Visor & Mud Guard | F298: 248345000 | G298: =C298-F298 -> -310000
A299: CALYA 1.2 E MT LUX | B299: B40EM/T20 | C299: 251435000 | F299: 251745000 | G299: =C299-F299 -> -310000
A300: CALYA 1.2 G MT LUX | B300: B40GM/T20 | C300: 257035000 | F300: 257345000 | G300: =C300-F300 -> -310000
A301: CALYA 1.2 G AT LUX | B301: B40GA/T20 | C301: 271335000 | F301: 271645000 | G301: =C301-F301 -> -310000
A302: CALYA 1.2 E MT STD BASIC | B302: B40EM/T21FBY | C302: 248035000 | F302: 248345000 | G302: =C302-F302 -> -310000
A303: CALYA 1.2 E MT BASIC | B303: B40EM/T20FAY | C303: 251435000 | F303: 251745000 | G303: =C303-F303 -> -310000
A304: CALYA 1.2 G MT BASIC | B304: B40GM/T20FAY | C304: 257035000 | F304: 257345000 | G304: =C304-F304 -> -310000
A305: CALYA 1.2 G AT BASIC | B305: B40GA/T20FAY | C305: 271335000 | F305: 271645000 | G305: =C305-F305 -> -310000
A306: AVANZA 1.3 E M/T LUX | B306: W00EM/T00Y | C306: 322720000 | D306: Avanza Lux: Front Grille Ornament & Side Body Moulding Gunmetal | F306: 322720000 | G306: =C306-F306 -> 0
A307: AVANZA 1.3 E CVT LUX | B307: W00EA/T00Y | C307: 337320000 | F307: 337320000 | G307: =C307-F307 -> 0
A308: AVANZA 1.5 G M/T LUX | B308: W01GM/T00Y | C308: 345720000 | F308: 345720000 | G308: =C308-F308 -> 0
A309: AVANZA 1.5 G CVT LUX | B309: W01GA/T00Y | C309: 360220000 | F309: 360220000 | G309: =C309-F309 -> 0
...

Sheet OTR btg
A3: SURAT KEPUTUSAN
A4: NO. SK/001/TSO.OPR/XI/2025
A6: HARGA KENDARAAN TOYOTA
A7: REGULAR ORDER
A8: WILAYAH : BONTANG, KUTAI KERTANEGARA, PENAJAM PASER UTARA, PASIR TANAH GROGOT
A9: Per 1 November 2025 | F9: N-1 | G9: SELISIH
A11: TYPE | B11: KODE TIPE | C11: ON THE ROAD | D11: KETERANGAN | F11: ON THE ROAD | G11: ON THE ROAD
A12: All New Vios 1.5 G CVT | B12: NGC102GA/T00 | C12: 421500000 | F12: 421500000 | G12: =C12-F12 -> 0
A13: All New Vios 1.5 G TSS CVT | B13: NGC102GA/T01 | C13: 435100000 | F13: 435100000 | G13: =C13-F13 -> 0
A14: COROLLA ALTIS 1.8 V A/T | B14: ZE211VA/T24 | C14: 631700000 | F14: 631700000 | G14: =C14-F14 -> 0
A15: COROLLA ALTIS 1.8 V A/T (Premium Color) | B15: ZE211VA/T25 | C15: 634800000 | F15: 634800000 | G15: =C15-F15 -> 0
A16: COROLLA ALTIS 1.8L HYBRID A/T | B16: ZE211LA/T26 | C16: 687900000 | F16: 687900000 | G16: =C16-F16 -> 0
A17: COROLLA ALTIS 1.8L HYBRID A/T (Premium Color) | B17: ZE211LA/T27 | C17: 691000000 | F17: 691000000 | G17: =C17-F17 -> 0
A18: COROLLA ALTIS 1.8L HYBRID A/T GR-S | B18: ZE211LA/T28 | C18: 695300000 | F18: 695300000 | G18: =C18-F18 -> 0
A19: COROLLA ALTIS 1.8L HYBRID A/T GR-S (Premium Color) | B19: ZE211LA/T29 | C19: 698400000 | F19: 698400000 | G19: =C19-F19 -> 0
A20: COROLLA CROSS 1.8 HYBRID A/T | B20: ZVG10A/T31 | C20: 647400000 | F20: 647400000 | G20: =C20-F20 -> 0
A21: COROLLA CROSS 1.8 HYBRID A/T(Premium Color) | B21: ZVG10A/T32 | C21: 650400000 | F21: 650400000 | G21: =C21-F21 -> 0
A22: COROLLA CROSS 1.8 HYBRID GR-S A/T | B22: ZVG10A/T41 | C22: 689300000 | F22: 689300000 | G22: =C22-F22 -> 0
A23: COROLLA CROSS 1.8 HYBRID GR-S A/T (Premium Color) | B23: ZVG10A/T42 | C23: 694400000 | F23: 694400000 | G23: =C23-F23 -> 0
... A222: Bz4X A/T ex-KTT Vin 2023 (With Wall Charger) | B222: XEA10EVB1 | C222: 1309000000 | F222: 1309000000 | G222: =C222-F222 -> 0
A223: Jakarta, 1 Oktober 2025
A224: 1. Tarif BBNKB menggunakan tarif kepemilikan unit kedua
A225: 2. All Model include 1Y All Risk Insurance
A226: 3. Dyna, Hilux, Hi Ace sudah termasuk Keur.
A227: 4. LC 300 unit tergantung ketersediaan barang
A229: SURAT KEPUTUSAN
A230: NO. SK/001/TSO.OPR/VIII/2025
A232: HARGA KENDARAAN TOYOTA
A233: PRIME SERIES
A234: WILAYAH : BONTANG, KUTAI KERTANEGARA, PENAJAM PASER UTARA, PASIR TANAH GROGOT
A235: Per 1 Oktober 2025 | F235: N-1 | G235: SELISIH
A237: TYPE | B237: KODE TIPE | C237: ON THE ROAD | D237: KETERANGAN | F237: ON THE ROAD | G237: ON THE ROAD
A238: AGYA 1.2 G CVT PRIME | B238: A351GA/T00CA | C238: 238800000 | D238: CA, CB: Premium Horn, DVR | F238: 238800000 | G238: =C238-F238 -> 0
A239: AGYA STYLIX 1.2 G CVT PRIME | B239: A351GA/T10CB | C239: 242300000 | F239: 242300000 | G239: =C239-F239 -> 0
A240: AGYA 1.2 G M/T PRIME | B240: A351GM/T00CA | C240: 222400000 | F240: 222400000 | G240: =C240-F240 -> 0
A241: CALYA 1.2 G MT PRIME | B241: B40GM/T20CA | C241: 221700000 | D241: CA: Side Visor, Foglamp Ornament, Door Handle Protector | F241: 221700000 | G241: =C241-F241 -> 0
A242: CALYA 1.2 G AT PRIME | B242: B40GA/T20CA | C242: 236000000 | F242: 236000000 | G242: =C242-F242 -> 0
A243: AVANZA 1.3 E M/T PRIME | B243: W00EM/T00DA | C243: 287600000 | D243: DA: Cargo Net, Front Grille Ornament, Side Body Moulding Gunmental | F243: 287600000 | G243: =C243-F243 -> 0
A244: AVANZA 1.5 G CVT PRIME | B244: W01GA/T00DA | C244: 325100000 | F244: 325100000 | G244: =C244-F244 -> 0
A245: AVANZA 1.5 G M/T PRIME | B245: W01GM/T00DA | C245: 310600000 | F245: 310600000 | G245: =C245-F245 -> 0
A246: VELOZ 1.5 M/T (Premium Color) PRIME | B246: W01VM/T01BF | C246: 344500000 | D246: BC, BF, BK: Back Door Galss Chrome Ornament, Air Purifier | F246: 344500000 | G246: =C246-F246 -> 0
A247: VELOZ 1.5 CVT PRIME | B247: W01VA/T00BC | C247: 359000000 | F247: 359000000 | G247: =C247-F247 -> 0
A248: VELOZ 1.5 Q CVT (Premium Color) PRIME | B248: W01QVA/T02BK | C248: 369800000 | F248: 369800000 | G248: =C248-F248 -> 0
A249: NEW RUSH 1.5 G M/T PRIME | B249: F80GM/T30AA | C249: 337800000 | D249: AA, AD: Spare Tire Cover, Cargo Net, dan Sporty Outer Mirror | F249: 337800000 | G249: =C249-F249 -> 0
A250: NEW RUSH 1.5 G A/T PRIME | B250: F80GA/T30AA | C250: 348400000 | F250: 348400000 | G250: =C250-F250 -> 0
A251: NEW RUSH 1.5 S M/T GR SPORT PRIME | B251: F80SM/T40AD | C251: 353300000 | F251: 353300000 | G251: =C251-F251 -> 0
A252: NEW RUSH 1.5 S A/T GR SPORT PRIME | B252: F80SA/T40AD | C252: 364000000 | F252: 364000000 | G252: =C252-F252 -> 0
A253: KIJANG INNOVA 2.0 G M/T BSN PRIME | B253: TGN40GM/T30FA | C253: 434400000 | D253: FA: Spare Tire Cover, Rear Bumper Ornament, dan Rear Bumper Step Guard | F253: 434400000 | G253: =C253-F253 -> 0
A254: KIJANG INNOVA 2.4 G A/T DSL PRIME | B254: GUN14GA/T20FA | C254: 487800000 | F254: 487800000 | G254: =C254-F254 -> 0
A255: KIJANG INNOVA 2.4 G M/T DSL PRIME | B255: GUN14GM/T20FA | C255: 463500000 | F255: 463500000 | G255: =C255-F255 -> 0
A256: LAND CRUISER 300 VX-R 4x4 A/T PRIME | B256: FJA300VA/T14DA | C256: 2748100000 | D256: DA: Rear view Electric Mirror & Rubber Floor mat | F256: 2748100000 | G256: =C256-F256 -> 0
A257: LAND CRUISER 300 GR-S 4x4 A/T PRIME | B257: FJA300GA/T18DA | C257: 2821900000 | F257: 2821900000 | G257: =C257-F257 -> 0
A258: INNOVA ZENIX 2.0 G CVT PRIME | B258: MAG10GA/T00BC | C258: 493600000 | D258: BC, BD, BE, BF: Multifunction Box, Storage Organizer, Black Outer Mirror Cover, Spare Tire Cover, Premium Horn | F258: 493600000 | G258: =C258-F258 -> 0
A259: INNOVA ZENIX 2.0 G CVT (Premium Color) PRIME | B259: MAG10GA/T01BD | C259: 496700000 | F259: 496700000 | G259: =C259-F259 -> 0
A260: INNOVA ZENIX 2.0 V CVT PRIME | B260: MAG10VA/T00BE | C260: 535700000 | F260: 535700000 | G260: =C260-F260 -> 0
A261: INNOVA ZENIX 2.0 V CVT (Premium Color) PRIME | B261: MAG10VA/T01BF | C261: 538700000 | F261: 538700000 | G261: =C261-F261 -> 0
A262: INNOVA ZENIX 2.0 G HV CVT (Premium Color) PRIME | B262: MAG10GHA/T01BD | C262: 536900000 | F262: 536900000 | G262: =C262-F262 -> 0
A263: INNOVA ZENIX 2.0 V HV Modelista CVT PRIME | B263: MAG10VHA/T00BC | C263: 605100000 | F263: 605100000 | G263: =C263-F263 -> 0
A264: INNOVA ZENIX 2.0 V HV Modelista CVT (Premium Color) PRIME | B264: MAG10VHA/T01BD | C264: 608200000 | F264: 608200000 | G264: =C264-F264 -> 0
A265: INNOVA ZENIX 2.0 Q HV Modelista CVT TSS PRIME | B265: MAG10QHA/T00BC | C265: 683600000 | F265: 683600000 | G265: =C265-F265 -> 0
A266: INNOVA ZENIX 2.0 Q HV Modelista CVT TSS (Premium Color) PRIME | B266: MAG10QHA/T01BD | C266: 686700000 | F266: 686700000 | G266: =C266-F266 -> 0
A267: RAIZE 1.0T G M/T ONE TONE PRIME | B267: A250GM/T00DA | C267: 307000000 | D267: DA, DE, DG: Cargo Net, Air Purifier | F267: 306800000 | G267: =C267-F267 -> 200000
A268: RAIZE 1.0T G CVT ONE TONE PRIME | B268: A250GA/T00DA | C268: 322200000 | F268: 322000000 | G268: =C268-F268 -> 200000
A269: RAIZE 1.0T GR-S CVT ONE TONE PRIME | B269: A250SA/T20DE | C269: 336100000 | F269: 335900000 | G269: =C269-F269 -> 200000
A270: RAIZE 1.0T GR-S CVT TWO TONE PRIME | B270: A250SA/T21DG | C270: 338800000 | F270: 338600000 | G270: =C270-F270 -> 200000
A271: RAIZE 1.2 G M/T ONE TONE PRIME | B271: A251GM/T00DA | C271: 287300000 | F271: 287100000 | G271: =C271-F271 -> 200000
A272: RAIZE 1.2 G CVT ONE TONE PRIME | B272: A251GA/T00DA | C272: 302400000 | F272: 302200000 | G272: =C272-F272 -> 200000
A273: FORTUNER 2.8 VRZ WITH GR AERO TSS 4X2 A/T ONE TONE PRIME | B273: GUN166VA/T31BF | C273: 732200000 | D273: BF, BH: Spare Tire Cover, Sporty Door Handle, Housing Protector, and Mirror Cover, and Premium Horn | F273: 732200000 | G273: =C273-F273 -> 0
A274: FORTUNER 2.8 VRZ 4X4 A/T GR-S TSS ONE TONE PRIME | B274: GUN156VA/T33BH | C274: 840200000 | F274: 840200000 | G274: =C274-F274 -> 0
A277: SURAT KEPUTUSAN
A278: NO. SK/001/TSO.OPR/VIII/2025
A280: HARGA KENDARAAN TOYOTA
A281: LUX ORDER
A282: WILAYAH : BONTANG, KUTAI KERTANEGARA, PENAJAM PASER UTARA, PASIR TANAH GROGOT
A283: Per 1 Oktober 2025 | F283: N-1 | G283: SELISIH
A285: TYPE | B285: KODE TIPE | C285: ON THE ROAD | D285: KETERANGAN | F285: ON THE ROAD | G285: ON THE ROAD
A286: AGYA 1.2 E M/T LUX | B286: A351EM/T00Y | C286: 247768000 | D286: Agya Lux: Collapsible Box | F286: 247768000 | G286: =C286-F286 -> 0
A287: AGYA 1.2 G M/T LUX | B287: A351GM/T00Y | C287: 255068000 | F287: 255068000 | G287: =C287-F287 -> 0
A288: AGYA 1.2 G CVT LUX | B288: A351GA/T00Y | C288: 271468000 | F288: 271468000 | G288: =C288-F288 -> 0
A289: AGYA STYLIX 1.2 G CVT LUX | B289: A351GA/T10Y | C289: 274968000 | F289: 274968000 | G289: =C289-F289 -> 0
A290: AGYA 1.2 GR M/T (One Tone) LUX | B290: A351GRM/T00Y | C290: 321168000 | F290: 321168000 | G290: =C290-F290 -> 0
A291: AGYA 1.2 GR M/T (Two Tone) LUX | B291: A351GRM/T01Y | C291: 323668000 | F291: 323668000 | G291: =C291-F291 -> 0
A292: AGYA 1.2 GR CVT (One Tone) LUX | B292: A351GRA/T00Y | C292: 337568000 | F292: 337568000 | G292: =C292-F292 -> 0
A293: AGYA 1.2 GR CVT (Two Tone) LUX | B293: A351GRA/T01Y | C293: 340068000 | F293: 340068000 | G293: =C293-F293 -> 0
A294: AGYA 1.2 GR-S M/T (One Tone) Non-Premium LUX | B294: A351GRM/T10Y | C294: 311868000 | F294: 311868000 | G294: =C294-F294 -> 0
A295: AGYA 1.2 GR-S M/T (Two Tone) Non-Premium LUX | B295: A351GRM/T11Y | C295: 314368000 | F295: 314368000 | G295: =C295-F295 -> 0
A296: AGYA 1.2 GR-S CVT (One Tone) Non-Premium LUX | B296: A351GRA/T10Y | C296: 328468000 | F296: 328468000 | G296: =C296-F296 -> 0
A297: AGYA 1.2 GR-S CVT (Two Tone) Non-Premium LUX | B297: A351GRA/T11Y | C297: 330968000 | F297: 330968000 | G297: =C297-F297 -> 0
A298: CALYA 1.2 E MT STD LUX | B298: B40EM/T21 | C298: 246535000 | D298: Calya Lux: Side Visor & Mud Guard | F298: 246845000 | G298: =C298-F298 -> -310000
A299: CALYA 1.2 E MT LUX | B299: B40EM/T20 | C299: 249935000 | F299: 250245000 | G299: =C299-F299 -> -310000
A300: CALYA 1.2 G MT LUX | B300: B40GM/T20 | C300: 255535000 | F300: 255845000 | G300: =C300-F300 -> -310000
A301: CALYA 1.2 G AT LUX | B301: B40GA/T20 | C301: 269835000 | F301: 270145000 | G301: =C301-F301 -> -310000
A302: CALYA 1.2 E MT STD BASIC | B302: B40EM/T21FBY | C302: 246535000 | F302: 246845000 | G302: =C302-F302 -> -310000
A303: CALYA 1.2 E MT BASIC | B303: B40EM/T20FAY | C303: 249935000 | F303: 250245000 | G303: =C303-F303 -> -310000
A304: CALYA 1.2 G MT BASIC | B304: B40GM/T20FAY | C304: 255535000 | F304: 255845000 | G304: =C304-F304 -> -310000
A305: CALYA 1.2 G AT BASIC | B305: B40GA/T20FAY | C305: 269835000 | F305: 270145000 | G305: =C305-F305 -> -310000
A306: AVANZA 1.3 E M/T LUX | B306: W00EM/T00Y | C306: 321220000 | D306: Avanza Lux: Front Grille Ornament & Side Body Moulding Gunmetal | F306: 321220000 | G306: =C306-F306 -> 0
A307: AVANZA 1.3 E CVT LUX | B307: W00EA/T00Y | C307: 335820000 | F307: 335820000 | G307: =C307-F307 -> 0
A308: AVANZA 1.5 G M/T LUX | B308: W01GM/T00Y | C308: 344220000 | F308: 344220000 | G308: =C308-F308 -> 0
A309: AVANZA 1.5 G CVT LUX | B309: W01GA/T00Y | C309: 358720000 | F309: 358720000 | G309: =C309-F309 -> 0
...

Sheet OTR bru
A3: SURAT KEPUTUSAN
A4: NO. SK/001/TSO.OPR/XI/2025
A6: HARGA KENDARAAN TOYOTA
A7: REGULAR ORDER
A8: WILAYAH : BERAU
A9: Per 1 November 2025 | F9: N-1 | G9: SELISIH
A11: TYPE | B11: KODE TIPE | C11: ON THE ROAD | D11: KETERANGAN | F11: ON THE ROAD | G11: ON THE ROAD
A12: All New Vios 1.5 G CVT | B12: NGC102GA/T00 | C12: 425000000 | F12: 425000000 | G12: =C12-F12 -> 0
A13: All New Vios 1.5 G TSS CVT | B13: NGC102GA/T01 | C13: 438600000 | F13: 438600000 | G13: =C13-F13 -> 0
A14: COROLLA ALTIS 1.8 V A/T | B14: ZE211VA/T24 | C14: 635200000 | F14: 635200000 | G14: =C14-F14 -> 0
A15: COROLLA ALTIS 1.8 V A/T (Premium Color) | B15: ZE211VA/T25 | C15: 638300000 | F15: 638300000 | G15: =C15-F15 -> 0
A16: COROLLA ALTIS 1.8L HYBRID A/T | B16: ZE211LA/T26 | C16: 691400000 | F16: 691400000 | G16: =C16-F16 -> 0
A17: COROLLA ALTIS 1.8L HYBRID A/T (Premium Color) | B17: ZE211LA/T27 | C17: 694500000 | F17: 694500000 | G17: =C17-F17 -> 0
A18: COROLLA ALTIS 1.8L HYBRID A/T GR-S | B18: ZE211LA/T28 | C18: 698800000 | F18: 698800000 | G18: =C18-F18 -> 0
A19: COROLLA ALTIS 1.8L HYBRID A/T GR-S (Premium Color) | B19: ZE211LA/T29 | C19: 701900000 | F19: 701900000 | G19: =C19-F19 -> 0
A20: COROLLA CROSS 1.8 HYBRID A/T | B20: ZVG10A/T31 | C20: 647400000 | F20: 647400000 | G20: =C20-F20 -> 0
A21: COROLLA CROSS 1.8 HYBRID A/T(Premium Color) | B21: ZVG10A/T32 | C21: 650400000 | F21: 650400000 | G21: =C21-F21 -> 0
A22: COROLLA CROSS 1.8 HYBRID GR-S A/T | B22: ZVG10A/T41 | C22: 689300000 | F22: 689300000 | G22: =C22-F22 -> 0
A23: COROLLA CROSS 1.8 HYBRID GR-S A/T (Premium Color) | B23: ZVG10A/T42 | C23: 694400000 | F23: 694400000 | G23: =C23-F23 -> 0
... A222: Bz4X A/T ex-KTT Vin 2023 (With Wall Charger) | B222: XEA10EVB1 | C222: 1312500000 | F222: 1312500000 | G222: =C222-F222 -> 0
A223: Jakarta, 1 Oktober 2025
A224: 1. Tarif BBNKB menggunakan tarif kepemilikan unit kedua
A225: 2. All Model include 1Y All Risk Insurance
A226: 3. Dyna, Hilux, Hi Ace sudah termasuk Keur.
A227: 4. LC 300 unit tergantung ketersediaan barang
A229: SURAT KEPUTUSAN
A230: NO. SK/001/TSO.OPR/VIII/2025
A232: HARGA KENDARAAN TOYOTA
A233: PRIME SERIES
A234: WILAYAH : BERAU
A235: Per 1 Oktober 2025 | F235: N-1 | G235: SELISIH
A237: TYPE | B237: KODE TIPE | C237: ON THE ROAD | D237: KETERANGAN | F237: ON THE ROAD | G237: ON THE ROAD
A238: AGYA 1.2 G CVT PRIME | B238: A351GA/T00CA | C238: 242300000 | D238: CA, CB: Premium Horn, DVR | F238: 242300000 | G238: =C238-F238 -> 0
A239: AGYA STYLIX 1.2 G CVT PRIME | B239: A351GA/T10CB | C239: 245800000 | F239: 245800000 | G239: =C239-F239 -> 0
A240: AGYA 1.2 G M/T PRIME | B240: A351GM/T00CA | C240: 225900000 | F240: 225900000 | G240: =C240-F240 -> 0
A241: CALYA 1.2 G MT PRIME | B241: B40GM/T20CA | C241: 225200000 | D241: CA: Side Visor, Foglamp Ornament, Door Handle Protector | F241: 225200000 | G241: =C241-F241 -> 0
A242: CALYA 1.2 G AT PRIME | B242: B40GA/T20CA | C242: 239500000 | F242: 239500000 | G242: =C242-F242 -> 0
A243: AVANZA 1.3 E M/T PRIME | B243: W00EM/T00DA | C243: 291100000 | D243: DA: Cargo Net, Front Grille Ornament, Side Body Moulding Gunmental | F243: 291100000 | G243: =C243-F243 -> 0
A244: AVANZA 1.5 G CVT PRIME | B244: W01GA/T00DA | C244: 328600000 | F244: 328600000 | G244: =C244-F244 -> 0
A245: AVANZA 1.5 G M/T PRIME | B245: W01GM/T00DA | C245: 314100000 | F245: 314100000 | G245: =C245-F245 -> 0
A246: VELOZ 1.5 M/T (Premium Color) PRIME | B246: W01VM/T01BF | C246: 348000000 | D246: BC, BF, BK: Back Door Galss Chrome Ornament, Air Purifier | F246: 348000000 | G246: =C246-F246 -> 0
A247: VELOZ 1.5 CVT PRIME | B247: W01VA/T00BC | C247: 362500000 | F247: 362500000 | G247: =C247-F247 -> 0
A248: VELOZ 1.5 Q CVT (Premium Color) PRIME | B248: W01QVA/T02BK | C248: 373300000 | F248: 373300000 | G248: =C248-F248 -> 0
A249: NEW RUSH 1.5 G M/T PRIME | B249: F80GM/T30AA | C249: 341300000 | D249: AA, AD: Spare Tire Cover, Cargo Net, dan Sporty Outer Mirror | F249: 341300000 | G249: =C249-F249 -> 0
A250: NEW RUSH 1.5 G A/T PRIME | B250: F80GA/T30AA | C250: 351900000 | F250: 351900000 | G250: =C250-F250 -> 0
A251: NEW RUSH 1.5 S M/T GR SPORT PRIME | B251: F80SM/T40AD | C251: 356800000 | F251: 356800000 | G251: =C251-F251 -> 0
A252: NEW RUSH 1.5 S A/T GR SPORT PRIME | B252: F80SA/T40AD | C252: 367500000 | F252: 367500000 | G252: =C252-F252 -> 0
A253: KIJANG INNOVA 2.0 G M/T BSN PRIME | B253: TGN40GM/T30FA | C253: 437900000 | D253: FA: Spare Tire Cover, Rear Bumper Ornament, dan Rear Bumper Step Guard | F253: 437900000 | G253: =C253-F253 -> 0
A254: KIJANG INNOVA 2.4 G A/T DSL PRIME | B254: GUN14GA/T20FA | C254: 491300000 | F254: 491300000 | G254: =C254-F254 -> 0
A255: KIJANG INNOVA 2.4 G M/T DSL PRIME | B255: GUN14GM/T20FA | C255: 467000000 | F255: 467000000 | G255: =C255-F255 -> 0
A256: LAND CRUISER 300 VX-R 4x4 A/T PRIME | B256: FJA300VA/T14DA | C256: 2751500000 | D256: DA: Rear view Electric Mirror & Rubber Floor mat | F256: 2751500000 | G256: =C256-F256 -> 0
A257: LAND CRUISER 300 GR-S 4x4 A/T PRIME | B257: FJA300GA/T18DA | C257: 2825800000 | F257: 2825800000 | G257: =C257-F257 -> 0
A258: INNOVA ZENIX 2.0 G CVT PRIME | B258: MAG10GA/T00BC | C258: 497100000 | D258: BC, BD, BE, BF: Multifunction Box, Storage Organizer, Black Outer Mirror Cover, Spare Tire Cover, Premium Horn | F258: 497100000 | G258: =C258-F258 -> 0
A259: INNOVA ZENIX 2.0 G CVT (Premium Color) PRIME | B259: MAG10GA/T01BD | C259: 500200000 | F259: 500200000 | G259: =C259-F259 -> 0
A260: INNOVA ZENIX 2.0 V CVT PRIME | B260: MAG10VA/T00BE | C260: 539200000 | F260: 539200000 | G260: =C260-F260 -> 0
A261: INNOVA ZENIX 2.0 V CVT (Premium Color) PRIME | B261: MAG10VA/T01BF | C261: 542200000 | F261: 542200000 | G261: =C261-F261 -> 0
A262: INNOVA ZENIX 2.0 G HV CVT (Premium Color) PRIME | B262: MAG10GHA/T01BD | C262: 540400000 | F262: 540400000 | G262: =C262-F262 -> 0
A263: INNOVA ZENIX 2.0 V HV Modelista CVT PRIME | B263: MAG10VHA/T00BC | C263: 608600000 | F263: 608600000 | G263: =C263-F263 -> 0
A264: INNOVA ZENIX 2.0 V HV Modelista CVT (Premium Color) PRIME | B264: MAG10VHA/T01BD | C264: 611700000 | F264: 611700000 | G264: =C264-F264 -> 0
A265: INNOVA ZENIX 2.0 Q HV Modelista CVT TSS PRIME | B265: MAG10QHA/T00BC | C265: 687100000 | F265: 687100000 | G265: =C265-F265 -> 0
A266: INNOVA ZENIX 2.0 Q HV Modelista CVT TSS (Premium Color) PRIME | B266: MAG10QHA/T01BD | C266: 690200000 | F266: 690200000 | G266: =C266-F266 -> 0
A267: RAIZE 1.0T G M/T ONE TONE PRIME | B267: A250GM/T00DA | C267: 310500000 | D267: DA, DE, DG: Cargo Net, Air Purifier | F267: 310300000 | G267: =C267-F267 -> 200000
A268: RAIZE 1.0T G CVT ONE TONE PRIME | B268: A250GA/T00DA | C268: 325700000 | F268: 325500000 | G268: =C268-F268 -> 200000
A269: RAIZE 1.0T GR-S CVT ONE TONE PRIME | B269: A250SA/T20DE | C269: 339600000 | F269: 339400000 | G269: =C269-F269 -> 200000
A270: RAIZE 1.0T GR-S CVT TWO TONE PRIME | B270: A250SA/T21DG | C270: 342300000 | F270: 342100000 | G270: =C270-F270 -> 200000
A271: RAIZE 1.2 G M/T ONE TONE PRIME | B271: A251GM/T00DA | C271: 290800000 | F271: 290600000 | G271: =C271-F271 -> 200000
A272: RAIZE 1.2 G CVT ONE TONE PRIME | B272: A251GA/T00DA | C272: 305900000 | F272: 305700000 | G272: =C272-F272 -> 200000
A273: FORTUNER 2.8 VRZ WITH GR AERO TSS 4X2 A/T ONE TONE PRIME | B273: GUN166VA/T31BF | C273: 735700000 | D273: BF, BH: Spare Tire Cover, Sporty Door Handle, Housing Protector, and Mirror Cover, and Premium Horn | F273: 735700000 | G273: =C273-F273 -> 0
A274: FORTUNER 2.8 VRZ 4X4 A/T GR-S TSS ONE TONE PRIME | B274: GUN156VA/T33BH | C274: 843700000 | F274: 843700000 | G274: =C274-F274 -> 0
A277: SURAT KEPUTUSAN
A278: NO. SK/001/TSO.OPR/VIII/2025
A280: HARGA KENDARAAN TOYOTA
A281: LUX ORDER
A282: WILAYAH : BERAU
A283: Per 1 Oktober 2025 | F283: N-1 | G283: SELISIH
A285: TYPE | B285: KODE TIPE | C285: ON THE ROAD | D285: KETERANGAN | F285: ON THE ROAD | G285: ON THE ROAD
A286: AGYA 1.2 E M/T LUX | B286: A351EM/T00Y | C286: 251268000 | D286: Agya Lux: Collapsible Box | F286: 251268000 | G286: =C286-F286 -> 0
A287: AGYA 1.2 G M/T LUX | B287: A351GM/T00Y | C287: 258568000 | F287: 258568000 | G287: =C287-F287 -> 0
A288: AGYA 1.2 G CVT LUX | B288: A351GA/T00Y | C288: 274968000 | F288: 274968000 | G288: =C288-F288 -> 0
A289: AGYA STYLIX 1.2 G CVT LUX | B289: A351GA/T10Y | C289: 278468000 | F289: 278468000 | G289: =C289-F289 -> 0
A290: AGYA 1.2 GR M/T (One Tone) LUX | B290: A351GRM/T00Y | C290: 324668000 | F290: 324668000 | G290: =C290-F290 -> 0
A291: AGYA 1.2 GR M/T (Two Tone) LUX | B291: A351GRM/T01Y | C291: 327168000 | F291: 327168000 | G291: =C291-F291 -> 0
A292: AGYA 1.2 GR CVT (One Tone) LUX | B292: A351GRA/T00Y | C292: 341068000 | F292: 341068000 | G292: =C292-F292 -> 0
A293: AGYA 1.2 GR CVT (Two Tone) LUX | B293: A351GRA/T01Y | C293: 343568000 | F293: 343568000 | G293: =C293-F293 -> 0
A294: AGYA 1.2 GR-S M/T (One Tone) Non-Premium LUX | B294: A351GRM/T10Y | C294: 315368000 | F294: 315368000 | G294: =C294-F294 -> 0
A295: AGYA 1.2 GR-S M/T (Two Tone) Non-Premium LUX | B295: A351GRM/T11Y | C295: 317868000 | F295: 317868000 | G295: =C295-F295 -> 0
A296: AGYA 1.2 GR-S CVT (One Tone) Non-Premium LUX | B296: A351GRA/T10Y | C296: 331968000 | F296: 331968000 | G296: =C296-F296 -> 0
A297: AGYA 1.2 GR-S CVT (Two Tone) Non-Premium LUX | B297: A351GRA/T11Y | C297: 334468000 | F297: 334468000 | G297: =C297-F297 -> 0
