Workbook
Name \a: #REF!
Name \b: #REF!
Name \c: #REF!
Name \d: #REF!
Name __a1000000: #REF!
Name _1_a_1: #REF!
Name _1_a_1_10: #REF!
Name _1_a_1_3: #REF!
Name _1_a_1_4: #REF!
Name _1_a_1_6: #REF!
Name _1_a_1_7: #REF!
Name _10Excel_BuiltIn_Print_Area_6_1_1: "$#REF!.$A$1:$P$67"
Name _11Excel_BuiltIn_Print_Titles_1_1: "$#REF!.$A$1:$IV$3"
Name _1Excel_BuiltIn_Print_Area_1: #REF!
Name _1Excel_BuiltIn_Print_Area_1_1: #REF!
Name _1Excel_BuiltIn_Print_Area_1_10: #REF!
Name _1Excel_BuiltIn_Print_Area_1_3: #REF!
Name _1Excel_BuiltIn_Print_Area_1_4: #REF!
Name _1Excel_BuiltIn_Print_Area_1_6: #REF!
Name _1Excel_BuiltIn_Print_Area_1_7: #REF!
Name _2_b_1: #REF!
Name _2_b_1_10: #REF!
Name _2_b_1_3: #REF!
Name _2_b_1_4: #REF!
Name _2_b_1_6: #REF!
Name _2_b_1_7: #REF!
Name _2Excel_BuiltIn_Print_Area_1_1_1: #REF!
Name _2Excel_BuiltIn_Print_Area_1_1_1_10: #REF!
Name _2Excel_BuiltIn_Print_Area_1_1_1_3: #REF!
Name _2Excel_BuiltIn_Print_Area_1_1_1_4: #REF!
Name _2Excel_BuiltIn_Print_Area_1_1_1_6: #REF!
Name _2Excel_BuiltIn_Print_Area_1_1_1_7: #REF!
Name _2Excel_BuiltIn_Print_Area_11_1: "$#REF!.$A$1:$T$66"
Name _3_c_1: #REF!
Name _3_c_1_10: #REF!
Name _3_c_1_3: #REF!
Name _3_c_1_4: #REF!
Name _3_c_1_6: #REF!
Name _3_c_1_7: #REF!
Name _3Excel_BuiltIn_Print_Area_1_1: #REF!
Name _3Excel_BuiltIn_Print_Area_12_1: "$#REF!.$A$1:$S$66"
Name _3Excel_BuiltIn_Print_Titles_1: #REF!
Name _3Excel_BuiltIn_Print_Titles_1_10: #REF!
Name _3Excel_BuiltIn_Print_Titles_1_3: #REF!
Name _3Excel_BuiltIn_Print_Titles_1_4: #REF!
Name _3Excel_BuiltIn_Print_Titles_1_6: #REF!
Name _3Excel_BuiltIn_Print_Titles_1_7: #REF!
Name _4_d_1: #REF!
Name _4_d_1_10: #REF!
Name _4_d_1_3: #REF!
Name _4_d_1_4: #REF!
Name _4_d_1_6: #REF!
Name _4_d_1_7: #REF!
Name _4Excel_BuiltIn_Print_Area_11_1: "$#REF!.$A$1:$T$66"
Name _4Excel_BuiltIn_Print_Area_13_1: "$#REF!.$A$1:$P$67"
Name _4Excel_BuiltIn_Print_Titles_1_1_1: #REF!
Name _4Excel_BuiltIn_Print_Titles_1_1_1_10: #REF!
Name _4Excel_BuiltIn_Print_Titles_1_1_1_3: #REF!
Name _4Excel_BuiltIn_Print_Titles_1_1_1_4: #REF!
Name _4Excel_BuiltIn_Print_Titles_1_1_1_6: #REF!

Sheet Rekap Kenaikan Harga
A1: Tipe | B1: Kode Tipe | C1: AVG OTR INCREASE PER JULY 2025 (FREE 1Y INSURANCE)
C2: Jakarta | D2: Banten | E2: Jabar | F2: Jatim | G2: Denpasar | H2: Medan | I2: Palembang | J2: Padang | K2: Lampung | L2: Aceh | M2: Balikpapan | N2: Pontianak | O2: Palangkaraya | P2: Banjarmasin | Q2: Tarakan
A3: Vios | B3: NGC102GA/T00 | C3: 0 | D3: =ROUND(AVERAGE($B3,'OTR srg'!$G12:$G15),-5) -> 0 | E3: =ROUND(AVERAGE($B3,'OTR bdg'!$G12:$G15),-5) -> 0 | F3: =ROUND(AVERAGE($B3,'OTR sby'!$G12:$G15),-5) -> 0 | G3: =ROUND(AVERAGE($B3,'OTR dps'!$G12:$G15),-5) -> 0 | H3: =ROUND(AVERAGE($B3,'OTR mdn'!$G12:$G15),-5) -> 100000 | I3: =ROUND(AVERAGE($B3,'OTR plb'!$G12:$G15),-5) -> 100000 | J3: =ROUND(AVERAGE($B3,'OTR pdg'!$G12:$G15),-5) -> 800000 | K3: =ROUND(AVERAGE($B3,'OTR tjk'!$G12:$G15),-5) -> 100000 | L3: =ROUND(AVERAGE($B3,'OTR aceh'!$G12:$G15),-5) -> 0 | M3: =ROUND(AVERAGE($B3,'OTR blp'!$G12:$G15),-5) -> 0 | N3: =ROUND(AVERAGE($B3,'OTR ptk'!$G12:$G15),-5) -> 200000 | O3: =ROUND(AVERAGE($B3,'OTR plk'!$G12:$G15),-5) -> 200000 | P3: =ROUND(AVERAGE($B3,'OTR bjm'!$G12:$G15),-5) -> 0 | Q3: =ROUND(AVERAGE($B3,'OTR trk'!$G12:$G15),-5) -> 0
A4: Corolla Altis | B4: ZE211VA/T24 | C4: 0 | D4: =ROUND(AVERAGE($B4,'OTR srg'!$G16:$G20),-5) -> 0 | E4: =ROUND(AVERAGE($B4,'OTR bdg'!$G16:$G20),-5) -> 0 | F4: =ROUND(AVERAGE($B4,'OTR sby'!$G16:$G20),-5) -> 0 | G4: =ROUND(AVERAGE($B4,'OTR dps'!$G16:$G20),-5) -> 0 | H4: =ROUND(AVERAGE($B4,'OTR mdn'!$G16:$G20),-5) -> 0 | I4: =ROUND(AVERAGE($B4,'OTR plb'!$G16:$G20),-5) -> 0 | J4: =ROUND(AVERAGE($B4,'OTR pdg'!$G16:$G20),-5) -> 1000000 | K4: =ROUND(AVERAGE($B4,'OTR tjk'!$G16:$G20),-5) -> 0 | L4: =ROUND(AVERAGE($B4,'OTR aceh'!$G16:$G20),-5) -> 0 | M4: =ROUND(AVERAGE($B4,'OTR blp'!$G16:$G20),-5) -> 0 | N4: =ROUND(AVERAGE($B4,'OTR ptk'!$G16:$G20),-5) -> 100000 | O4: =ROUND(AVERAGE($B4,'OTR plk'!$G16:$G20),-5) -> 100000 | P4: =ROUND(AVERAGE($B4,'OTR bjm'!$G16:$G20),-5) -> 0 | Q4: =ROUND(AVERAGE($B4,'OTR trk'!$G16:$G20),-5) -> 0
A5: Corolla Cross | B5: ZVG10A/T11 | C5: 0 | D5: =ROUND(AVERAGE($B5,'OTR srg'!$G23:$G34),-5) -> 0 | E5: =ROUND(AVERAGE($B5,'OTR bdg'!$G23:$G34),-5) -> 0 | F5: =ROUND(AVERAGE($B5,'OTR sby'!$G23:$G34),-5) -> 0 | G5: =ROUND(AVERAGE($B5,'OTR dps'!$G23:$G34),-5) -> 0 | H5: =ROUND(AVERAGE($B5,'OTR mdn'!$G23:$G34),-5) -> 0 | I5: =ROUND(AVERAGE($B5,'OTR plb'!$G23:$G34),-5) -> 0 | J5: =ROUND(AVERAGE($B5,'OTR pdg'!$G23:$G34),-5) -> 400000 | K5: =ROUND(AVERAGE($B5,'OTR tjk'!$G23:$G34),-5) -> 0 | L5: =ROUND(AVERAGE($B5,'OTR aceh'!$G23:$G34),-5) -> 0 | M5: =ROUND(AVERAGE($B5,'OTR blp'!$G23:$G34),-5) -> 0 | N5: =ROUND(AVERAGE($B5,'OTR ptk'!$G23:$G34),-5) -> 200000 | O5: =ROUND(AVERAGE($B5,'OTR plk'!$G23:$G34),-5) -> 200000 | P5: =ROUND(AVERAGE($B5,'OTR bjm'!$G23:$G34),-5) -> 100000 | Q5: =ROUND(AVERAGE($B5,'OTR trk'!$G23:$G34),-5) -> 100000
A6: Camry | B6: AX70VA/T00 | C6: 0 | D6: =ROUND(AVERAGE($B6,'OTR srg'!$G35:$G40),-5) -> 0 | E6: =ROUND(AVERAGE($B6,'OTR bdg'!$G35:$G40),-5) -> 0 | F6: =ROUND(AVERAGE($B6,'OTR sby'!$G35:$G40),-5) -> 0 | G6: =ROUND(AVERAGE($B6,'OTR dps'!$G35:$G40),-5) -> 0 | H6: =ROUND(AVERAGE($B6,'OTR mdn'!$G35:$G40),-5) -> 0 | I6: =ROUND(AVERAGE($B6,'OTR plb'!$G35:$G40),-5) -> 0 | J6: =ROUND(AVERAGE($B6,'OTR pdg'!$G35:$G40),-5) -> 300000 | K6: =ROUND(AVERAGE($B6,'OTR tjk'!$G35:$G40),-5) -> 0 | L6: =ROUND(AVERAGE($B6,'OTR aceh'!$G35:$G40),-5) -> 0 | M6: =ROUND(AVERAGE($B6,'OTR blp'!$G35:$G40),-5) -> 0 | N6: =ROUND(AVERAGE($B6,'OTR ptk'!$G35:$G40),-5) -> 200000 | O6: =ROUND(AVERAGE($B6,'OTR plk'!$G35:$G40),-5) -> 200000 | P6: =ROUND(AVERAGE($B6,'OTR bjm'!$G35:$G40),-5) -> 200000 | Q6: =ROUND(AVERAGE($B6,'OTR trk'!$G35:$G40),-5) -> 200000
A7: Agya | B7: A351EM/T00 | C7: 0 | D7: =ROUND(AVERAGE($B7,'OTR srg'!$G41:$G52),-5) -> 0 | E7: =ROUND(AVERAGE($B7,'OTR bdg'!$G41:$G52),-5) -> 0 | F7: =ROUND(AVERAGE($B7,'OTR sby'!$G41:$G52),-5) -> 0 | G7: =ROUND(AVERAGE($B7,'OTR dps'!$G41:$G52),-5) -> 200000 | H7: =ROUND(AVERAGE($B7,'OTR mdn'!$G41:$G52),-5) -> 200000 | I7: =ROUND(AVERAGE($B7,'OTR plb'!$G41:$G52),-5) -> 0 | J7: =ROUND(AVERAGE($B7,'OTR pdg'!$G41:$G52),-5) -> 300000 | K7: =ROUND(AVERAGE($B7,'OTR tjk'!$G41:$G52),-5) -> 0 | L7: =ROUND(AVERAGE($B7,'OTR aceh'!$G41:$G52),-5) -> 200000 | M7: =ROUND(AVERAGE($B7,'OTR blp'!$G41:$G52),-5) -> 0 | N7: =ROUND(AVERAGE($B7,'OTR ptk'!G42:G43,'OTR ptk'!G51:G52),-5) -> 200000 | O7: =ROUND(AVERAGE($B7,'OTR plk'!$G41:$G52),-5) -> 200000 | P7: =ROUND(AVERAGE($B7,'OTR bjm'!$G41:$G52),-5) -> 100000 | Q7: =ROUND(AVERAGE($B7,'OTR trk'!$G41:$G52),-5) -> 200000
A8: Calya | B8: B40EM/T21B | C8: 0 | D8: =ROUND(AVERAGE($B8,'OTR srg'!$G53:$G56),-5) -> 0 | E8: =ROUND(AVERAGE($B8,'OTR bdg'!$G53:$G56),-5) -> 0 | F8: =ROUND(AVERAGE($B8,'OTR sby'!$G53:$G56),-5) -> 0 | G8: =ROUND(AVERAGE($B8,'OTR dps'!$G53:$G56),-5) -> 200000 | H8: =ROUND(AVERAGE($B8,'OTR mdn'!$G53:$G56),-5) -> 200000 | I8: =ROUND(AVERAGE($B8,'OTR plb'!$G53:$G56),-5) -> 0 | J8: =ROUND(AVERAGE($B8,'OTR pdg'!$G53:$G56),-5) -> 300000 | K8: =ROUND(AVERAGE($B8,'OTR tjk'!$G53:$G56),-5) -> 0 | L8: =ROUND(AVERAGE($B8,'OTR aceh'!$G53:$G56),-5) -> 200000 | M8: =ROUND(AVERAGE($B8,'OTR blp'!$G53:$G56),-5) -> 100000 | N8: =ROUND(AVERAGE($B8,'OTR ptk'!G54:G56),-5) -> 100000 | O8: =ROUND(AVERAGE($B8,'OTR plk'!$G53:$G56),-5) -> 200000 | P8: =ROUND(AVERAGE($B8,'OTR bjm'!$G53:$G56),-5) -> 100000 | Q8: =ROUND(AVERAGE($B8,'OTR trk'!$G53:$G56),-5) -> 200000
A9: Avanza | B9: W00EM/T00 | C9: 0 | D9: =ROUND(AVERAGE($B9,'OTR srg'!$G57:$G61),-5) -> 0 | E9: =ROUND(AVERAGE($B9,'OTR bdg'!$G57:$G61),-5) -> 0 | F9: =ROUND(AVERAGE($B9,'OTR sby'!$G57:$G61),-5) -> 0 | G9: =ROUND(AVERAGE($B9,'OTR dps'!$G57:$G61),-5) -> 100000 | H9: =ROUND(AVERAGE($B9,'OTR mdn'!$G57:$G61),-5) -> 100000 | I9: =ROUND(AVERAGE($B9,'OTR plb'!$G57:$G61),-5) -> 0 | J9: =ROUND(AVERAGE($B9,'OTR pdg'!$G57:$G61),-5) -> 300000 | K9: =ROUND(AVERAGE($B9,'OTR tjk'!$G57:$G61),-5) -> 0 | L9: =ROUND(AVERAGE($B9,'OTR aceh'!$G57:$G61),-5) -> 100000 | M9: =ROUND(AVERAGE($B9,'OTR blp'!$G57:$G61),-5) -> 200000 | N9: =ROUND(AVERAGE($B9,'OTR ptk'!G57:G60),-5) -> 0 | O9: =ROUND(AVERAGE($B9,'OTR plk'!$G57:$G61),-5) -> 0 | P9: =ROUND(AVERAGE($B9,'OTR bjm'!$G57:$G61),-5) -> 200000 | Q9: =ROUND(AVERAGE($B9,'OTR trk'!$G57:$G61),-5) -> 200000
A10: Veloz | B10: W01VM/T00 | C10: 0 | D10: =ROUND(AVERAGE($B10,'OTR srg'!$G62:$G69),-5) -> 0 | E10: =ROUND(AVERAGE($B10,'OTR bdg'!$G62:$G69),-5) -> 0 | F10: =ROUND(AVERAGE($B10,'OTR sby'!$G62:$G69),-5) -> 0 | G10: =ROUND(AVERAGE($B10,'OTR dps'!$G62:$G69),-5) -> 0 | H10: =ROUND(AVERAGE($B10,'OTR mdn'!$G62:$G69),-5) -> 200000 | I10: =ROUND(AVERAGE($B10,'OTR plb'!$G62:$G69),-5) -> 0 | J10: =ROUND(AVERAGE($B10,'OTR pdg'!$G62:$G69),-5) -> 200000 | K10: =ROUND(AVERAGE($B10,'OTR tjk'!$G62:$G69),-5) -> 0 | L10: =ROUND(AVERAGE($B10,'OTR aceh'!$G62:$G69),-5) -> 200000 | M10: =ROUND(AVERAGE($B10,'OTR blp'!$G62:$G69),-5) -> 200000 | N10: =ROUND(AVERAGE($B10,'OTR ptk'!G63,'OTR ptk'!G67,'OTR ptk'!G69),-5) -> 0 | O10: =ROUND(AVERAGE($B10,'OTR plk'!$G62:$G69),-5) -> 0 | P10: =ROUND(AVERAGE($B10,'OTR bjm'!$G62:$G69),-5) -> 200000 | Q10: =ROUND(AVERAGE($B10,'OTR trk'!$G62:$G69),-5) -> 200000
A11: Yaris | B11: NSP15SM/T61 | C11: 0 | D11: =ROUND(AVERAGE($B11,'OTR srg'!$G70:$G75),-5) -> 0 | E11: =ROUND(AVERAGE($B11,'OTR bdg'!$G70:$G75),-5) -> 0 | F11: =ROUND(AVERAGE($B11,'OTR sby'!$G70:$G75),-5) -> 0 | G11: =ROUND(AVERAGE($B11,'OTR dps'!$G70:$G75),-5) -> 0 | H11: =ROUND(AVERAGE($B11,'OTR mdn'!$G70:$G75),-5) -> 100000 | I11: =ROUND(AVERAGE($B11,'OTR plb'!$G70:$G75),-5) -> 0 | J11: =ROUND(AVERAGE($B11,'OTR pdg'!$G70:$G75),-5) -> 200000 | K11: =ROUND(AVERAGE($B11,'OTR tjk'!$G70:$G75),-5) -> 0 | L11: =ROUND(AVERAGE($B11,'OTR aceh'!$G70:$G75),-5) -> 100000 | M11: =ROUND(AVERAGE($B11,'OTR blp'!$G70:$G75),-5) -> 100000 | N11: =ROUND(AVERAGE($B11,'OTR ptk'!$G70:$G75),-5) -> 0 | O11: =ROUND(AVERAGE($B11,'OTR plk'!$G70:$G75),-5) -> 0 | P11: =ROUND(AVERAGE($B11,'OTR bjm'!$G70:$G75),-5) -> 100000 | Q11: =ROUND(AVERAGE($B11,'OTR trk'!$G70:$G75),-5) -> 100000
A12: Yaris Cross | B12: NGC20GM/T00 | C12: 0 | D12: =ROUND(AVERAGE($B12,'OTR srg'!$G76:$G89),-5) -> 0 | E12: =ROUND(AVERAGE($B12,'OTR bdg'!$G76:$G89),-5) -> 0 | F12: =ROUND(AVERAGE($B12,'OTR sby'!$G76:$G89),-5) -> 100000 | G12: =ROUND(AVERAGE($B12,'OTR dps'!$G76:$G89),-5) -> 0 | H12: =ROUND(AVERAGE($B12,'OTR mdn'!$G76:$G89),-5) -> 100000 | I12: =ROUND(AVERAGE($B12,'OTR plb'!$G76:$G89),-5) -> 0 | J12: =ROUND(AVERAGE($B12,'OTR pdg'!$G76:$G89),-5) -> 200000 | K12: =ROUND(AVERAGE($B12,'OTR tjk'!$G76:$G89),-5) -> 0 | L12: =ROUND(AVERAGE($B12,'OTR aceh'!$G76:$G89),-5) -> 0 | M12: =ROUND(AVERAGE($B12,'OTR blp'!$G76:$G89),-5) -> 0 | N12: =ROUND(AVERAGE($B12,'OTR ptk'!$G76:$G89),-5) -> 0 | O12: =ROUND(AVERAGE($B12,'OTR plk'!G86,'OTR plk'!G89),-5) -> 0 | P12: =ROUND(AVERAGE($B12,'OTR bjm'!$G76:$G89),-5) -> 100000 | Q12: =ROUND(AVERAGE($B12,'OTR trk'!$G76:$G89),-5) -> 0
A13: New Rush | B13: F80GM/T30B | C13: 0 | D13: =ROUND(AVERAGE($B13,'OTR srg'!$G90:$G93),-5) -> 0 | E13: =ROUND(AVERAGE($B13,'OTR bdg'!$G90:$G93),-5) -> 0 | F13: =ROUND(AVERAGE($B13,'OTR sby'!$G90:$G93),-5) -> 0 | G13: =ROUND(AVERAGE($B13,'OTR dps'!$G90:$G93),-5) -> 0 | H13: =ROUND(AVERAGE($B13,'OTR mdn'!$G90:$G93),-5) -> 200000 | I13: =ROUND(AVERAGE($B13,'OTR plb'!$G90:$G93),-5) -> 0 | J13: =ROUND(AVERAGE($B13,'OTR pdg'!$G90:$G93),-5) -> 200000 | K13: =ROUND(AVERAGE($B13,'OTR tjk'!$G90:$G93),-5) -> 0 | L13: =ROUND(AVERAGE($B13,'OTR aceh'!$G90:$G93),-5) -> 0 | M13: =ROUND(AVERAGE($B13,'OTR blp'!$G90:$G93),-5) -> 0 | N13: =ROUND(AVERAGE($B13,'OTR ptk'!$G90:$G93),-5) -> 0 | O13: =ROUND(AVERAGE($B13,'OTR plk'!$G90:$G93),-5) -> 0 | P13: =ROUND(AVERAGE($B13,'OTR bjm'!$G90:$G93),-5) -> 200000 | Q13: =ROUND(AVERAGE($B13,'OTR trk'!$G90:$G93),-5) -> 0
A14: Voxy | B14: MZR90A/T00B | C14: 0 | D14: =ROUND(AVERAGE($B14,'OTR srg'!$G97:$G98),-5) -> 0 | E14: =ROUND(AVERAGE($B14,'OTR bdg'!$G97:$G98),-5) -> 0 | F14: =ROUND(AVERAGE($B14,'OTR sby'!$G97:$G98),-5) -> 0 | G14: =ROUND(AVERAGE($B14,'OTR dps'!$G97:$G98),-5) -> 0 | H14: =ROUND(AVERAGE($B14,'OTR mdn'!$G97:$G98),-5) -> 200000 | I14: =ROUND(AVERAGE($B14,'OTR plb'!$G97:$G98),-5) -> 0 | J14: =ROUND(AVERAGE($B14,'OTR pdg'!$G97:$G98),-5) -> 200000 | K14: =ROUND(AVERAGE($B14,'OTR tjk'!$G97:$G98),-5) -> 0 | L14: =ROUND(AVERAGE($B14,'OTR aceh'!$G97:$G98),-5) -> 0 | M14: =ROUND(AVERAGE($B14,'OTR blp'!$G97:$G98),-5) -> 0 | N14: =ROUND(AVERAGE($B14,'OTR ptk'!$G97:$G98),-5) -> 0 | O14: =ROUND(AVERAGE($B14,'OTR plk'!$G97:$G98),-5) -> 0 | P14: =ROUND(AVERAGE($B14,'OTR bjm'!$G97:$G98),-5) -> 200000 | Q14: =ROUND(AVERAGE($B14,'OTR trk'!$G97:$G98),-5) -> 0
A15: New Vellfire | B15: AAH40HA/T00 | C15: 0 | D15: =ROUND(AVERAGE($B15,'OTR srg'!$G99:$G100),-5) -> 0 | E15: =ROUND(AVERAGE($B15,'OTR bdg'!$G99:$G100),-5) -> 0 | F15: =ROUND(AVERAGE($B15,'OTR sby'!$G99:$G100),-5) -> 0 | G15: =ROUND(AVERAGE($B15,'OTR dps'!$G99:$G100),-5) -> 0 | H15: =ROUND(AVERAGE($B15,'OTR mdn'!$G99:$G100),-5) -> 200000 | I15: =ROUND(AVERAGE($B15,'OTR plb'!$G99:$G100),-5) -> 0 | J15: =ROUND(AVERAGE($B15,'OTR pdg'!$G99:$G100),-5) -> 200000 | K15: =ROUND(AVERAGE($B15,'OTR tjk'!$G99:$G100),-5) -> 0 | L15: =ROUND(AVERAGE($B15,'OTR aceh'!$G99:$G100),-5) -> 0 | M15: =ROUND(AVERAGE($B15,'OTR blp'!$G99:$G100),-5) -> 0 | N15: =ROUND(AVERAGE($B15,'OTR ptk'!$G99:$G100),-5) -> 0 | O15: =ROUND(AVERAGE($B15,'OTR plk'!$G99:$G100),-5) -> 0 | P15: =ROUND(AVERAGE($B15,'OTR bjm'!$G99:$G100),-5) -> 200000 | Q15: =ROUND(AVERAGE($B15,'OTR trk'!$G99:$G100),-5) -> 0
A16: New Alphard | B16: AGH40XA/T00 | C16: 0 | D16: =ROUND(AVERAGE($B16,'OTR srg'!$G101:$G106),-5) -> 0 | E16: =ROUND(AVERAGE($B16,'OTR bdg'!$G101:$G106),-5) -> 0 | F16: =ROUND(AVERAGE($B16,'OTR sby'!$G101:$G106),-5) -> 0 | G16: =ROUND(AVERAGE($B16,'OTR dps'!$G101:$G106),-5) -> 0 | H16: =ROUND(AVERAGE($B16,'OTR mdn'!$G101:$G106),-5) -> 200000 | I16: =ROUND(AVERAGE($B16,'OTR plb'!$G101:$G106),-5) -> 0 | J16: =ROUND(AVERAGE($B16,'OTR pdg'!$G101:$G106),-5) -> 200000 | K16: =ROUND(AVERAGE($B16,'OTR tjk'!$G101:$G106),-5) -> 0 | L16: =ROUND(AVERAGE($B16,'OTR aceh'!$G101:$G106),-5) -> 0 | M16: =ROUND(AVERAGE($B16,'OTR blp'!$G101:$G106),-5) -> 0 | N16: =ROUND(AVERAGE($B16,'OTR ptk'!$G101:$G106),-5) -> 0 | O16: =ROUND(AVERAGE($B16,'OTR plk'!$G101:$G106),-5) -> 0 | P16: =ROUND(AVERAGE($B16,'OTR bjm'!G103),-5) -> 200000 | Q16: =ROUND(AVERAGE($B16,'OTR trk'!$G101:$G106),-5) -> 0
A17: Kijang Innova | B17: TGN40GM/T30X | C17: 0 | D17: =ROUND(AVERAGE($B17,'OTR srg'!$G107:$G109),-5) -> 0 | E17: =ROUND(AVERAGE($B17,'OTR bdg'!$G107:$G109),-5) -> 0 | F17: =ROUND(AVERAGE($B17,'OTR sby'!$G107:$G109),-5) -> 0 | G17: =ROUND(AVERAGE($B17,'OTR dps'!$G107:$G109),-5) -> 0 | H17: =ROUND(AVERAGE($B17,'OTR mdn'!$G107:$G109),-5) -> 200000 | I17: =ROUND(AVERAGE($B17,'OTR plb'!$G107:$G109),-5) -> 0 | J17: =ROUND(AVERAGE($B17,'OTR pdg'!$G107:$G109),-5) -> 200000 | K17: =ROUND(AVERAGE($B17,'OTR tjk'!$G107:$G109),-5) -> 0 | L17: =ROUND(AVERAGE($B17,'OTR aceh'!$G107:$G109),-5) -> 0 | M17: =ROUND(AVERAGE($B17,'OTR blp'!$G107:$G109),-5) -> 0 | N17: =ROUND(AVERAGE($B17,'OTR ptk'!$G107:$G109),-5) -> 0 | O17: =ROUND(AVERAGE($B17,'OTR plk'!G108),-5) -> 0 | P17: =ROUND(AVERAGE('OTR bjm'!G108),-5) -> 200000 | Q17: =ROUND(AVERAGE($B17,'OTR trk'!$G107:$G109),-5) -> 0
A18: Innova Zenix | B18: MAG10GA/T00 | C18: 0 | D18: =ROUND(AVERAGE('OTR srg'!$G110:$G131),-5) -> 0 | E18: =ROUND(AVERAGE('OTR bdg'!$G110:$G131),-5) -> 0 | F18: =ROUND(AVERAGE('OTR sby'!$G110:$G131),-5) -> 0 | G18: =ROUND(AVERAGE('OTR dps'!$G110:$G131),-5) -> 0 | H18: =ROUND(AVERAGE('OTR mdn'!$G110:$G131),-5) -> 200000 | I18: =ROUND(AVERAGE('OTR plb'!$G110:$G131),-5) -> 0 | J18: =ROUND(AVERAGE('OTR pdg'!$G110:$G131),-5) -> 200000 | K18: =ROUND(AVERAGE('OTR tjk'!$G110:$G131),-5) -> 0 | L18: =ROUND(AVERAGE('OTR aceh'!$G110:$G131),-5) -> 0 | M18: =ROUND(AVERAGE('OTR blp'!$G110:$G131),-5) -> 0 | N18: =ROUND(AVERAGE('OTR ptk'!$G110:$G131),-5) -> 0 | O18: =ROUND(AVERAGE('OTR plk'!G110,'OTR plk'!G112,'OTR plk'!G116,'OTR plk'!G118,'OTR plk'!G110,'OTR plk'!G122),-5) -> 0 | P18: =ROUND(AVERAGE('OTR bjm'!G116,'OTR bjm'!G118),-5) -> 200000 | Q18: =ROUND(AVERAGE('OTR trk'!$G110:$G131),-5) -> 0
A19: Hilux Single Cabin | B19: TGN10SCM/T10 | C19: 0 | D19: =ROUND(AVERAGE('OTR srg'!$G154:$G156),-5) -> 0 | E19: =ROUND(AVERAGE('OTR bdg'!$G154:$G156),-5) -> 0 | F19: =ROUND(AVERAGE('OTR sby'!$G154:$G156),-5) -> 0 | G19: =ROUND(AVERAGE('OTR dps'!$G154:$G156),-5) -> 0 | H19: =ROUND(AVERAGE('OTR mdn'!$G154:$G156),-5) -> 0 | I19: =ROUND(AVERAGE('OTR plb'!$G154:$G156),-5) -> 0 | J19: =ROUND(AVERAGE('OTR pdg'!$G154:$G156),-5) -> 0 | K19: =ROUND(AVERAGE('OTR tjk'!$G154:$G156),-5) -> 0 | L19: =ROUND(AVERAGE('OTR aceh'!$G154:$G156),-5) -> 0 | M19: =ROUND(AVERAGE('OTR blp'!$G154:$G156),-5) -> 0 | N19: =ROUND(AVERAGE('OTR ptk'!$G154:$G156),-5) -> 0 | O19: =ROUND(AVERAGE('OTR plk'!$G154:$G156),-5) -> 0 | P19: =ROUND(AVERAGE('OTR bjm'!$G154:$G156),-5) -> 0 | Q19: =ROUND(AVERAGE('OTR trk'!$G154:$G156),-5) -> 0
A20: Hilux Double Cabin | B20: GUN25DCEM/T30 | C20: 0 | D20: =ROUND(AVERAGE($B20,'OTR srg'!$G157:$G161),-5) -> 0 | E20: =ROUND(AVERAGE($B20,'OTR bdg'!$G157:$G161),-5) -> 0 | F20: =ROUND(AVERAGE($B20,'OTR sby'!$G157:$G161),-5) -> 0 | G20: =ROUND(AVERAGE($B20,'OTR dps'!$G157:$G161),-5) -> 0 | H20: =ROUND(AVERAGE($B20,'OTR mdn'!$G157:$G161),-5) -> 0 | I20: =ROUND(AVERAGE($B20,'OTR plb'!$G157:$G161),-5) -> 0 | J20: =ROUND(AVERAGE($B20,'OTR pdg'!$G157:$G161),-5) -> 0 | K20: =ROUND(AVERAGE($B20,'OTR tjk'!$G157:$G161),-5) -> 0 | L20: =ROUND(AVERAGE($B20,'OTR aceh'!$G157:$G161),-5) -> 0 | M20: =ROUND(AVERAGE($B20,'OTR blp'!$G157:$G161),-5) -> 0 | N20: =ROUND(AVERAGE($B20,'OTR ptk'!G156:G157),-5) -> 0 | O20: =ROUND(AVERAGE('OTR plk'!G161),-5) -> 0 | P20: =ROUND(AVERAGE($B20,'OTR bjm'!$G157:$G161),-5) -> 0 | Q20: =ROUND(AVERAGE($B20,'OTR trk'!$G157:$G161),-5) -> 0
A21: Hilux Rangga | B21: TGN10CCSM/T00 | C21: 0 | D21: =ROUND(AVERAGE($B21,'OTR srg'!$G162:$G185),-5) -> 0 | E21: =ROUND(AVERAGE($B21,'OTR bdg'!$G162:$G185),-5) -> 0 | F21: =ROUND(AVERAGE($B21,'OTR sby'!$G162:$G185),-5) -> 300000 | G21: =ROUND(AVERAGE($B21,'OTR dps'!$G162:$G185),-5) -> 200000 | H21: =ROUND(AVERAGE($B21,'OTR mdn'!$G162:$G185),-5) -> 100000 | I21: =ROUND(AVERAGE($B21,'OTR plb'!$G162:$G185),-5) -> 0 | J21: =ROUND(AVERAGE($B21,'OTR pdg'!$G162:$G185),-5) -> 500000 | K21: =ROUND(AVERAGE($B21,'OTR tjk'!$G162:$G185),-5) -> 0 | L21: =ROUND(AVERAGE($B21,'OTR aceh'!$G162:$G185),-5) -> 200000 | M21: =ROUND(AVERAGE($B21,'OTR blp'!$G162:$G185),-5) -> 0 | N21: =ROUND(AVERAGE($B21,'OTR ptk'!$G162:$G185),-5) -> 100000 | O21: =ROUND(AVERAGE('OTR plk'!G169),-5) -> 0 | P21: =ROUND(AVERAGE('OTR bjm'!G169),-5) -> 0 | Q21: =ROUND(AVERAGE($B21,'OTR trk'!$G162:$G185),-5) -> 0
A22: Hiace Comm | B22: KD223M/T00COMM | C22: 0 | D22: =ROUND(AVERAGE($B22,'OTR srg'!$G199:$G200),-5) -> 0 | E22: =ROUND(AVERAGE($B22,'OTR bdg'!$G199:$G200),-5) -> 0 | F22: =ROUND(AVERAGE($B22,'OTR sby'!$G199:$G200),-5) -> 0 | G22: =ROUND(AVERAGE($B22,'OTR dps'!$G199:$G200),-5) -> 0 | H22: =ROUND(AVERAGE($B22,'OTR mdn'!$G199:$G200),-5) -> 200000 | I22: =ROUND(AVERAGE($B22,'OTR plb'!$G199:$G200),-5) -> 0 | J22: =ROUND(AVERAGE($B22,'OTR pdg'!$G199:$G200),-5) -> 300000 | K22: =ROUND(AVERAGE($B22,'OTR tjk'!$G199:$G200),-5) -> 0 | L22: =ROUND(AVERAGE($B22,'OTR aceh'!$G199:$G200),-5) -> 200000 | M22: =ROUND(AVERAGE($B22,'OTR blp'!$G199:$G200),-5) -> 0 | N22: =ROUND(AVERAGE($B22,'OTR ptk'!$G199:$G200),-5) -> 200000 | O22: =ROUND(AVERAGE($B22,'OTR plk'!$G199:$G200),-5) -> 200000 | P22: =ROUND(AVERAGE($B22,'OTR bjm'!$G199:$G200),-5) -> 200000 | Q22: =ROUND(AVERAGE($B22,'OTR trk'!$G199:$G200),-5) -> 0
A23: Hiace Premio | B23: XZ30ST00 | C23: 0 | D23: =ROUND(AVERAGE($B23,'OTR srg'!$G201),-5) -> 0 | E23: =ROUND(AVERAGE($B23,'OTR bdg'!$G201),-5) -> 0 | F23: =ROUND(AVERAGE($B23,'OTR sby'!$G201),-5) -> 0 | G23: =ROUND(AVERAGE($B23,'OTR dps'!$G201),-5) -> 0 | H23: =ROUND(AVERAGE($B23,'OTR mdn'!$G201),-5) -> 200000 | I23: =ROUND(AVERAGE($B23,'OTR plb'!$G201),-5) -> 0 | J23: =ROUND(AVERAGE($B23,'OTR pdg'!$G201),-5) -> 300000 | K23: =ROUND(AVERAGE($B23,'OTR tjk'!$G201),-5) -> 0 | L23: =ROUND(AVERAGE($B23,'OTR aceh'!$G201),-5) -> 200000 | M23: =ROUND(AVERAGE($B23,'OTR blp'!$G201),-5) -> 0 | N23: =ROUND(AVERAGE($B23,'OTR ptk'!$G201),-5) -> 200000 | O23: =ROUND(AVERAGE($B23,'OTR plk'!$G201),-5) -> 200000 | P23: =ROUND(AVERAGE($B23,'OTR bjm'!$G201),-5) -> 200000 | Q23: =ROUND(AVERAGE($B23,'OTR trk'!$G201),-5) -> 0
A24: Dyna | B24: DB06A/T10 | C24: 0 | D24: =ROUND(AVERAGE($B24,'OTR srg'!$G204:$G206),-5) -> 0 | E24: =ROUND(AVERAGE($B24,'OTR bdg'!$G204:$G206),-5) -> 0 | F24: =ROUND(AVERAGE($B24,'OTR sby'!$G204:$G206),-5) -> 0 | G24: =ROUND(AVERAGE($B24,'OTR dps'!$G204:$G206),-5) -> 0 | H24: =ROUND(AVERAGE($B24,'OTR mdn'!$G204:$G206),-5) -> 200000 | I24: =ROUND(AVERAGE($B24,'OTR plb'!$G204:$G206),-5) -> 0 | J24: =ROUND(AVERAGE($B24,'OTR pdg'!$G204:$G206),-5) -> 300000 | K24: =ROUND(AVERAGE($B24,'OTR tjk'!$G204:$G206),-5) -> 0 | L24: =ROUND(AVERAGE($B24,'OTR aceh'!$G204:$G206),-5) -> 200000 | M24: =ROUND(AVERAGE($B24,'OTR blp'!$G204:$G206),-5) -> 0 | N24: =ROUND(AVERAGE($B24,'OTR ptk'!$G204:$G206),-5) -> 200000 | O24: =ROUND(AVERAGE($B24,'OTR plk'!$G204:$G206),-5) -> 200000 | P24: =ROUND(AVERAGE($B24,'OTR bjm'!$G204:$G206),-5) -> 200000 | Q24: =ROUND(AVERAGE($B24,'OTR trk'!$G204:$G206),-5) -> 0
A25: Supra | B25: FJA300VXA/T04 | C25: 0 | D25: =ROUND(AVERAGE($B25,'OTR srg'!$G207:$G209),-5) -> 0 | E25: =ROUND(AVERAGE($B25,'OTR bdg'!$G207:$G209),-5) -> 0 | F25: =ROUND(AVERAGE($B25,'OTR sby'!$G207:$G209),-5) -> 0 | G25: =ROUND(AVERAGE($B25,'OTR dps'!$G207:$G209),-5) -> 0 | H25: =ROUND(AVERAGE($B25,'OTR mdn'!$G207:$G209),-5) -> 200000 | I25: =ROUND(AVERAGE($B25,'OTR plb'!$G207:$G209),-5) -> 0 | J25: =ROUND(AVERAGE($B25,'OTR pdg'!$G207:$G209),-5) -> 300000 | K25: =ROUND(AVERAGE($B25,'OTR tjk'!$G207:$G209),-5) -> 0 | L25: =ROUND(AVERAGE($B25,'OTR aceh'!$G207:$G209),-5) -> 200000 | M25: =ROUND(AVERAGE($B25,'OTR blp'!$G207:$G209),-5) -> 0 | N25: =ROUND(AVERAGE($B25,'OTR ptk'!$G207:$G209),-5) -> 200000 | O25: =ROUND(AVERAGE($B25,'OTR plk'!$G207:$G209),-5) -> 200000 | P25: =ROUND(AVERAGE($B25,'OTR bjm'!$G207:$G209),-5) -> 200000 | Q25: =ROUND(AVERAGE($B25,'OTR trk'!$G207:$G209),-5) -> 0
A26: LC 300 | B26: A250GM/T00S | C26: 0 | D26: =ROUND(AVERAGE($B26,'OTR srg'!$G210:$G221),-5) -> 0 | E26: =ROUND(AVERAGE($B26,'OTR bdg'!$G210:$G221),-5) -> 0 | F26: =ROUND(AVERAGE($B26,'OTR sby'!$G210:$G221),-5) -> 100000 | G26: =ROUND(AVERAGE($B26,'OTR dps'!$G210:$G221),-5) -> 100000 | H26: =ROUND(AVERAGE($B26,'OTR mdn'!$G210:$G221),-5) -> 100000 | I26: =ROUND(AVERAGE($B26,'OTR plb'!$G210:$G221),-5) -> 0 | J26: =ROUND(AVERAGE($B26,'OTR pdg'!$G210:$G221),-5) -> 300000 | K26: =ROUND(AVERAGE($B26,'OTR tjk'!$G210:$G221),-5) -> 0 | L26: =ROUND(AVERAGE($B26,'OTR aceh'!$G210:$G221),-5) -> 100000 | M26: =ROUND(AVERAGE($B26,'OTR blp'!$G210:$G221),-5) -> 0 | N26: =ROUND(AVERAGE($B26,'OTR ptk'!G214:G215),-5) -> 0 | O26: =ROUND(AVERAGE($B26,'OTR plk'!$G210:$G221),-5) -> 100000 | P26: =ROUND(AVERAGE($B26,'OTR bjm'!$G210:$G221),-5) -> 100000 | Q26: =ROUND(AVERAGE($B26,'OTR trk'!$G210:$G221),-5) -> 0
A27: Raize | B27: GUN166VRZA/T10 | C27: 0 | D27: =ROUND(AVERAGE('OTR srg'!$G222:$G222),-5) -> 0 | E27: =ROUND(AVERAGE('OTR bdg'!$G222:$G222),-5) -> 0 | F27: =ROUND(AVERAGE('OTR sby'!$G222:$G222),-5) -> 0 | G27: =ROUND(AVERAGE('OTR dps'!$G222:$G222),-5) -> 0 | H27: =ROUND(AVERAGE('OTR mdn'!$G222:$G222),-5) -> 0 | I27: =ROUND(AVERAGE('OTR plb'!$G222:$G222),-5) -> 0 | J27: =ROUND(AVERAGE('OTR pdg'!$G222:$G222),-5) -> 0 | K27: =ROUND(AVERAGE('OTR tjk'!$G222:$G222),-5) -> 0 | L27: =ROUND(AVERAGE('OTR aceh'!$G222:$G222),-5) -> 0 | M27: =ROUND(AVERAGE('OTR blp'!$G222:$G222),-5) -> 0 | N27: =ROUND(AVERAGE('OTR ptk'!$G222:$G222),-5) -> 0 | O27: =ROUND(AVERAGE('OTR plk'!$G222:$G222),-5) -> 0 | P27: =ROUND(AVERAGE('OTR bjm'!$G222:$G222),-5) -> 0 | Q27: =ROUND(AVERAGE('OTR trk'!$G222:$G222),-5) -> 0
A28: Fortuner | B28: GXPA16M/T10 | C28: 0 | D28: =ROUND(AVERAGE('OTR srg'!#REF!),-5) -> #REF! | E28: =ROUND(AVERAGE('OTR bdg'!#REF!),-5) -> #REF! | F28: =ROUND(AVERAGE('OTR sby'!#REF!),-5) -> #REF! | G28: =ROUND(AVERAGE('OTR dps'!#REF!),-5) -> #REF! | H28: =ROUND(AVERAGE('OTR mdn'!#REF!),-5) -> #REF! | I28: =ROUND(AVERAGE('OTR plb'!#REF!),-5) -> #REF! | J28: =ROUND(AVERAGE('OTR pdg'!#REF!),-5) -> #REF! | K28: =ROUND(AVERAGE('OTR tjk'!#REF!),-5) -> #REF! | L28: =ROUND(AVERAGE('OTR aceh'!#REF!),-5) -> #REF! | M28: =ROUND(AVERAGE('OTR blp'!#REF!),-5) -> #REF! | N28: =ROUND(AVERAGE('OTR ptk'!#REF!),-5) -> #REF! | O28: =ROUND(AVERAGE('OTR plk'!#REF!),-5) -> #REF! | P28: =ROUND(AVERAGE('OTR bjm'!#REF!),-5) -> #REF! | Q28: =ROUND(AVERAGE('OTR trk'!#REF!),-5) -> #REF!
A29: GR Yaris | B29: ZVW60A/T00 | C29: 0 | D29: =ROUND(AVERAGE($B29,'OTR srg'!#REF!),-5) -> #REF! | E29: =ROUND(AVERAGE($B29,'OTR bdg'!#REF!),-5) -> #REF! | F29: =ROUND(AVERAGE($B29,'OTR sby'!#REF!),-5) -> #REF! | G29: =ROUND(AVERAGE($B29,'OTR dps'!#REF!),-5) -> #REF! | H29: =ROUND(AVERAGE($B29,'OTR mdn'!#REF!),-5) -> #REF! | I29: =ROUND(AVERAGE($B29,'OTR plb'!#REF!),-5) -> #REF! | J29: =ROUND(AVERAGE($B29,'OTR pdg'!#REF!),-5) -> #REF! | K29: =ROUND(AVERAGE($B29,'OTR tjk'!#REF!),-5) -> #REF! | L29: =ROUND(AVERAGE($B29,'OTR aceh'!#REF!),-5) -> #REF! | M29: =ROUND(AVERAGE($B29,'OTR blp'!#REF!),-5) -> #REF! | N29: =ROUND(AVERAGE($B29,'OTR ptk'!#REF!),-5) -> #REF! | O29: =ROUND(AVERAGE($B29,'OTR plk'!#REF!),-5) -> #REF! | P29: =ROUND(AVERAGE($B29,'OTR bjm'!#REF!),-5) -> #REF! | Q29: =ROUND(AVERAGE($B29,'OTR trk'!#REF!),-5) -> #REF!
A30: GR 86 | B30: ZN8M/T00 | C30: 0 | D30: =ROUND(AVERAGE($B30,'OTR srg'!#REF!),-5) -> #REF! | E30: =ROUND(AVERAGE($B30,'OTR bdg'!#REF!),-5) -> #REF! | F30: =ROUND(AVERAGE($B30,'OTR sby'!#REF!),-5) -> #REF! | G30: =ROUND(AVERAGE($B30,'OTR dps'!#REF!),-5) -> #REF! | H30: =ROUND(AVERAGE($B30,'OTR mdn'!#REF!),-5) -> #REF! | I30: =ROUND(AVERAGE($B30,'OTR plb'!#REF!),-5) -> #REF! | J30: =ROUND(AVERAGE($B30,'OTR pdg'!#REF!),-5) -> #REF! | K30: =ROUND(AVERAGE($B30,'OTR tjk'!#REF!),-5) -> #REF! | L30: =ROUND(AVERAGE($B30,'OTR aceh'!#REF!),-5) -> #REF! | M30: =ROUND(AVERAGE($B30,'OTR blp'!#REF!),-5) -> #REF! | N30: =ROUND(AVERAGE($B30,'OTR ptk'!#REF!),-5) -> #REF! | O30: =ROUND(AVERAGE($B30,'OTR plk'!#REF!),-5) -> #REF! | P30: =ROUND(AVERAGE($B30,'OTR bjm'!#REF!),-5) -> #REF! | Q30: =ROUND(AVERAGE($B30,'OTR trk'!#REF!),-5) -> #REF!
A31: GR Corolla | B31: GZEA14M/T00 | C31: 0 | D31: =ROUND(AVERAGE($B31,'OTR srg'!#REF!),-5) -> #REF! | E31: =ROUND(AVERAGE($B31,'OTR bdg'!#REF!),-5) -> #REF! | F31: =ROUND(AVERAGE($B31,'OTR sby'!#REF!),-5) -> #REF! | G31: =ROUND(AVERAGE($B31,'OTR dps'!#REF!),-5) -> #REF! | H31: =ROUND(AVERAGE($B31,'OTR mdn'!#REF!),-5) -> #REF! | I31: =ROUND(AVERAGE($B31,'OTR plb'!#REF!),-5) -> #REF! | J31: =ROUND(AVERAGE($B31,'OTR pdg'!#REF!),-5) -> #REF! | K31: =ROUND(AVERAGE($B31,'OTR tjk'!#REF!),-5) -> #REF! | L31: =ROUND(AVERAGE($B31,'OTR aceh'!#REF!),-5) -> #REF! | M31: =ROUND(AVERAGE($B31,'OTR blp'!#REF!),-5) -> #REF! | N31: =ROUND(AVERAGE($B31,'OTR ptk'!#REF!),-5) -> #REF! | O31: =ROUND(AVERAGE($B31,'OTR plk'!#REF!),-5) -> #REF! | P31: =ROUND(AVERAGE($B31,'OTR bjm'!#REF!),-5) -> #REF! | Q31: =ROUND(AVERAGE($B31,'OTR trk'!#REF!),-5) -> #REF!
A32: bZ4X | B32: XEA10EVA3 | C32: 0 | D32: =ROUND(AVERAGE($B32,'OTR srg'!#REF!),-5) -> #REF! | E32: =ROUND(AVERAGE($B32,'OTR bdg'!#REF!),-5) -> #REF! | F32: =ROUND(AVERAGE($B32,'OTR sby'!#REF!),-5) -> #REF! | G32: =ROUND(AVERAGE($B32,'OTR dps'!#REF!),-5) -> #REF! | H32: =ROUND(AVERAGE($B32,'OTR mdn'!#REF!),-5) -> #REF! | I32: =ROUND(AVERAGE($B32,'OTR plb'!#REF!),-5) -> #REF! | J32: =ROUND(AVERAGE($B32,'OTR pdg'!#REF!),-5) -> #REF! | K32: =ROUND(AVERAGE($B32,'OTR tjk'!#REF!),-5) -> #REF! | L32: =ROUND(AVERAGE($B32,'OTR aceh'!#REF!),-5) -> #REF! | M32: =ROUND(AVERAGE($B32,'OTR blp'!#REF!),-5) -> #REF! | N32: =ROUND(AVERAGE($B32,'OTR ptk'!#REF!),-5) -> #REF! | O32: 100000 | P32: =ROUND(AVERAGE($B32,'OTR bjm'!#REF!),-5) -> #REF! | Q32: =ROUND(AVERAGE($B32,'OTR trk'!#REF!),-5) -> #REF!

Sheet OTR dki
A3: SURAT KEPUTUSAN
A4: NO. SK/001/TSO.OPR/XI/2025
A6: HARGA KENDARAAN TOYOTA
A7: REGULAR ORDER
A8: WILAYAH : JAKARTA, BEKASI, BANTEN B (PLAT NOMOR "B")
A9: Per 1 November 2025 | F9: N-1 | G9: SELISIH
A11: TYPE | B11: KODE TIPE | C11: ON THE ROAD | D11: KETERANGAN | F11: ON THE ROAD | G11: ON THE ROAD
A12: All New Vios 1.5 G CVT | B12: NGC102GA/T00 | C12: 374800000 | F12: 374800000 | G12: =C12-F12 -> 0
A13: All New Vios 1.5 G TSS CVT | B13: NGC102GA/T01 | C13: 388200000 | F13: 388200000 | G13: =C13-F13 -> 0
A14: COROLLA ALTIS 1.8 V A/T | B14: ZE211VA/T24 | C14: 583300000 | F14: 583300000 | G14: =C14-F14 -> 0
A15: COROLLA ALTIS 1.8 V A/T (Premium Color) | B15: ZE211VA/T25 | C15: 586300000 | F15: 586300000 | G15: =C15-F15 -> 0
A16: COROLLA ALTIS 1.8L HYBRID A/T | B16: ZE211LA/T26 | C16: 637500000 | F16: 637500000 | G16: =C16-F16 -> 0
A17: COROLLA ALTIS 1.8L HYBRID A/T (Premium Color) | B17: ZE211LA/T27 | C17: 640600000 | F17: 640600000 | G17: =C17-F17 -> 0
A18: COROLLA ALTIS 1.8L HYBRID A/T GR-S | B18: ZE211LA/T28 | C18: 644900000 | F18: 644900000 | G18: =C18-F18 -> 0
A19: COROLLA ALTIS 1.8L HYBRID A/T GR-S (Premium Color) | B19: ZE211LA/T29 | C19: 648000000 | F19: 648000000 | G19: =C19-F19 -> 0
A20: COROLLA CROSS 1.8 HYBRID A/T | B20: ZVG10A/T31 | C20: 603800000 | F20: 603800000 | G20: =C20-F20 -> 0
A21: COROLLA CROSS 1.8 HYBRID A/T(Premium Color) | B21: ZVG10A/T32 | C21: 606900000 | F21: 606900000 | G21: =C21-F21 -> 0
A22: COROLLA CROSS 1.8 HYBRID GR-S A/T | B22: ZVG10A/T41 | C22: 643100000 | F22: 643100000 | G22: =C22-F22 -> 0
A23: COROLLA CROSS 1.8 HYBRID GR-S A/T (Premium Color) | B23: ZVG10A/T42 | C23: 648200000 | F23: 648200000 | G23: =C23-F23 -> 0
... A222: Bz4X A/T ex-KTT Vin 2023 (With Wall Charger) | B222: XEA10EVB1 | C222: 1244100000 | F222: 1244100000 | G222: =C222-F222 -> 0
A223: Jakarta, 1 Oktober 2025
A224: 1. Tarif BBNKB menggunakan tarif kepemilikan unit kedua
A225: 2. Dyna, Hilux, Hi Ace sudah termasuk Keur.
A226: 3. LC 300 unit tergantung ketersediaan barang
A229: SURAT KEPUTUSAN
A230: NO. SK/001/TSO.OPR/VIII/2025
A232: HARGA KENDARAAN TOYOTA
A233: PRIME SERIES
A234: WILAYAH : JAKARTA, BEKASI, BANTEN B (PLAT NOMOR "B")
A235: Per 1 Oktober 2025 | F235: N-1 | G235: SELISIH
A237: TYPE | B237: KODE TIPE | C237: ON THE ROAD | D237: KETERANGAN | F237: ON THE ROAD | G237: ON THE ROAD
A238: AGYA 1.2 G CVT PRIME | B238: A351GA/T00CA | C238: 200200000 | D238: CA, CB: Premium Horn, DVR | F238: 200200000 | G238: =C238-F238 -> 0
A239: AGYA STYLIX 1.2 G CVT PRIME | B239: A351GA/T10CB | C239: 203700000 | F239: 203700000 | G239: =C239-F239 -> 0
A240: AGYA 1.2 G M/T PRIME | B240: A351GM/T00CA | C240: 184000000 | F240: 184000000 | G240: =C240-F240 -> 0
A241: CALYA 1.2 G MT PRIME | B241: B40GM/T20CA | C241: 180900000 | D241: CA: Side Visor, Foglamp Ornament, Door Handle Protector | F241: 180900000 | G241: =C241-F241 -> 0
A242: CALYA 1.2 G AT PRIME | B242: B40GA/T20CA | C242: 195300000 | F242: 195300000 | G242: =C242-F242 -> 0
A243: AVANZA 1.3 E M/T PRIME | B243: W00EM/T00DA | C243: 246300000 | D243: DA: Cargo Net, Front Grille Ornament, Side Body Moulding Gunmental | F243: 246300000 | G243: =C243-F243 -> 0
A244: AVANZA 1.5 G CVT PRIME | B244: W01GA/T00DA | C244: 284100000 | F244: 284100000 | G244: =C244-F244 -> 0
A245: AVANZA 1.5 G M/T PRIME | B245: W01GM/T00DA | C245: 269300000 | F245: 269300000 | G245: =C245-F245 -> 0
A246: VELOZ 1.5 M/T (Premium Color) PRIME | B246: W01VM/T01BF | C246: 301900000 | D246: BC, BF, BK: Back Door Galss Chrome Ornament, Air Purifier | F246: 301900000 | G246: =C246-F246 -> 0
...

Sheet OTR srg
A3: SURAT KEPUTUSAN
A4: NO. SK/001/TSO.OPR/XI/2025
A6: HARGA KENDARAAN TOYOTA
A7: REGULAR ORDER
A8: WILAYAH : SERANG & BALARAJA (PLAT NOMOR "A")
A9: Per 1 November 2025 | F9: N-1 | G9: SELISIH
A11: TYPE | B11: KODE TIPE | C11: ON THE ROAD | D11: KETERANGAN | F11: ON THE ROAD | G11: ON THE ROAD
A12: All New Vios 1.5 G CVT | B12: NGC102GA/T00 | C12: 375000000 | F12: 375000000 | G12: =C12-F12 -> 0
A13: All New Vios 1.5 G TSS CVT | B13: NGC102GA/T01 | C13: 388200000 | F13: 388200000 | G13: =C13-F13 -> 0
A14: COROLLA ALTIS 1.8 V A/T | B14: ZE211VA/T24 | C14: 584300000 | F14: 584300000 | G14: =C14-F14 -> 0
A15: COROLLA ALTIS 1.8 V A/T (Premium Color) | B15: ZE211VA/T25 | C15: 587300000 | F15: 587300000 | G15: =C15-F15 -> 0
A16: COROLLA ALTIS 1.8L HYBRID A/T | B16: ZE211LA/T26 | C16: 637800000 | F16: 637800000 | G16: =C16-F16 -> 0
A17: COROLLA ALTIS 1.8L HYBRID A/T (Premium Color) | B17: ZE211LA/T27 | C17: 640900000 | F17: 640900000 | G17: =C17-F17 -> 0
A18: COROLLA ALTIS 1.8L HYBRID A/T GR-S | B18: ZE211LA/T28 | C18: 645200000 | F18: 645200000 | G18: =C18-F18 -> 0
A19: COROLLA ALTIS 1.8L HYBRID A/T GR-S (Premium Color) | B19: ZE211LA/T29 | C19: 648300000 | F19: 648300000 | G19: =C19-F19 -> 0
A20: COROLLA CROSS 1.8 HYBRID A/T | B20: ZVG10A/T31 | C20: 608500000 | F20: 608500000 | G20: =C20-F20 -> 0
A21: COROLLA CROSS 1.8 HYBRID A/T(Premium Color) | B21: ZVG10A/T32 | C21: 611600000 | F21: 611600000 | G21: =C21-F21 -> 0
A22: COROLLA CROSS 1.8 HYBRID GR-S A/T | B22: ZVG10A/T41 | C22: 648300000 | F22: 648300000 | G22: =C22-F22 -> 0
A23: COROLLA CROSS 1.8 HYBRID GR-S A/T (Premium Color) | B23: ZVG10A/T42 | C23: 653400000 | F23: 653400000 | G23: =C23-F23 -> 0
... A222: Bz4X A/T ex-KTT Vin 2023 (With Wall Charger) | B222: XEA10EVB1 | C222: 1246500000 | F222: 1246500000 | G222: =C222-F222 -> 0
A223: Jakarta, 1 Oktober 2025
A224: 1. Tarif BBNKB menggunakan tarif kepemilikan unit kedua
A225: 2. Dyna, Hilux, Hi Ace sudah termasuk Keur.
A226: 3. LC 300 unit tergantung ketersediaan barang
A229: SURAT KEPUTUSAN
A230: NO. SK/001/TSO.OPR/VIII/2025
A232: HARGA KENDARAAN TOYOTA
A233: PRIME SERIES
A234: WILAYAH : SERANG & BALARAJA (PLAT NOMOR "A")
A235: Per 1 Oktober 2025 | F235: N-1 | G235: SELISIH
A237: TYPE | B237: KODE TIPE | C237: ON THE ROAD | D237: KETERANGAN | F237: ON THE ROAD | G237: ON THE ROAD
A238: AGYA 1.2 G CVT PRIME | B238: A351GA/T00CA | C238: 201400000 | D238: CA, CB: Premium Horn, DVR | F238: 201400000 | G238: =C238-F238 -> 0
A239: AGYA STYLIX 1.2 G CVT PRIME | B239: A351GA/T10CB | C239: 204900000 | F239: 204900000 | G239: =C239-F239 -> 0
A240: AGYA 1.2 G M/T PRIME | B240: A351GM/T00CA | C240: 185300000 | F240: 185300000 | G240: =C240-F240 -> 0
A241: CALYA 1.2 G MT PRIME | B241: B40GM/T20CA | C241: 182500000 | D241: CA: Side Visor, Foglamp Ornament, Door Handle Protector | F241: 182500000 | G241: =C241-F241 -> 0
A242: CALYA 1.2 G AT PRIME | B242: B40GA/T20CA | C242: 196900000 | F242: 196900000 | G242: =C242-F242 -> 0
A243: AVANZA 1.3 E M/T PRIME | B243: W00EM/T00DA | C243: 247800000 | D243: DA: Cargo Net, Front Grille Ornament, Side Body Moulding Gunmental | F243: 247800000 | G243: =C243-F243 -> 0
A244: AVANZA 1.5 G CVT PRIME | B244: W01GA/T00DA | C244: 285700000 | F244: 285700000 | G244: =C244-F244 -> 0
A245: AVANZA 1.5 G M/T PRIME | B245: W01GM/T00DA | C245: 270800000 | F245: 270800000 | G245: =C245-F245 -> 0
A246: VELOZ 1.5 M/T (Premium Color) PRIME | B246: W01VM/T01BF | C246: 303500000 | D246: BC, BF, BK: Back Door Galss Chrome Ornament, Air Purifier | F246: 303500000 | G246: =C246-F246 -> 0
...

Sheet OTR bgr
A3: SURAT KEPUTUSAN
A4: NO. SK/001/TSO.OPR/XI/2025
A6: HARGA KENDARAAN TOYOTA
A7: REGULAR ORDER
A8: WILAYAH : BOGOR
A9: Per 1 November 2025 | F9: N-1 | G9: SELISIH
A11: TYPE | B11: KODE TIPE | C11: ON THE ROAD | D11: KETERANGAN | F11: ON THE ROAD | G11: ON THE ROAD
A12: All New Vios 1.5 G CVT | B12: NGC102GA/T00 | C12: 377300000 | F12: 377300000 | G12: =C12-F12 -> 0
A13: All New Vios 1.5 G TSS CVT | B13: NGC102GA/T01 | C13: 390500000 | F13: 390500000 | G13: =C13-F13 -> 0
A14: COROLLA ALTIS 1.8 V A/T | B14: ZE211VA/T24 | C14: 586500000 | F14: 586500000 | G14: =C14-F14 -> 0
A15: COROLLA ALTIS 1.8 V A/T (Premium Color) | B15: ZE211VA/T25 | C15: 589500000 | F15: 589500000 | G15: =C15-F15 -> 0
A16: COROLLA ALTIS 1.8L HYBRID A/T | B16: ZE211LA/T26 | C16: 640100000 | F16: 640100000 | G16: =C16-F16 -> 0
A17: COROLLA ALTIS 1.8L HYBRID A/T (Premium Color) | B17: ZE211LA/T27 | C17: 643200000 | F17: 643200000 | G17: =C17-F17 -> 0
A18: COROLLA ALTIS 1.8L HYBRID A/T GR-S | B18: ZE211LA/T28 | C18: 647500000 | F18: 647500000 | G18: =C18-F18 -> 0
A19: COROLLA ALTIS 1.8L HYBRID A/T GR-S (Premium Color) | B19: ZE211LA/T29 | C19: 650600000 | F19: 650600000 | G19: =C19-F19 -> 0
A20: COROLLA CROSS 1.8 HYBRID A/T | B20: ZVG10A/T31 | C20: 608800000 | F20: 608800000 | G20: =C20-F20 -> 0
A21: COROLLA CROSS 1.8 HYBRID A/T(Premium Color) | B21: ZVG10A/T32 | C21: 611900000 | F21: 611900000 | G21: =C21-F21 -> 0
A22: COROLLA CROSS 1.8 HYBRID GR-S A/T | B22: ZVG10A/T41 | C22: 648500000 | F22: 648500000 | G22: =C22-F22 -> 0
A23: COROLLA CROSS 1.8 HYBRID GR-S A/T (Premium Color) | B23: ZVG10A/T42 | C23: 653600000 | F23: 653600000 | G23: =C23-F23 -> 0
... A222: Bz4X A/T ex-KTT Vin 2023 (With Wall Charger) | B222: XEA10EVB1 | C222: 1248500000 | F222: 1248500000 | G222: =C222-F222 -> 0
A223: Jakarta, 1 Oktober 2025
A224: 1. Tarif BBNKB menggunakan tarif kepemilikan unit kedua
A225: 2. Dyna, Hilux, Hi Ace sudah termasuk Keur.
A226: 3. LC 300 unit tergantung ketersediaan barang
A229: SURAT KEPUTUSAN
A230: NO. SK/001/TSO.OPR/VIII/2025
A232: HARGA KENDARAAN TOYOTA
A233: PRIME SERIES
A234: WILAYAH : BOGOR
A235: Per 1 Oktober 2025 | F235: N-1 | G235: SELISIH
A237: TYPE | B237: KODE TIPE | C237: ON THE ROAD | D237: KETERANGAN | F237: ON THE ROAD | G237: ON THE ROAD
A238: AGYA 1.2 G CVT PRIME | B238: A351GA/T00CA | C238: 203500000 | D238: CA, CB: Premium Horn, DVR | F238: 203500000 | G238: =C238-F238 -> 0
A239: AGYA STYLIX 1.2 G CVT PRIME | B239: A351GA/T10CB | C239: 207000000 | F239: 207000000 | G239: =C239-F239 -> 0
A240: AGYA 1.2 G M/T PRIME | B240: A351GM/T00CA | C240: 187400000 | F240: 187400000 | G240: =C240-F240 -> 0
A241: CALYA 1.2 G MT PRIME | B241: B40GM/T20CA | C241: 184600000 | D241: CA: Side Visor, Foglamp Ornament, Door Handle Protector | F241: 184600000 | G241: =C241-F241 -> 0
A242: CALYA 1.2 G AT PRIME | B242: B40GA/T20CA | C242: 199000000 | F242: 199000000 | G242: =C242-F242 -> 0
A243: AVANZA 1.3 E M/T PRIME | B243: W00EM/T00DA | C243: 250000000 | D243: DA: Cargo Net, Front Grille Ornament, Side Body Moulding Gunmental | F243: 250000000 | G243: =C243-F243 -> 0
A244: AVANZA 1.5 G CVT PRIME | B244: W01GA/T00DA | C244: 287800000 | F244: 287800000 | G244: =C244-F244 -> 0
A245: AVANZA 1.5 G M/T PRIME | B245: W01GM/T00DA | C245: 272900000 | F245: 272900000 | G245: =C245-F245 -> 0
A246: VELOZ 1.5 M/T (Premium Color) PRIME | B246: W01VM/T01BF | C246: 305600000 | D246: BC, BF, BK: Back Door Galss Chrome Ornament, Air Purifier | F246: 305600000 | G246: =C246-F246 -> 0
...

Sheet OTR skb
A3: SURAT KEPUTUSAN
A4: NO. SK/001/TSO.OPR/XI/2025
A6: HARGA KENDARAAN TOYOTA
A7: REGULAR ORDER
A8: WILAYAH : SUKABUMI & CIANJUR
A9: Per 1 November 2025 | F9: N-1 | G9: SELISIH
A11: TYPE | B11: KODE TIPE | C11: ON THE ROAD | D11: KETERANGAN | F11: ON THE ROAD | G11: ON THE ROAD
A12: All New Vios 1.5 G CVT | B12: NGC102GA/T00 | C12: 377300000 | F12: 377300000 | G12: =C12-F12 -> 0
A13: All New Vios 1.5 G TSS CVT | B13: NGC102GA/T01 | C13: 390500000 | F13: 390500000 | G13: =C13-F13 -> 0
A14: COROLLA ALTIS 1.8 V A/T | B14: ZE211VA/T24 | C14: 586500000 | F14: 586500000 | G14: =C14-F14 -> 0
A15: COROLLA ALTIS 1.8 V A/T (Premium Color) | B15: ZE211VA/T25 | C15: 589500000 | F15: 589500000 | G15: =C15-F15 -> 0
A16: COROLLA ALTIS 1.8L HYBRID A/T | B16: ZE211LA/T26 | C16: 640100000 | F16: 640100000 | G16: =C16-F16 -> 0
A17: COROLLA ALTIS 1.8L HYBRID A/T (Premium Color) | B17: ZE211LA/T27 | C17: 643200000 | F17: 643200000 | G17: =C17-F17 -> 0
A18: COROLLA ALTIS 1.8L HYBRID A/T GR-S | B18: ZE211LA/T28 | C18: 647500000 | F18: 647500000 | G18: =C18-F18 -> 0
A19: COROLLA ALTIS 1.8L HYBRID A/T GR-S (Premium Color) | B19: ZE211LA/T29 | C19: 650600000 | F19: 650600000 | G19: =C19-F19 -> 0
A20: COROLLA CROSS 1.8 HYBRID A/T | B20: ZVG10A/T31 | C20: 608800000 | F20: 608800000 | G20: =C20-F20 -> 0
A21: COROLLA CROSS 1.8 HYBRID A/T(Premium Color) | B21: ZVG10A/T32 | C21: 611900000 | F21: 611900000 | G21: =C21-F21 -> 0
A22: COROLLA CROSS 1.8 HYBRID GR-S A/T | B22: ZVG10A/T41 | C22: 648500000 | F22: 648500000 | G22: =C22-F22 -> 0
A23: COROLLA CROSS 1.8 HYBRID GR-S A/T (Premium Color) | B23: ZVG10A/T42 | C23: 653600000 | F23: 653600000 | G23: =C23-F23 -> 0
... A222: Bz4X A/T ex-KTT Vin 2023 (With Wall Charger) | B222: XEA10EVB1 | C222: 1248500000 | F222: 1248500000 | G222: =C222-F222 -> 0
A223: Jakarta, 1 Oktober 2025
A224: 1. Tarif BBNKB menggunakan tarif kepemilikan unit kedua
A225: 2. Dyna, Hilux, Hi Ace sudah termasuk Keur.
A226: 3. LC 300 unit tergantung ketersediaan barang
A229: SURAT KEPUTUSAN
A230: NO. SK/001/TSO.OPR/VIII/2025
A232: HARGA KENDARAAN TOYOTA
A233: PRIME SERIES
A234: WILAYAH : SUKABUMI & CIANJUR
A235: Per 1 Oktober 2025 | F235: N-1 | G235: SELISIH
A237: TYPE | B237: KODE TIPE | C237: ON THE ROAD | D237: KETERANGAN | F237: ON THE ROAD | G237: ON THE ROAD
A238: AGYA 1.2 G CVT PRIME | B238: A351GA/T00CA | C238: 203500000 | D238: CA, CB: Premium Horn, DVR | F238: 203500000 | G238: =C238-F238 -> 0
A239: AGYA STYLIX 1.2 G CVT PRIME | B239: A351GA/T10CB | C239: 207000000 | F239: 207000000 | G239: =C239-F239 -> 0
A240: AGYA 1.2 G M/T PRIME | B240: A351GM/T00CA | C240: 187400000 | F240: 187400000 | G240: =C240-F240 -> 0
A241: CALYA 1.2 G MT PRIME | B241: B40GM/T20CA | C241: 184600000 | D241: CA: Side Visor, Foglamp Ornament, Door Handle Protector | F241: 184600000 | G241: =C241-F241 -> 0
A242: CALYA 1.2 G AT PRIME | B242: B40GA/T20CA | C242: 199000000 | F242: 199000000 | G242: =C242-F242 -> 0
A243: AVANZA 1.3 E M/T PRIME | B243: W00EM/T00DA | C243: 250000000 | D243: DA: Cargo Net, Front Grille Ornament, Side Body Moulding Gunmental | F243: 250000000 | G243: =C243-F243 -> 0
A244: AVANZA 1.5 G CVT PRIME | B244: W01GA/T00DA | C244: 287800000 | F244: 287800000 | G244: =C244-F244 -> 0
A245: AVANZA 1.5 G M/T PRIME | B245: W01GM/T00DA | C245: 272900000 | F245: 272900000 | G245: =C245-F245 -> 0
A246: VELOZ 1.5 M/T (Premium Color) PRIME | B246: W01VM/T01BF | C246: 305600000 | D246: BC, BF, BK: Back Door Galss Chrome Ornament, Air Purifier | F246: 305600000 | G246: =C246-F246 -> 0
...

Sheet OTR bdg
A3: SURAT KEPUTUSAN
A4: NO. SK/001/TSO.OPR/XI/2025
A6: HARGA KENDARAAN TOYOTA
A7: REGULAR ORDER
A8: WILAYAH : BANDUNG
A9: Per 1 November 2025 | F9: N-1 | G9: SELISIH
A11: TYPE | B11: KODE TIPE | C11: ON THE ROAD | D11: KETERANGAN | F11: ON THE ROAD | G11: ON THE ROAD
A12: All New Vios 1.5 G CVT | B12: NGC102GA/T00 | C12: 377300000 | F12: 377300000 | G12: =C12-F12 -> 0
A13: All New Vios 1.5 G TSS CVT | B13: NGC102GA/T01 | C13: 390500000 | F13: 390500000 | G13: =C13-F13 -> 0
A14: COROLLA ALTIS 1.8 V A/T | B14: ZE211VA/T24 | C14: 586500000 | F14: 586500000 | G14: =C14-F14 -> 0
A15: COROLLA ALTIS 1.8 V A/T (Premium Color) | B15: ZE211VA/T25 | C15: 589500000 | F15: 589500000 | G15: =C15-F15 -> 0
A16: COROLLA ALTIS 1.8L HYBRID A/T | B16: ZE211LA/T26 | C16: 640100000 | F16: 640100000 | G16: =C16-F16 -> 0
A17: COROLLA ALTIS 1.8L HYBRID A/T (Premium Color) | B17: ZE211LA/T27 | C17: 643200000 | F17: 643200000 | G17: =C17-F17 -> 0
A18: COROLLA ALTIS 1.8L HYBRID A/T GR-S | B18: ZE211LA/T28 | C18: 647500000 | F18: 647500000 | G18: =C18-F18 -> 0
A19: COROLLA ALTIS 1.8L HYBRID A/T GR-S (Premium Color) | B19: ZE211LA/T29 | C19: 650600000 | F19: 650600000 | G19: =C19-F19 -> 0
A20: COROLLA CROSS 1.8 HYBRID A/T | B20: ZVG10A/T31 | C20: 608800000 | F20: 608800000 | G20: =C20-F20 -> 0
A21: COROLLA CROSS 1.8 HYBRID A/T(Premium Color) | B21: ZVG10A/T32 | C21: 611900000 | F21: 611900000 | G21: =C21-F21 -> 0
A22: COROLLA CROSS 1.8 HYBRID GR-S A/T | B22: ZVG10A/T41 | C22: 648500000 | F22: 648500000 | G22: =C22-F22 -> 0
A23: COROLLA CROSS 1.8 HYBRID GR-S A/T (Premium Color) | B23: ZVG10A/T42 | C23: 653600000 | F23: 653600000 | G23: =C23-F23 -> 0
... A222: Bz4X A/T ex-KTT Vin 2023 (With Wall Charger) | B222: XEA10EVB1 | C222: 1248500000 | F222: 1248500000 | G222: =C222-F222 -> 0
A223: Jakarta, 1 Oktober 2025
A224: 1. Tarif BBNKB menggunakan tarif kepemilikan unit kedua
A225: 2. Dyna, Hilux, Hi Ace sudah termasuk Keur.
A226: 3. LC 300 unit tergantung ketersediaan barang
A229: SURAT KEPUTUSAN
A230: NO. SK/001/TSO.OPR/VIII/2025
A232: HARGA KENDARAAN TOYOTA
A233: PRIME SERIES
A234: WILAYAH : BANDUNG
A235: Per 1 Oktober 2025 | F235: N-1 | G235: SELISIH
A237: TYPE | B237: KODE TIPE | C237: ON THE ROAD | D237: KETERANGAN | F237: ON THE ROAD | G237: ON THE ROAD
A238: AGYA 1.2 G CVT PRIME | B238: A351GA/T00CA | C238: 203500000 | D238: CA, CB: Premium Horn, DVR | F238: 203500000 | G238: =C238-F238 -> 0
A239: AGYA STYLIX 1.2 G CVT PRIME | B239: A351GA/T10CB | C239: 207000000 | F239: 207000000 | G239: =C239-F239 -> 0
A240: AGYA 1.2 G M/T PRIME | B240: A351GM/T00CA | C240: 187400000 | F240: 187400000 | G240: =C240-F240 -> 0
A241: CALYA 1.2 G MT PRIME | B241: B40GM/T20CA | C241: 184600000 | D241: CA: Side Visor, Foglamp Ornament, Door Handle Protector | F241: 184600000 | G241: =C241-F241 -> 0
A242: CALYA 1.2 G AT PRIME | B242: B40GA/T20CA | C242: 199000000 | F242: 199000000 | G242: =C242-F242 -> 0
A243: AVANZA 1.3 E M/T PRIME | B243: W00EM/T00DA | C243: 250000000 | D243: DA: Cargo Net, Front Grille Ornament, Side Body Moulding Gunmental | F243: 250000000 | G243: =C243-F243 -> 0
A244: AVANZA 1.5 G CVT PRIME | B244: W01GA/T00DA | C244: 287800000 | F244: 287800000 | G244: =C244-F244 -> 0
A245: AVANZA 1.5 G M/T PRIME | B245: W01GM/T00DA | C245: 272900000 | F245: 272900000 | G245: =C245-F245 -> 0
A246: VELOZ 1.5 M/T (Premium Color) PRIME | B246: W01VM/T01BF | C246: 305600000 | D246: BC, BF, BK: Back Door Galss Chrome Ornament, Air Purifier | F246: 305600000 | G246: =C246-F246 -> 0
...

Sheet OTR smd
A3: SURAT KEPUTUSAN
A4: NO. SK/001/TSO.OPR/XI/2025
A6: HARGA KENDARAAN TOYOTA
A7: REGULAR ORDER
A8: WILAYAH : SUMEDANG, CIAMIS, TASIKMALAYA, BANJAR, PANGANDARAN
A9: Per 1 November 2025 | F9: N-1 | G9: SELISIH
A11: TYPE | B11: KODE TIPE | C11: ON THE ROAD | D11: KETERANGAN | F11: ON THE ROAD | G11: ON THE ROAD
A12: All New Vios 1.5 G CVT | B12: NGC102GA/T00 | C12: 377300000 | F12: 377300000 | G12: =C12-F12 -> 0
A13: All New Vios 1.5 G TSS CVT | B13: NGC102GA/T01 | C13: 390500000 | F13: 390500000 | G13: =C13-F13 -> 0
A14: COROLLA ALTIS 1.8 V A/T | B14: ZE211VA/T24 | C14: 586500000 | F14: 586500000 | G14: =C14-F14 -> 0
A15: COROLLA ALTIS 1.8 V A/T (Premium Color) | B15: ZE211VA/T25 | C15: 589500000 | F15: 589500000 | G15: =C15-F15 -> 0
A16: COROLLA ALTIS 1.8L HYBRID A/T | B16: ZE211LA/T26 | C16: 640100000 | F16: 640100000 | G16: =C16-F16 -> 0
A17: COROLLA ALTIS 1.8L HYBRID A/T (Premium Color) | B17: ZE211LA/T27 | C17: 643200000 | F17: 643200000 | G17: =C17-F17 -> 0
A18: COROLLA ALTIS 1.8L HYBRID A/T GR-S | B18: ZE211LA/T28 | C18: 647500000 | F18: 647500000 | G18: =C18-F18 -> 0
A19: COROLLA ALTIS 1.8L HYBRID A/T GR-S (Premium Color) | B19: ZE211LA/T29 | C19: 650600000 | F19: 650600000 | G19: =C19-F19 -> 0
A20: COROLLA CROSS 1.8 HYBRID A/T | B20: ZVG10A/T31 | C20: 608800000 | F20: 608800000 | G20: =C20-F20 -> 0
A21: COROLLA CROSS 1.8 HYBRID A/T(Premium Color) | B21: ZVG10A/T32 | C21: 611900000 | F21: 611900000 | G21: =C21-F21 -> 0
A22: COROLLA CROSS 1.8 HYBRID GR-S A/T | B22: ZVG10A/T41 | C22: 648500000 | F22: 648500000 | G22: =C22-F22 -> 0
A23: COROLLA CROSS 1.8 HYBRID GR-S A/T (Premium Color) | B23: ZVG10A/T42 | C23: 653600000 | F23: 653600000 | G23: =C23-F23 -> 0
... A222: Bz4X A/T ex-KTT Vin 2023 (With Wall Charger) | B222: XEA10EVB1 | C222: 1248500000 | F222: 1248500000 | G222: =C222-F222 -> 0
A223: Jakarta, 1 Oktober 2025
A224: 1. Tarif BBNKB menggunakan tarif kepemilikan unit kedua
A225: 2. Dyna, Hilux, Hi Ace sudah termasuk Keur.
A226: 3. LC 300 unit tergantung ketersediaan barang
A229: SURAT KEPUTUSAN
A230: NO. SK/001/TSO.OPR/VIII/2025
A232: HARGA KENDARAAN TOYOTA
A233: PRIME SERIES
A234: WILAYAH : SUMEDANG, CIAMIS, TASIKMALAYA, BANJAR, PANGANDARAN
A235: Per 1 Oktober 2025 | F235: N-1 | G235: SELISIH
A237: TYPE | B237: KODE TIPE | C237: ON THE ROAD | D237: KETERANGAN | F237: ON THE ROAD | G237: ON THE ROAD
A238: AGYA 1.2 G CVT PRIME | B238: A351GA/T00CA | C238: 203500000 | D238: CA, CB: Premium Horn, DVR | F238: 203500000 | G238: =C238-F238 -> 0
A239: AGYA STYLIX 1.2 G CVT PRIME | B239: A351GA/T10CB | C239: 207000000 | F239: 207000000 | G239: =C239-F239 -> 0
A240: AGYA 1.2 G M/T PRIME | B240: A351GM/T00CA | C240: 187400000 | F240: 187400000 | G240: =C240-F240 -> 0
A241: CALYA 1.2 G MT PRIME | B241: B40GM/T20CA | C241: 184600000 | D241: CA: Side Visor, Foglamp Ornament, Door Handle Protector | F241: 184600000 | G241: =C241-F241 -> 0
A242: CALYA 1.2 G AT PRIME | B242: B40GA/T20CA | C242: 199000000 | F242: 199000000 | G242: =C242-F242 -> 0
A243: AVANZA 1.3 E M/T PRIME | B243: W00EM/T00DA | C243: 250000000 | D243: DA: Cargo Net, Front Grille Ornament, Side Body Moulding Gunmental | F243: 250000000 | G243: =C243-F243 -> 0
A244: AVANZA 1.5 G CVT PRIME | B244: W01GA/T00DA | C244: 287800000 | F244: 287800000 | G244: =C244-F244 -> 0
A245: AVANZA 1.5 G M/T PRIME | B245: W01GM/T00DA | C245: 272900000 | F245: 272900000 | G245: =C245-F245 -> 0
A246: VELOZ 1.5 M/T (Premium Color) PRIME | B246: W01VM/T01BF | C246: 305600000 | D246: BC, BF, BK: Back Door Galss Chrome Ornament, Air Purifier | F246: 305600000 | G246: =C246-F246 -> 0
...

Sheet OTR grt
A3: SURAT KEPUTUSAN
A4: NO. SK/001/TSO.OPR/XI/2025
A6: HARGA KENDARAAN TOYOTA
A7: REGULAR ORDER
A8: WILAYAH : GARUT
A9: Per 1 November 2025 | F9: N-1 | G9: SELISIH
A11: TYPE | B11: KODE TIPE | C11: ON THE ROAD | D11: KETERANGAN | F11: ON THE ROAD | G11: ON THE ROAD
A12: All New Vios 1.5 G CVT | B12: NGC102GA/T00 | C12: 377300000 | F12: 377300000 | G12: =C12-F12 -> 0
A13: All New Vios 1.5 G TSS CVT | B13: NGC102GA/T01 | C13: 390500000 | F13: 390500000 | G13: =C13-F13 -> 0
A14: COROLLA ALTIS 1.8 V A/T | B14: ZE211VA/T24 | C14: 586500000 | F14: 586500000 | G14: =C14-F14 -> 0
A15: COROLLA ALTIS 1.8 V A/T (Premium Color) | B15: ZE211VA/T25 | C15: 589500000 | F15: 589500000 | G15: =C15-F15 -> 0
A16: COROLLA ALTIS 1.8L HYBRID A/T | B16: ZE211LA/T26 | C16: 640100000 | F16: 640100000 | G16: =C16-F16 -> 0
A17: COROLLA ALTIS 1.8L HYBRID A/T (Premium Color) | B17: ZE211LA/T27 | C17: 643200000 | F17: 643200000 | G17: =C17-F17 -> 0
A18: COROLLA ALTIS 1.8L HYBRID A/T GR-S | B18: ZE211LA/T28 | C18: 647500000 | F18: 647500000 | G18: =C18-F18 -> 0
A19: COROLLA ALTIS 1.8L HYBRID A/T GR-S (Premium Color) | B19: ZE211LA/T29 | C19: 650600000 | F19: 650600000 | G19: =C19-F19 -> 0
A20: COROLLA CROSS 1.8 HYBRID A/T | B20: ZVG10A/T31 | C20: 608800000 | F20: 608800000 | G20: =C20-F20 -> 0
A21: COROLLA CROSS 1.8 HYBRID A/T(Premium Color) | B21: ZVG10A/T32 | C21: 611900000 | F21: 611900000 | G21: =C21-F21 -> 0
A22: COROLLA CROSS 1.8 HYBRID GR-S A/T | B22: ZVG10A/T41 | C22: 648500000 | F22: 648500000 | G22: =C22-F22 -> 0
A23: COROLLA CROSS 1.8 HYBRID GR-S A/T (Premium Color) | B23: ZVG10A/T42 | C23: 653600000 | F23: 653600000 | G23: =C23-F23 -> 0
... A222: Bz4X A/T ex-KTT Vin 2023 (With Wall Charger) | B222: XEA10EVB1 | C222: 1248500000 | F222: 1248500000 | G222: =C222-F222 -> 0
A223: Jakarta, 1 Oktober 2025
A224: 1. Tarif BBNKB menggunakan tarif kepemilikan unit kedua
A225: 2. Dyna, Hilux, Hi Ace sudah termasuk Keur.
A226: 3. LC 300 unit tergantung ketersediaan barang
A229: SURAT KEPUTUSAN
A230: NO. SK/001/TSO.OPR/VIII/2025
A232: HARGA KENDARAAN TOYOTA
A233: PRIME SERIES
A234: WILAYAH : GARUT
A235: Per 1 Oktober 2025 | F235: N-1 | G235: SELISIH
A237: TYPE | B237: KODE TIPE | C237: ON THE ROAD | D237: KETERANGAN | F237: ON THE ROAD | G237: ON THE ROAD
A238: AGYA 1.2 G CVT PRIME | B238: A351GA/T00CA | C238: 203500000 | D238: CA, CB: Premium Horn, DVR | F238: 203500000 | G238: =C238-F238 -> 0
A239: AGYA STYLIX 1.2 G CVT PRIME | B239: A351GA/T10CB | C239: 207000000 | F239: 207000000 | G239: =C239-F239 -> 0
A240: AGYA 1.2 G M/T PRIME | B240: A351GM/T00CA | C240: 187400000 | F240: 187400000 | G240: =C240-F240 -> 0
A241: CALYA 1.2 G MT PRIME | B241: B40GM/T20CA | C241: 184600000 | D241: CA: Side Visor, Foglamp Ornament, Door Handle Protector | F241: 184600000 | G241: =C241-F241 -> 0
A242: CALYA 1.2 G AT PRIME | B242: B40GA/T20CA | C242: 199000000 | F242: 199000000 | G242: =C242-F242 -> 0
A243: AVANZA 1.3 E M/T PRIME | B243: W00EM/T00DA | C243: 250000000 | D243: DA: Cargo Net, Front Grille Ornament, Side Body Moulding Gunmental | F243: 250000000 | G243: =C243-F243 -> 0
A244: AVANZA 1.5 G CVT PRIME | B244: W01GA/T00DA | C244: 287800000 | F244: 287800000 | G244: =C244-F244 -> 0
A245: AVANZA 1.5 G M/T PRIME | B245: W01GM/T00DA | C245: 272900000 | F245: 272900000 | G245: =C245-F245 -> 0
A246: VELOZ 1.5 M/T (Premium Color) PRIME | B246: W01VM/T01BF | C246: 305600000 | D246: BC, BF, BK: Back Door Galss Chrome Ornament, Air Purifier | F246: 305600000 | G246: =C246-F246 -> 0
...

Sheet OTR crb
A3: SURAT KEPUTUSAN
A4: NO. SK/001/TSO.OPR/XI/2025
A6: HARGA KENDARAAN TOYOTA
A7: REGULAR ORDER
A8: WILAYAH : CIREBON
A9: Per 1 November 2025 | F9: N-1 | G9: SELISIH
A11: TYPE | B11: KODE TIPE | C11: ON THE ROAD | D11: KETERANGAN | F11: ON THE ROAD | G11: ON THE ROAD
A12: All New Vios 1.5 G CVT | B12: NGC102GA/T00 | C12: 377300000 | F12: 377300000 | G12: =C12-F12 -> 0
A13: All New Vios 1.5 G TSS CVT | B13: NGC102GA/T01 | C13: 390500000 | F13: 390500000 | G13: =C13-F13 -> 0
A14: COROLLA ALTIS 1.8 V A/T | B14: ZE211VA/T24 | C14: 586500000 | F14: 586500000 | G14: =C14-F14 -> 0
A15: COROLLA ALTIS 1.8 V A/T (Premium Color) | B15: ZE211VA/T25 | C15: 589500000 | F15: 589500000 | G15: =C15-F15 -> 0
A16: COROLLA ALTIS 1.8L HYBRID A/T | B16: ZE211LA/T26 | C16: 640100000 | F16: 640100000 | G16: =C16-F16 -> 0
A17: COROLLA ALTIS 1.8L HYBRID A/T (Premium Color) | B17: ZE211LA/T27 | C17: 643200000 | F17: 643200000 | G17: =C17-F17 -> 0
A18: COROLLA ALTIS 1.8L HYBRID A/T GR-S | B18: ZE211LA/T28 | C18: 647500000 | F18: 647500000 | G18: =C18-F18 -> 0
A19: COROLLA ALTIS 1.8L HYBRID A/T GR-S (Premium Color) | B19: ZE211LA/T29 | C19: 650600000 | F19: 650600000 | G19: =C19-F19 -> 0
A20: COROLLA CROSS 1.8 HYBRID A/T | B20: ZVG10A/T31 | C20: 608800000 | F20: 608800000 | G20: =C20-F20 -> 0
A21: COROLLA CROSS 1.8 HYBRID A/T(Premium Color) | B21: ZVG10A/T32 | C21: 611900000 | F21: 611900000 | G21: =C21-F21 -> 0
A22: COROLLA CROSS 1.8 HYBRID GR-S A/T | B22: ZVG10A/T41 | C22: 648500000 | F22: 648500000 | G22: =C22-F22 -> 0
A23: COROLLA CROSS 1.8 HYBRID GR-S A/T (Premium Color) | B23: ZVG10A/T42 | C23: 653600000 | F23: 653600000 | G23: =C23-F23 -> 0
... A222: Bz4X A/T ex-KTT Vin 2023 (With Wall Charger) | B222: XEA10EVB1 | C222: 1248500000 | F222: 1248500000 | G222: =C222-F222 -> 0
A223: Jakarta, 1 Oktober 2025
A224: 1. Tarif BBNKB menggunakan tarif kepemilikan unit kedua
A225: 2. Dyna, Hilux, Hi Ace sudah termasuk Keur.
A226: 3. LC 300 unit tergantung ketersediaan barang
A229: SURAT KEPUTUSAN
A230: NO. SK/001/TSO.OPR/VIII/2025
A232: HARGA KENDARAAN TOYOTA
A233: PRIME SERIES
A234: WILAYAH : CIREBON
A235: Per 1 Oktober 2025 | F235: N-1 | G235: SELISIH
A237: TYPE | B237: KODE TIPE | C237: ON THE ROAD | D237: KETERANGAN | F237: ON THE ROAD | G237: ON THE ROAD
A238: AGYA 1.2 G CVT PRIME | B238: A351GA/T00CA | C238: 203500000 | D238: CA, CB: Premium Horn, DVR | F238: 203500000 | G238: =C238-F238 -> 0
A239: AGYA STYLIX 1.2 G CVT PRIME | B239: A351GA/T10CB | C239: 207000000 | F239: 207000000 | G239: =C239-F239 -> 0
A240: AGYA 1.2 G M/T PRIME | B240: A351GM/T00CA | C240: 187400000 | F240: 187400000 | G240: =C240-F240 -> 0
A241: CALYA 1.2 G MT PRIME | B241: B40GM/T20CA | C241: 184600000 | D241: CA: Side Visor, Foglamp Ornament, Door Handle Protector | F241: 184600000 | G241: =C241-F241 -> 0
A242: CALYA 1.2 G AT PRIME | B242: B40GA/T20CA | C242: 199000000 | F242: 199000000 | G242: =C242-F242 -> 0
A243: AVANZA 1.3 E M/T PRIME | B243: W00EM/T00DA | C243: 250000000 | D243: DA: Cargo Net, Front Grille Ornament, Side Body Moulding Gunmental | F243: 250000000 | G243: =C243-F243 -> 0
A244: AVANZA 1.5 G CVT PRIME | B244: W01GA/T00DA | C244: 287800000 | F244: 287800000 | G244: =C244-F244 -> 0
A245: AVANZA 1.5 G M/T PRIME | B245: W01GM/T00DA | C245: 272900000 | F245: 272900000 | G245: =C245-F245 -> 0
A246: VELOZ 1.5 M/T (Premium Color) PRIME | B246: W01VM/T01BF | C246: 305600000 | D246: BC, BF, BK: Back Door Galss Chrome Ornament, Air Purifier | F246: 305600000 | G246: =C246-F246 -> 0
...

Sheet OTR krw
A3: SURAT KEPUTUSAN
A4: NO. SK/001/TSO.OPR/XI/2025
A6: HARGA KENDARAAN TOYOTA
A7: REGULAR ORDER
A8: WILAYAH : KARAWANG dan PURWAKARTA
A9: Per 1 November 2025 | F9: N-1 | G9: SELISIH
A11: TYPE | B11: KODE TIPE | C11: ON THE ROAD | D11: KETERANGAN | F11: ON THE ROAD | G11: ON THE ROAD
A12: All New Vios 1.5 G CVT | B12: NGC102GA/T00 | C12: 377300000 | F12: 377300000 | G12: =C12-F12 -> 0
A13: All New Vios 1.5 G TSS CVT | B13: NGC102GA/T01 | C13: 390500000 | F13: 390500000 | G13: =C13-F13 -> 0
A14: COROLLA ALTIS 1.8 V A/T | B14: ZE211VA/T24 | C14: 586500000 | F14: 586500000 | G14: =C14-F14 -> 0
A15: COROLLA ALTIS 1.8 V A/T (Premium Color) | B15: ZE211VA/T25 | C15: 589500000 | F15: 589500000 | G15: =C15-F15 -> 0
A16: COROLLA ALTIS 1.8L HYBRID A/T | B16: ZE211LA/T26 | C16: 640100000 | F16: 640100000 | G16: =C16-F16 -> 0
A17: COROLLA ALTIS 1.8L HYBRID A/T (Premium Color) | B17: ZE211LA/T27 | C17: 643200000 | F17: 643200000 | G17: =C17-F17 -> 0
A18: COROLLA ALTIS 1.8L HYBRID A/T GR-S | B18: ZE211LA/T28 | C18: 647500000 | F18: 647500000 | G18: =C18-F18 -> 0
A19: COROLLA ALTIS 1.8L HYBRID A/T GR-S (Premium Color) | B19: ZE211LA/T29 | C19: 650600000 | F19: 650600000 | G19: =C19-F19 -> 0
A20: COROLLA CROSS 1.8 HYBRID A/T | B20: ZVG10A/T31 | C20: 608800000 | F20: 608800000 | G20: =C20-F20 -> 0
A21: COROLLA CROSS 1.8 HYBRID A/T(Premium Color) | B21: ZVG10A/T32 | C21: 611900000 | F21: 611900000 | G21: =C21-F21 -> 0
A22: COROLLA CROSS 1.8 HYBRID GR-S A/T | B22: ZVG10A/T41 | C22: 648500000 | F22: 648500000 | G22: =C22-F22 -> 0
A23: COROLLA CROSS 1.8 HYBRID GR-S A/T (Premium Color) | B23: ZVG10A/T42 | C23: 653600000 | F23: 653600000 | G23: =C23-F23 -> 0
... A222: Bz4X A/T ex-KTT Vin 2023 (With Wall Charger) | B222: XEA10EVB1 | C222: 1248500000 | F222: 1248500000 | G222: =C222-F222 -> 0
A223: Jakarta, 1 Oktober 2025
A224: 1. Tarif BBNKB menggunakan tarif kepemilikan unit kedua
A225: 2. Dyna, Hilux, Hi Ace sudah termasuk Keur.
A226: 3. LC 300 unit tergantung ketersediaan barang
A229: SURAT KEPUTUSAN
A230: NO. SK/001/TSO.OPR/VIII/2025
A232: HARGA KENDARAAN TOYOTA
A233: PRIME SERIES
A234: WILAYAH : KARAWANG dan PURWAKARTA
A235: Per 1 Oktober 2025 | F235: N-1 | G235: SELISIH
A237: TYPE | B237: KODE TIPE | C237: ON THE ROAD | D237: KETERANGAN | F237: ON THE ROAD | G237: ON THE ROAD
A238: AGYA 1.2 G CVT PRIME | B238: A351GA/T00CA | C238: 203500000 | D238: CA, CB: Premium Horn, DVR | F238: 203500000 | G238: =C238-F238 -> 0
A239: AGYA STYLIX 1.2 G CVT PRIME | B239: A351GA/T10CB | C239: 207000000 | F239: 207000000 | G239: =C239-F239 -> 0
A240: AGYA 1.2 G M/T PRIME | B240: A351GM/T00CA | C240: 187400000 | F240: 187400000 | G240: =C240-F240 -> 0
A241: CALYA 1.2 G MT PRIME | B241: B40GM/T20CA | C241: 184600000 | D241: CA: Side Visor, Foglamp Ornament, Door Handle Protector | F241: 184600000 | G241: =C241-F241 -> 0
A242: CALYA 1.2 G AT PRIME | B242: B40GA/T20CA | C242: 199000000 | F242: 199000000 | G242: =C242-F242 -> 0
A243: AVANZA 1.3 E M/T PRIME | B243: W00EM/T00DA | C243: 250000000 | D243: DA: Cargo Net, Front Grille Ornament, Side Body Moulding Gunmental | F243: 250000000 | G243: =C243-F243 -> 0
A244: AVANZA 1.5 G CVT PRIME | B244: W01GA/T00DA | C244: 287800000 | F244: 287800000 | G244: =C244-F244 -> 0
A245: AVANZA 1.5 G M/T PRIME | B245: W01GM/T00DA | C245: 272900000 | F245: 272900000 | G245: =C245-F245 -> 0
A246: VELOZ 1.5 M/T (Premium Color) PRIME | B246: W01VM/T01BF | C246: 305600000 | D246: BC, BF, BK: Back Door Galss Chrome Ornament, Air Purifier | F246: 305600000 | G246: =C246-F246 -> 0
...

Sheet OTR sby
A3: SURAT KEPUTUSAN
A4: NO. SK/001/TSO.OPR/XI/2025
